BEGIN:VCALENDAR
VERSION:2.0
PRODID:-//Merlyn Fuller and Merry Mischief - ECPv6.15.20//NONSGML v1.0//EN
CALSCALE:GREGORIAN
METHOD:PUBLISH
X-WR-CALNAME:Merlyn Fuller and Merry Mischief
X-ORIGINAL-URL:https://merrymischief.net
X-WR-CALDESC:Events for Merlyn Fuller and Merry Mischief
REFRESH-INTERVAL;VALUE=DURATION:PT1H
X-Robots-Tag:noindex
X-PUBLISHED-TTL:PT1H
BEGIN:VTIMEZONE
TZID:America/New_York
BEGIN:DAYLIGHT
TZOFFSETFROM:-0500
TZOFFSETTO:-0400
TZNAME:EDT
DTSTART:20250309T070000
END:DAYLIGHT
BEGIN:STANDARD
TZOFFSETFROM:-0400
TZOFFSETTO:-0500
TZNAME:EST
DTSTART:20251102T060000
END:STANDARD
BEGIN:DAYLIGHT
TZOFFSETFROM:-0500
TZOFFSETTO:-0400
TZNAME:EDT
DTSTART:20260308T070000
END:DAYLIGHT
BEGIN:STANDARD
TZOFFSETFROM:-0400
TZOFFSETTO:-0500
TZNAME:EST
DTSTART:20261101T060000
END:STANDARD
BEGIN:DAYLIGHT
TZOFFSETFROM:-0500
TZOFFSETTO:-0400
TZNAME:EDT
DTSTART:20270314T070000
END:DAYLIGHT
BEGIN:STANDARD
TZOFFSETFROM:-0400
TZOFFSETTO:-0500
TZNAME:EST
DTSTART:20271107T060000
END:STANDARD
END:VTIMEZONE
BEGIN:VEVENT
DTSTART;TZID=America/New_York:20260910T140000
DTEND;TZID=America/New_York:20260910T150000
DTSTAMP:20260423T172210
CREATED:20260319T234310Z
LAST-MODIFIED:20260319T234310Z
UID:2323-1789048800-1789052400@merrymischief.net
SUMMARY:Auburn Rehabilitation
DESCRIPTION:
URL:https://merrymischief.net/events/auburn-rehabilitation-3/
LOCATION:Auburn Rehabilitation\, 85 Thornden Ave\, Auburn\, 13021\, United States
END:VEVENT
BEGIN:VEVENT
DTSTART;TZID=America/New_York:20260918T170000
DTEND;TZID=America/New_York:20260918T210000
DTSTAMP:20260423T172210
CREATED:20251108T230215Z
LAST-MODIFIED:20251108T230215Z
UID:1596-1789750800-1789765200@merrymischief.net
SUMMARY:Jordan Fall Fest
DESCRIPTION:
URL:https://merrymischief.net/events/jordan-fall-fest-2/
LOCATION:Jordan Fall Fest\, Chappel St.\, Jordan\, NY
END:VEVENT
BEGIN:VEVENT
DTSTART;TZID=America/New_York:20260919T100000
DTEND;TZID=America/New_York:20260919T210000
DTSTAMP:20260423T172210
CREATED:20251108T230301Z
LAST-MODIFIED:20251108T230301Z
UID:1598-1789812000-1789851600@merrymischief.net
SUMMARY:Jordan Fall Fest
DESCRIPTION:
URL:https://merrymischief.net/events/jordan-fall-fest-3/
LOCATION:Jordan Fall Fest\, Chappel St.\, Jordan\, NY
END:VEVENT
BEGIN:VEVENT
DTSTART;TZID=America/New_York:20260920T110000
DTEND;TZID=America/New_York:20260920T170000
DTSTAMP:20260423T172210
CREATED:20251108T230344Z
LAST-MODIFIED:20251108T230344Z
UID:1600-1789902000-1789923600@merrymischief.net
SUMMARY:Jordan Fall Fest
DESCRIPTION:
URL:https://merrymischief.net/events/jordan-fall-fest-4/
LOCATION:Jordan Fall Fest\, Chappel St.\, Jordan\, NY
END:VEVENT
BEGIN:VEVENT
DTSTART;TZID=America/New_York:20260925T163000
DTEND;TZID=America/New_York:20260925T210000
DTSTAMP:20260423T172210
CREATED:20260417T163921Z
LAST-MODIFIED:20260417T163921Z
UID:2432-1790353800-1790370000@merrymischief.net
SUMMARY:Rochester Fringe Fest!
DESCRIPTION:Merlyn brings her Pirate show to Fringe Fest! \nGeneral Audience – showing at earlier time (4:30-5:30pm) \nBawdy Pirate Show – later evening time! (8-9pm) \n 
URL:https://merrymischief.net/events/rochester-fringe-fest/
LOCATION:Strathallan Century Club\, 566 East Avenue\, Rochester\, NY\, 14610
END:VEVENT
BEGIN:VEVENT
DTSTART;TZID=America/New_York:20260926T163000
DTEND;TZID=America/New_York:20260926T210000
DTSTAMP:20260423T172210
CREATED:20260417T164115Z
LAST-MODIFIED:20260417T164115Z
UID:2435-1790440200-1790456400@merrymischief.net
SUMMARY:Rochester Fringe Fest!
DESCRIPTION:Merlyn brings her Pirate show to Fringe Fest at the Century Club at Strathallan! \nGeneral audience 4:30-5:30 pm \nAdult Bawdy Show  8-9pm
URL:https://merrymischief.net/events/rochester-fringe-fest-2/
LOCATION:Strathallan Century Club\, 566 East Avenue\, Rochester\, NY\, 14610
END:VEVENT
END:VCALENDAR