BEGIN:VCALENDAR
VERSION:2.0
PRODID:-//Merlyn Fuller and Merry Mischief - ECPv6.15.20//NONSGML v1.0//EN
CALSCALE:GREGORIAN
METHOD:PUBLISH
X-WR-CALNAME:Merlyn Fuller and Merry Mischief
X-ORIGINAL-URL:https://merrymischief.net
X-WR-CALDESC:Events for Merlyn Fuller and Merry Mischief
REFRESH-INTERVAL;VALUE=DURATION:PT1H
X-Robots-Tag:noindex
X-PUBLISHED-TTL:PT1H
BEGIN:VTIMEZONE
TZID:America/New_York
BEGIN:DAYLIGHT
TZOFFSETFROM:-0500
TZOFFSETTO:-0400
TZNAME:EDT
DTSTART:20250309T070000
END:DAYLIGHT
BEGIN:STANDARD
TZOFFSETFROM:-0400
TZOFFSETTO:-0500
TZNAME:EST
DTSTART:20251102T060000
END:STANDARD
BEGIN:DAYLIGHT
TZOFFSETFROM:-0500
TZOFFSETTO:-0400
TZNAME:EDT
DTSTART:20260308T070000
END:DAYLIGHT
BEGIN:STANDARD
TZOFFSETFROM:-0400
TZOFFSETTO:-0500
TZNAME:EST
DTSTART:20261101T060000
END:STANDARD
BEGIN:DAYLIGHT
TZOFFSETFROM:-0500
TZOFFSETTO:-0400
TZNAME:EDT
DTSTART:20270314T070000
END:DAYLIGHT
BEGIN:STANDARD
TZOFFSETFROM:-0400
TZOFFSETTO:-0500
TZNAME:EST
DTSTART:20271107T060000
END:STANDARD
END:VTIMEZONE
BEGIN:VEVENT
DTSTART;TZID=America/New_York:20260111T103000
DTEND;TZID=America/New_York:20260111T113000
DTSTAMP:20260423T143147
CREATED:20251213T175435Z
LAST-MODIFIED:20251213T175435Z
UID:1727-1768127400-1768131000@merrymischief.net
SUMMARY:Auburn Unitarian Universalist Church- Music Service
DESCRIPTION:Merlyn works with Card Reading for the New Year and combines it with Music to match!
URL:https://merrymischief.net/events/auburn-unitarian-universalist-church-music-service/
LOCATION:Auburn UU\, 607 N. Seward Ave\, Auburn\, NY
END:VEVENT
BEGIN:VEVENT
DTSTART;TZID=America/New_York:20260114T150000
DTEND;TZID=America/New_York:20260114T163000
DTSTAMP:20260423T143147
CREATED:20251108T225301Z
LAST-MODIFIED:20251108T225301Z
UID:1584-1768402800-1768408200@merrymischief.net
SUMMARY:Nottingham Retirement
DESCRIPTION:
URL:https://merrymischief.net/events/nottingham-retirement/
LOCATION:Nottingham Center\, 1301 Nottingham Road\, Jamesville\, NY
END:VEVENT
BEGIN:VEVENT
DTSTART;TZID=America/New_York:20260121T180000
DTEND;TZID=America/New_York:20260121T190000
DTSTAMP:20260423T143147
CREATED:20260101T152540Z
LAST-MODIFIED:20260101T152540Z
UID:1771-1769018400-1769022000@merrymischief.net
SUMMARY:Westminister Manor- Magical Musings and Melodies
DESCRIPTION:
URL:https://merrymischief.net/events/westminister-manor-magical-musings-and-melodies/
LOCATION:Westminister Manor\, 81 S. st.\, Auburn\, Ny\, 13021
END:VEVENT
BEGIN:VEVENT
DTSTART;TZID=America/New_York:20260123T143000
DTEND;TZID=America/New_York:20260123T153000
DTSTAMP:20260423T143147
CREATED:20250715T145238Z
LAST-MODIFIED:20250715T145238Z
UID:1358-1769178600-1769182200@merrymischief.net
SUMMARY:St. Camillus
DESCRIPTION:
URL:https://merrymischief.net/events/st-camillus-6/
LOCATION:St. Camillus\, 813 Fay Rd\, Syracuse\, NY
END:VEVENT
BEGIN:VEVENT
DTSTART;TZID=America/New_York:20260127T143000
DTEND;TZID=America/New_York:20260127T153000
DTSTAMP:20260423T143147
CREATED:20260101T152641Z
LAST-MODIFIED:20260101T152641Z
UID:1773-1769524200-1769527800@merrymischief.net
SUMMARY:McHarrie Place
DESCRIPTION:
URL:https://merrymischief.net/events/mcharrie-place-2/
LOCATION:McHarrie Place\, 7740 Meigs Rd\, Baldwinsville\, NY
END:VEVENT
END:VCALENDAR