BEGIN:VCALENDAR
VERSION:2.0
PRODID:-//Merlyn Fuller and Merry Mischief - ECPv6.15.20//NONSGML v1.0//EN
CALSCALE:GREGORIAN
METHOD:PUBLISH
X-ORIGINAL-URL:https://merrymischief.net
X-WR-CALDESC:Events for Merlyn Fuller and Merry Mischief
REFRESH-INTERVAL;VALUE=DURATION:PT1H
X-Robots-Tag:noindex
X-PUBLISHED-TTL:PT1H
BEGIN:VTIMEZONE
TZID:America/New_York
BEGIN:DAYLIGHT
TZOFFSETFROM:-0500
TZOFFSETTO:-0400
TZNAME:EDT
DTSTART:20240310T070000
END:DAYLIGHT
BEGIN:STANDARD
TZOFFSETFROM:-0400
TZOFFSETTO:-0500
TZNAME:EST
DTSTART:20241103T060000
END:STANDARD
BEGIN:DAYLIGHT
TZOFFSETFROM:-0500
TZOFFSETTO:-0400
TZNAME:EDT
DTSTART:20250309T070000
END:DAYLIGHT
BEGIN:STANDARD
TZOFFSETFROM:-0400
TZOFFSETTO:-0500
TZNAME:EST
DTSTART:20251102T060000
END:STANDARD
BEGIN:DAYLIGHT
TZOFFSETFROM:-0500
TZOFFSETTO:-0400
TZNAME:EDT
DTSTART:20260308T070000
END:DAYLIGHT
BEGIN:STANDARD
TZOFFSETFROM:-0400
TZOFFSETTO:-0500
TZNAME:EST
DTSTART:20261101T060000
END:STANDARD
END:VTIMEZONE
BEGIN:VEVENT
DTSTART;TZID=America/New_York:20250910T150000
DTEND;TZID=America/New_York:20250910T160000
DTSTAMP:20260423T195646
CREATED:20241002T192729Z
LAST-MODIFIED:20241002T192729Z
UID:1106-1757516400-1757520000@merrymischief.net
SUMMARY:Nottingham Residential Happy Hour!
DESCRIPTION:
URL:https://merrymischief.net/events/nottingham-residential-happy-hour-3/
LOCATION:Nottingham Center\, 1301 Nottingham Road\, Jamesville\, NY
END:VEVENT
BEGIN:VEVENT
DTSTART;TZID=America/New_York:20250913T150000
DTEND;TZID=America/New_York:20250913T160000
DTSTAMP:20260423T195646
CREATED:20250318T151530Z
LAST-MODIFIED:20250820T221409Z
UID:1290-1757775600-1757779200@merrymischief.net
SUMMARY:Niagara Celtic Heritage Festival- Celtic Arts Stage
DESCRIPTION:
URL:https://merrymischief.net/events/niagara-celtic-heritage-festival-celtic-arts-stage/
LOCATION:Niagara County Fairgrounds\, 4487 Lake Ave.\, Lockport\, NY\, 14094
END:VEVENT
BEGIN:VEVENT
DTSTART;TZID=America/New_York:20250919T170000
DTEND;TZID=America/New_York:20250919T210000
DTSTAMP:20260423T195646
CREATED:20241112T164348Z
LAST-MODIFIED:20250820T220940Z
UID:1185-1758301200-1758315600@merrymischief.net
SUMMARY:Mystic Merlyn Card Readings & Curios Booth~ Jordan Fall Fest
DESCRIPTION:
URL:https://merrymischief.net/events/mystic-merlyn-card-readings-jordan-fall-fest/
LOCATION:Jordan Fall Fest\, Chappel St.\, Jordan\, NY
END:VEVENT
BEGIN:VEVENT
DTSTART;TZID=America/New_York:20250920T100000
DTEND;TZID=America/New_York:20250920T210000
DTSTAMP:20260423T195646
CREATED:20241112T164644Z
LAST-MODIFIED:20250820T220859Z
UID:1187-1758362400-1758402000@merrymischief.net
SUMMARY:Mystic Merlyn Card Readings & Curios Booth~ Jordan Fall Fest
DESCRIPTION:
URL:https://merrymischief.net/events/mystic-merlyn-card-readings-jordan-fall-fest-2/
LOCATION:Jordan Fall Fest\, Chappel St.\, Jordan\, NY
END:VEVENT
BEGIN:VEVENT
DTSTART;TZID=America/New_York:20250921T110000
DTEND;TZID=America/New_York:20250921T170000
DTSTAMP:20260423T195646
CREATED:20241112T165035Z
LAST-MODIFIED:20250820T220757Z
UID:1189-1758452400-1758474000@merrymischief.net
SUMMARY:Mystic Merlyn Card Readings & Curios Booth~ Jordan Fall Fest
DESCRIPTION:
URL:https://merrymischief.net/events/mystic-merlyn-card-readings-jordan-fall-fest-3/
LOCATION:Jordan Fall Fest\, Chappel St.\, Jordan\, NY
END:VEVENT
BEGIN:VEVENT
DTSTART;TZID=America/New_York:20250927T103000
DTEND;TZID=America/New_York:20250927T113000
DTSTAMP:20260423T195646
CREATED:20250318T151822Z
LAST-MODIFIED:20250318T151822Z
UID:1293-1758969000-1758972600@merrymischief.net
SUMMARY:Tales & Tunes Along the Towpath! ~ Penfield Library
DESCRIPTION:
URL:https://merrymischief.net/events/tales-tunes-along-the-towpath-penfield-library-2/
LOCATION:Penfield Library\, 1985 Baird St. Ste 3\, Penfield\, NY\, 14094
END:VEVENT
BEGIN:VEVENT
DTSTART;TZID=America/New_York:20250927T140000
DTEND;TZID=America/New_York:20250927T170000
DTSTAMP:20260423T195646
CREATED:20250820T222406Z
LAST-MODIFIED:20250820T222406Z
UID:1480-1758981600-1758992400@merrymischief.net
SUMMARY:Fulton Fall Fantasy Fair!
DESCRIPTION:A fun family event with Vendors\, Music and Food! Fun for everyone!
URL:https://merrymischief.net/events/fulton-fall-fantasy-fair/
LOCATION:Fulton Polish Home\, 153 W. First South St. S.\, Fulton\, NY\, 13069
END:VEVENT
BEGIN:VEVENT
DTSTART;TZID=America/New_York:20250930T150000
DTEND;TZID=America/New_York:20250930T160000
DTSTAMP:20260423T195646
CREATED:20250820T223109Z
LAST-MODIFIED:20250820T223109Z
UID:1483-1759244400-1759248000@merrymischief.net
SUMMARY:Nottingham Assisted Living Entertainment
DESCRIPTION:
URL:https://merrymischief.net/events/nottingham-assisted-living-entertainment/
LOCATION:Nottingham Center\, 1301 Nottingham Road\, Jamesville\, NY
END:VEVENT
END:VCALENDAR