BEGIN:VCALENDAR
VERSION:2.0
PRODID:-//Merlyn Fuller and Merry Mischief - ECPv6.15.20//NONSGML v1.0//EN
CALSCALE:GREGORIAN
METHOD:PUBLISH
X-WR-CALNAME:Merlyn Fuller and Merry Mischief
X-ORIGINAL-URL:https://merrymischief.net
X-WR-CALDESC:Events for Merlyn Fuller and Merry Mischief
REFRESH-INTERVAL;VALUE=DURATION:PT1H
X-Robots-Tag:noindex
X-PUBLISHED-TTL:PT1H
BEGIN:VTIMEZONE
TZID:America/New_York
BEGIN:DAYLIGHT
TZOFFSETFROM:-0500
TZOFFSETTO:-0400
TZNAME:EDT
DTSTART:20240310T070000
END:DAYLIGHT
BEGIN:STANDARD
TZOFFSETFROM:-0400
TZOFFSETTO:-0500
TZNAME:EST
DTSTART:20241103T060000
END:STANDARD
BEGIN:DAYLIGHT
TZOFFSETFROM:-0500
TZOFFSETTO:-0400
TZNAME:EDT
DTSTART:20250309T070000
END:DAYLIGHT
BEGIN:STANDARD
TZOFFSETFROM:-0400
TZOFFSETTO:-0500
TZNAME:EST
DTSTART:20251102T060000
END:STANDARD
BEGIN:DAYLIGHT
TZOFFSETFROM:-0500
TZOFFSETTO:-0400
TZNAME:EDT
DTSTART:20260308T070000
END:DAYLIGHT
BEGIN:STANDARD
TZOFFSETFROM:-0400
TZOFFSETTO:-0500
TZNAME:EST
DTSTART:20261101T060000
END:STANDARD
END:VTIMEZONE
BEGIN:VEVENT
DTSTART;TZID=America/New_York:20250701T160000
DTEND;TZID=America/New_York:20250701T170000
DTSTAMP:20260423T222358
CREATED:20250318T150846Z
LAST-MODIFIED:20250318T150846Z
UID:1286-1751385600-1751389200@merrymischief.net
SUMMARY:Bluefield Manor
DESCRIPTION:
URL:https://merrymischief.net/events/bluefield-manor-4/
LOCATION:Bluefield Manor\, 516 Bluefield Rd.\, Auburn\, NY
END:VEVENT
BEGIN:VEVENT
DTSTART;TZID=America/New_York:20250705T100000
DTEND;TZID=America/New_York:20250705T190000
DTSTAMP:20260423T222358
CREATED:20241002T193333Z
LAST-MODIFIED:20241002T193333Z
UID:1112-1751709600-1751742000@merrymischief.net
SUMMARY:Sterling Renaissance Festival
DESCRIPTION:
URL:https://merrymischief.net/events/sterling-renaissance-festival-5/
LOCATION:Sterling Ren Faire\, 15385 Farden Rd.\, Sterling\, NY
END:VEVENT
BEGIN:VEVENT
DTSTART;TZID=America/New_York:20250706T100000
DTEND;TZID=America/New_York:20250706T190000
DTSTAMP:20260423T222358
CREATED:20241002T193443Z
LAST-MODIFIED:20241002T193443Z
UID:1114-1751796000-1751828400@merrymischief.net
SUMMARY:Sterling Renaissance Festival
DESCRIPTION:
URL:https://merrymischief.net/events/sterling-renaissance-festival-6/
LOCATION:Sterling Ren Faire\, 15385 Farden Rd.\, Sterling\, NY
END:VEVENT
BEGIN:VEVENT
DTSTART;TZID=America/New_York:20250712T100000
DTEND;TZID=America/New_York:20250712T190000
DTSTAMP:20260423T222358
CREATED:20241002T193604Z
LAST-MODIFIED:20241002T193604Z
UID:1116-1752314400-1752346800@merrymischief.net
SUMMARY:Sterling Renaissance Festival
DESCRIPTION:
URL:https://merrymischief.net/events/sterling-renaissance-festival-7/
LOCATION:Sterling Ren Faire\, 15385 Farden Rd.\, Sterling\, NY
END:VEVENT
BEGIN:VEVENT
DTSTART;TZID=America/New_York:20250713T100000
DTEND;TZID=America/New_York:20250713T190000
DTSTAMP:20260423T222358
CREATED:20241002T193727Z
LAST-MODIFIED:20241002T193727Z
UID:1118-1752400800-1752433200@merrymischief.net
SUMMARY:Sterling Ren Faire
DESCRIPTION:
URL:https://merrymischief.net/events/sterling-ren-faire-24/
LOCATION:Sterling Ren Faire\, 15385 Farden Rd.\, Sterling\, NY
END:VEVENT
BEGIN:VEVENT
DTSTART;TZID=America/New_York:20250716T180000
DTEND;TZID=America/New_York:20250716T190000
DTSTAMP:20260423T222358
CREATED:20250304T191429Z
LAST-MODIFIED:20250716T155453Z
UID:1279-1752688800-1752692400@merrymischief.net
SUMMARY:Evening on the Erie~ Macedon Academy
DESCRIPTION:Giddy up Mule!  Merry Mischief will be here to sing some tunes\, tell some stories and tall tales!
URL:https://merrymischief.net/events/evening-on-the-erie-macedon-library/
LOCATION:Macedon Academy\, 1185 Macedon Center Rd\, Macedon
END:VEVENT
BEGIN:VEVENT
DTSTART;TZID=America/New_York:20250717T180000
DTEND;TZID=America/New_York:20250717T190000
DTSTAMP:20260423T222358
CREATED:20250623T195049Z
LAST-MODIFIED:20250715T150019Z
UID:1352-1752775200-1752778800@merrymischief.net
SUMMARY:Evening on the Erie Canal -Bridgeport Library
DESCRIPTION:Merry Mischief will tell tall tales and sing some toe tapping songs tonight!
URL:https://merrymischief.net/events/evening-on-the-erie-canal/
LOCATION:Bridgeport Library\, 8979 North Rd.\, Bridgeport\, NY
END:VEVENT
BEGIN:VEVENT
DTSTART;TZID=America/New_York:20250719T100000
DTEND;TZID=America/New_York:20250719T190000
DTSTAMP:20260423T222358
CREATED:20241002T193845Z
LAST-MODIFIED:20241002T193845Z
UID:1120-1752919200-1752951600@merrymischief.net
SUMMARY:Sterling Renaissance Festival
DESCRIPTION:
URL:https://merrymischief.net/events/sterling-renaissance-festival-8/
LOCATION:Sterling Ren Faire\, 15385 Farden Rd.\, Sterling\, NY
END:VEVENT
BEGIN:VEVENT
DTSTART;TZID=America/New_York:20250720T100000
DTEND;TZID=America/New_York:20250720T190000
DTSTAMP:20260423T222358
CREATED:20241002T193947Z
LAST-MODIFIED:20241002T193947Z
UID:1122-1753005600-1753038000@merrymischief.net
SUMMARY:Sterling Renaissance Festival
DESCRIPTION:
URL:https://merrymischief.net/events/sterling-renaissance-festival-9/
LOCATION:Sterling Ren Faire\, 15385 Farden Rd.\, Sterling\, NY
END:VEVENT
BEGIN:VEVENT
DTSTART;TZID=America/New_York:20250726T100000
DTEND;TZID=America/New_York:20250726T190000
DTSTAMP:20260423T222358
CREATED:20241002T194110Z
LAST-MODIFIED:20241002T194110Z
UID:1124-1753524000-1753556400@merrymischief.net
SUMMARY:Sterling Renaissance Festival
DESCRIPTION:
URL:https://merrymischief.net/events/sterling-renaissance-festival-10/
LOCATION:Sterling Ren Faire\, 15385 Farden Rd.\, Sterling\, NY
END:VEVENT
BEGIN:VEVENT
DTSTART;TZID=America/New_York:20250727T100000
DTEND;TZID=America/New_York:20250727T190000
DTSTAMP:20260423T222358
CREATED:20241002T194220Z
LAST-MODIFIED:20241002T194220Z
UID:1126-1753610400-1753642800@merrymischief.net
SUMMARY:Sterling Renaissance Festival
DESCRIPTION:
URL:https://merrymischief.net/events/sterling-renaissance-festival-11/
LOCATION:Sterling Ren Faire\, 15385 Farden Rd.\, Sterling\, NY
END:VEVENT
BEGIN:VEVENT
DTSTART;TZID=America/New_York:20250730T183000
DTEND;TZID=America/New_York:20250730T200000
DTSTAMP:20260423T222358
CREATED:20250509T152038Z
LAST-MODIFIED:20250509T152038Z
UID:1298-1753900200-1753905600@merrymischief.net
SUMMARY:Erie Canal Jam @ Erie Canal Museum!
DESCRIPTION:A fun night of songwriters and music of the Erie Canal! \nSpecial Guests: Colin Aberdeen\, Edgy Folk\, Curtis Waterman and Merry Mischief!
URL:https://merrymischief.net/events/erie-canal-jam-erie-canal-museum/
LOCATION:Erie Canal Weighlock Museum\, 318 Erie Blvd East\, Syracuse\, NY\, 13202
END:VEVENT
END:VCALENDAR