BEGIN:VCALENDAR
VERSION:2.0
PRODID:-//Merlyn Fuller and Merry Mischief - ECPv6.15.20//NONSGML v1.0//EN
CALSCALE:GREGORIAN
METHOD:PUBLISH
X-ORIGINAL-URL:https://merrymischief.net
X-WR-CALDESC:Events for Merlyn Fuller and Merry Mischief
REFRESH-INTERVAL;VALUE=DURATION:PT1H
X-Robots-Tag:noindex
X-PUBLISHED-TTL:PT1H
BEGIN:VTIMEZONE
TZID:America/New_York
BEGIN:DAYLIGHT
TZOFFSETFROM:-0500
TZOFFSETTO:-0400
TZNAME:EDT
DTSTART:20240310T070000
END:DAYLIGHT
BEGIN:STANDARD
TZOFFSETFROM:-0400
TZOFFSETTO:-0500
TZNAME:EST
DTSTART:20241103T060000
END:STANDARD
BEGIN:DAYLIGHT
TZOFFSETFROM:-0500
TZOFFSETTO:-0400
TZNAME:EDT
DTSTART:20250309T070000
END:DAYLIGHT
BEGIN:STANDARD
TZOFFSETFROM:-0400
TZOFFSETTO:-0500
TZNAME:EST
DTSTART:20251102T060000
END:STANDARD
BEGIN:DAYLIGHT
TZOFFSETFROM:-0500
TZOFFSETTO:-0400
TZNAME:EDT
DTSTART:20260308T070000
END:DAYLIGHT
BEGIN:STANDARD
TZOFFSETFROM:-0400
TZOFFSETTO:-0500
TZNAME:EST
DTSTART:20261101T060000
END:STANDARD
END:VTIMEZONE
BEGIN:VEVENT
DTSTART;TZID=America/New_York:20250503T110000
DTEND;TZID=America/New_York:20250503T130000
DTSTAMP:20260424T005919
CREATED:20250327T153431Z
LAST-MODIFIED:20250327T153528Z
UID:1296-1746270000-1746277200@merrymischief.net
SUMMARY:Valley Arts4All Festival
DESCRIPTION:Merlyn Mischief and Stephen McSweeney of Merry Mischief back again to this lovely art festival \nMusic\, vendors\, food! It’s got it all! Let’s kick off the springtime and summertime fun!
URL:https://merrymischief.net/events/valley-arts4all-festival/
LOCATION:Riverfront Park\, 100 Riverfront Park Rd\, Sayre\,\, PA
END:VEVENT
BEGIN:VEVENT
DTSTART;TZID=America/New_York:20250504T120000
DTEND;TZID=America/New_York:20250504T160000
DTSTAMP:20260424T005919
CREATED:20250303T153050Z
LAST-MODIFIED:20250303T153050Z
UID:1271-1746360000-1746374400@merrymischief.net
SUMMARY:Rochester Ren Faire- Healing Hearts Benefit
DESCRIPTION:Merlyn Mischief and Greenway the Minstrel will be playing at this benefit for children with heart issues.\nAnd bonus… \nthere’s craft vendors & ALE!!
URL:https://merrymischief.net/events/rochester-ren-faire-healing-hearts-benefit/
LOCATION:3 Heads Brewing\, 186 Atlantic Ave\, Rochester\, NY\, 14607
END:VEVENT
BEGIN:VEVENT
DTSTART;TZID=America/New_York:20250506T110000
DTEND;TZID=America/New_York:20250506T120000
DTSTAMP:20260424T005919
CREATED:20250123T164341Z
LAST-MODIFIED:20250123T164341Z
UID:1224-1746529200-1746532800@merrymischief.net
SUMMARY:Rush Rotary Camp
DESCRIPTION:
URL:https://merrymischief.net/events/rush-rotary-camp/
LOCATION:Rush Rotary Camp\, 5 Points Rd\, Rush\, NY\, 14543
END:VEVENT
BEGIN:VEVENT
DTSTART;TZID=America/New_York:20250508T110000
DTEND;TZID=America/New_York:20250508T120000
DTSTAMP:20260424T005919
CREATED:20250123T164437Z
LAST-MODIFIED:20250123T164437Z
UID:1227-1746702000-1746705600@merrymischief.net
SUMMARY:Rush Rotary Camp
DESCRIPTION:
URL:https://merrymischief.net/events/rush-rotary-camp-2/
LOCATION:Rush Rotary Camp\, 5 Points Rd\, Rush\, NY\, 14543
END:VEVENT
BEGIN:VEVENT
DTSTART;TZID=America/New_York:20250516T180000
DTEND;TZID=America/New_York:20250516T190000
DTSTAMP:20260424T005919
CREATED:20250516T141457Z
LAST-MODIFIED:20250516T141457Z
UID:1329-1747418400-1747422000@merrymischief.net
SUMMARY:Santa & Mrs Claus Visit Cicero Library! 6pm
DESCRIPTION:
URL:https://merrymischief.net/events/santa-mrs-claus-visit-cicero-library-6pm/
LOCATION:Cicero Library\, 8686 Knowledge Ln\, Cicero\, NY\, 13039
END:VEVENT
BEGIN:VEVENT
DTSTART;TZID=America/New_York:20250517T100000
DTEND;TZID=America/New_York:20250517T180000
DTSTAMP:20260424T005919
CREATED:20250303T152836Z
LAST-MODIFIED:20250303T152836Z
UID:1269-1747476000-1747504800@merrymischief.net
SUMMARY:Mayfaire on the Green
DESCRIPTION:Merlyn Mischief and Fiddlestix will be here today playing on the south end of the grounds in the Queen of the May tent!
URL:https://merrymischief.net/events/mayfaire-on-the-green-3/
LOCATION:Holland Patent\, NY
END:VEVENT
BEGIN:VEVENT
DTSTART;TZID=America/New_York:20250524T130000
DTEND;TZID=America/New_York:20250524T170000
DTSTAMP:20260424T005919
CREATED:20250123T164601Z
LAST-MODIFIED:20250123T164601Z
UID:1229-1748091600-1748106000@merrymischief.net
SUMMARY:Waterloo Commemorate & Celebrate Memorial Day
DESCRIPTION:
URL:https://merrymischief.net/events/waterloo-commemorate-celebrate-memorial-day/
LOCATION:Commemorate & Celebrate Memorial Day!\, Waterloo\, NY
END:VEVENT
BEGIN:VEVENT
DTSTART;TZID=America/New_York:20250525T120000
DTEND;TZID=America/New_York:20250525T160000
DTSTAMP:20260424T005919
CREATED:20250123T164700Z
LAST-MODIFIED:20250123T164700Z
UID:1231-1748174400-1748188800@merrymischief.net
SUMMARY:Waterloo Commemorate & Celebrate Memorial Day
DESCRIPTION:
URL:https://merrymischief.net/events/waterloo-commemorate-celebrate-memorial-day-2/
LOCATION:Commemorate & Celebrate Memorial Day!\, Waterloo\, NY
END:VEVENT
BEGIN:VEVENT
DTSTART;TZID=America/New_York:20250528T150000
DTEND;TZID=America/New_York:20250528T160000
DTSTAMP:20260424T005919
CREATED:20241002T192614Z
LAST-MODIFIED:20250113T154916Z
UID:1104-1748444400-1748448000@merrymischief.net
SUMMARY:Nottingham Residential Happy Hour!
DESCRIPTION:
URL:https://merrymischief.net/events/nottingham-residential-happy-hour-2/
LOCATION:Nottingham Center\, 1301 Nottingham Road\, Jamesville\, NY
END:VEVENT
END:VCALENDAR