BEGIN:VCALENDAR
VERSION:2.0
PRODID:-//Merlyn Fuller and Merry Mischief - ECPv6.15.20//NONSGML v1.0//EN
CALSCALE:GREGORIAN
METHOD:PUBLISH
X-WR-CALNAME:Merlyn Fuller and Merry Mischief
X-ORIGINAL-URL:https://merrymischief.net
X-WR-CALDESC:Events for Merlyn Fuller and Merry Mischief
REFRESH-INTERVAL;VALUE=DURATION:PT1H
X-Robots-Tag:noindex
X-PUBLISHED-TTL:PT1H
BEGIN:VTIMEZONE
TZID:America/New_York
BEGIN:DAYLIGHT
TZOFFSETFROM:-0500
TZOFFSETTO:-0400
TZNAME:EDT
DTSTART:20240310T070000
END:DAYLIGHT
BEGIN:STANDARD
TZOFFSETFROM:-0400
TZOFFSETTO:-0500
TZNAME:EST
DTSTART:20241103T060000
END:STANDARD
BEGIN:DAYLIGHT
TZOFFSETFROM:-0500
TZOFFSETTO:-0400
TZNAME:EDT
DTSTART:20250309T070000
END:DAYLIGHT
BEGIN:STANDARD
TZOFFSETFROM:-0400
TZOFFSETTO:-0500
TZNAME:EST
DTSTART:20251102T060000
END:STANDARD
BEGIN:DAYLIGHT
TZOFFSETFROM:-0500
TZOFFSETTO:-0400
TZNAME:EDT
DTSTART:20260308T070000
END:DAYLIGHT
BEGIN:STANDARD
TZOFFSETFROM:-0400
TZOFFSETTO:-0500
TZNAME:EST
DTSTART:20261101T060000
END:STANDARD
END:VTIMEZONE
BEGIN:VEVENT
DTSTART;TZID=America/New_York:20250301T130000
DTEND;TZID=America/New_York:20250301T160000
DTSTAMP:20260424T034807
CREATED:20250302T231807Z
LAST-MODIFIED:20250302T231807Z
UID:1263-1740834000-1740844800@merrymischief.net
SUMMARY:Fellowship of the Cards
DESCRIPTION:Tarot Workshop led by Mystic Merlyn this day at Claudia Lambdin’s Studio!
URL:https://merrymischief.net/events/fellowship-of-the-cards/
LOCATION:Claudia Lambdin’s Art Studio\, 3884 Miller Rd\, Auburn\, 13021\, United States
END:VEVENT
BEGIN:VEVENT
DTSTART;TZID=America/New_York:20250307T130000
DTEND;TZID=America/New_York:20250307T140000
DTSTAMP:20260424T034807
CREATED:20250217T232438Z
LAST-MODIFIED:20250217T232438Z
UID:1252-1741352400-1741356000@merrymischief.net
SUMMARY:P.A.C.E
DESCRIPTION:
URL:https://merrymischief.net/events/p-a-c-e-2/
LOCATION:PACE- Circle Creek\, 115 Circle Creek\, E. Syracuse\, NY\, 13057
END:VEVENT
BEGIN:VEVENT
DTSTART;TZID=America/New_York:20250307T180000
DTEND;TZID=America/New_York:20250307T190000
DTSTAMP:20260424T034807
CREATED:20250302T232148Z
LAST-MODIFIED:20250302T232148Z
UID:1266-1741370400-1741374000@merrymischief.net
SUMMARY:First Friday Schweinfurth Poetry Reading
DESCRIPTION:Come and Join us\, five women: Nancy A. Dafoe\, Patricia D’agostino\, Janine DeBaise\, Merlyn Fuller\, and Bobbie Dumas Panek at the Schweinfurth Art Center\, on First Friday\, March 7 from 6-7 PM. \nWe will share our hearts\, thoughts\, and truths\, in poetry and prose. It’s Free\, refreshments served. And\, you can view “Both Ends of the Rainbow”: Art from students and senior citizens.
URL:https://merrymischief.net/events/first-friday-schweinfurth-poetry-reading/
LOCATION:Schweinfurth Art Museum\, 205 Genesee St/\, Auburn\, 13021\, United States
END:VEVENT
BEGIN:VEVENT
DTSTART;TZID=America/New_York:20250312T143000
DTEND;TZID=America/New_York:20250312T153000
DTSTAMP:20260424T034807
CREATED:20250123T163639Z
LAST-MODIFIED:20250123T163639Z
UID:1214-1741789800-1741793400@merrymischief.net
SUMMARY:Boyle Center
DESCRIPTION:
URL:https://merrymischief.net/events/boyle-center-7/
LOCATION:Boyle Center\, 149 Genesee St.\, Auburn\, NY
END:VEVENT
BEGIN:VEVENT
DTSTART;TZID=America/New_York:20250313T143000
DTEND;TZID=America/New_York:20250313T153000
DTSTAMP:20260424T034807
CREATED:20250227T151533Z
LAST-MODIFIED:20250227T151533Z
UID:1260-1741876200-1741879800@merrymischief.net
SUMMARY:Auburn Rehabilitation
DESCRIPTION:
URL:https://merrymischief.net/events/auburn-rehabilitation/
LOCATION:Auburn Rehabilitation\, 85 Thornden Ave\, Auburn\, 13021\, United States
END:VEVENT
BEGIN:VEVENT
DTSTART;TZID=America/New_York:20250314T120000
DTEND;TZID=America/New_York:20250314T130000
DTSTAMP:20260424T034807
CREATED:20250123T163740Z
LAST-MODIFIED:20250123T163740Z
UID:1216-1741953600-1741957200@merrymischief.net
SUMMARY:Jordan Elbridge Seniors
DESCRIPTION:
URL:https://merrymischief.net/events/jordan-elbridge-seniors/
LOCATION:Jordan Communty Center\, Rt. 31\, Jordan\, NY\, 13080
END:VEVENT
BEGIN:VEVENT
DTSTART;TZID=America/New_York:20250315T170000
DTEND;TZID=America/New_York:20250315T200000
DTSTAMP:20260424T034807
CREATED:20250130T170331Z
LAST-MODIFIED:20250130T170553Z
UID:619-1742058000-1742068800@merrymischief.net
SUMMARY:Celtic Music at The Sterling Cidery!
DESCRIPTION:
URL:https://merrymischief.net/events/sterling-cidery-7/
LOCATION:Sterling Cidery\, 14451 Richmond Ave\, Sterling\, NY
END:VEVENT
BEGIN:VEVENT
DTSTART;TZID=America/New_York:20250317T160000
DTEND;TZID=America/New_York:20250317T170000
DTSTAMP:20260424T034807
CREATED:20250123T164018Z
LAST-MODIFIED:20250123T164018Z
UID:1220-1742227200-1742230800@merrymischief.net
SUMMARY:Bluefield Manor
DESCRIPTION:
URL:https://merrymischief.net/events/bluefield-manor-3/
LOCATION:Bluefield Manor\, 516 Bluefield Rd.\, Auburn\, NY
END:VEVENT
BEGIN:VEVENT
DTSTART;TZID=America/New_York:20250318T130000
DTEND;TZID=America/New_York:20250318T140000
DTSTAMP:20260424T034807
CREATED:20250123T164205Z
LAST-MODIFIED:20250123T164205Z
UID:1222-1742302800-1742306400@merrymischief.net
SUMMARY:Canton Woods
DESCRIPTION:
URL:https://merrymischief.net/events/canton-woods-2/
LOCATION:Canton Woods\, 76 Canton Woods\, Baldwinsville\, NY
END:VEVENT
BEGIN:VEVENT
DTSTART;TZID=America/New_York:20250326T123000
DTEND;TZID=America/New_York:20250326T140000
DTSTAMP:20260424T034807
CREATED:20250217T232542Z
LAST-MODIFIED:20250217T232542Z
UID:1254-1742992200-1742997600@merrymischief.net
SUMMARY:P.A.C.E.
DESCRIPTION:
URL:https://merrymischief.net/events/p-a-c-e-3/
LOCATION:Pace- Malta Lane\, 100 Malta Lane\, Syracuse\, NY\, 13212
END:VEVENT
END:VCALENDAR