BEGIN:VCALENDAR
VERSION:2.0
PRODID:-//Merlyn Fuller and Merry Mischief - ECPv6.15.20//NONSGML v1.0//EN
CALSCALE:GREGORIAN
METHOD:PUBLISH
X-WR-CALNAME:Merlyn Fuller and Merry Mischief
X-ORIGINAL-URL:https://merrymischief.net
X-WR-CALDESC:Events for Merlyn Fuller and Merry Mischief
REFRESH-INTERVAL;VALUE=DURATION:PT1H
X-Robots-Tag:noindex
X-PUBLISHED-TTL:PT1H
BEGIN:VTIMEZONE
TZID:America/New_York
BEGIN:DAYLIGHT
TZOFFSETFROM:-0500
TZOFFSETTO:-0400
TZNAME:EDT
DTSTART:20240310T070000
END:DAYLIGHT
BEGIN:STANDARD
TZOFFSETFROM:-0400
TZOFFSETTO:-0500
TZNAME:EST
DTSTART:20241103T060000
END:STANDARD
BEGIN:DAYLIGHT
TZOFFSETFROM:-0500
TZOFFSETTO:-0400
TZNAME:EDT
DTSTART:20250309T070000
END:DAYLIGHT
BEGIN:STANDARD
TZOFFSETFROM:-0400
TZOFFSETTO:-0500
TZNAME:EST
DTSTART:20251102T060000
END:STANDARD
BEGIN:DAYLIGHT
TZOFFSETFROM:-0500
TZOFFSETTO:-0400
TZNAME:EDT
DTSTART:20260308T070000
END:DAYLIGHT
BEGIN:STANDARD
TZOFFSETFROM:-0400
TZOFFSETTO:-0500
TZNAME:EST
DTSTART:20261101T060000
END:STANDARD
END:VTIMEZONE
BEGIN:VEVENT
DTSTART;TZID=America/New_York:20250209T103000
DTEND;TZID=America/New_York:20250209T113000
DTSTAMP:20260424T050425
CREATED:20250113T154226Z
LAST-MODIFIED:20250113T154226Z
UID:1196-1739097000-1739100600@merrymischief.net
SUMMARY:Auburn Unitarian Universalist Society~ Erie Canal Program
DESCRIPTION:Merry Mischief will be here this morning to play some historical tunes and bring some fun facts and “stretch the blanket” a bit 🙂
URL:https://merrymischief.net/events/auburn-unitarian-universalist-society-erie-canal-program/
LOCATION:Auburn UU\, 607 N. Seward Ave\, Auburn\, NY
END:VEVENT
BEGIN:VEVENT
DTSTART;TZID=America/New_York:20250213T140000
DTEND;TZID=America/New_York:20250213T150000
DTSTAMP:20260424T050425
CREATED:20250113T154327Z
LAST-MODIFIED:20250113T154327Z
UID:1198-1739455200-1739458800@merrymischief.net
SUMMARY:Fingerlakes Center for Living
DESCRIPTION:
URL:https://merrymischief.net/events/fingerlakes-center-for-living-14/
LOCATION:Fingerlakes Center for Living\, 20 Park Ave.\, Auburn\, NY\, 13021
END:VEVENT
BEGIN:VEVENT
DTSTART;TZID=America/New_York:20250216T160000
DTEND;TZID=America/New_York:20250216T170000
DTSTAMP:20260424T050425
CREATED:20250113T154608Z
LAST-MODIFIED:20250216T183436Z
UID:1200-1739721600-1739725200@merrymischief.net
SUMMARY:Plainville Christ Church Music Concert POSTPONED DUE TO INCLEMENT WEATHER
DESCRIPTION:Merry Mischief has rescheduled to Oct. 19th\, 2025 \nStay Safe and warm lovies!
URL:https://merrymischief.net/events/plainville-christ-church-music-concert-series/
LOCATION:Plainville Christ Church\, 752 W. Genesee St\, Plainville\, NY
END:VEVENT
BEGIN:VEVENT
DTSTART;TZID=America/New_York:20250227T150000
DTEND;TZID=America/New_York:20250227T160000
DTSTAMP:20260424T050425
CREATED:20250217T232704Z
LAST-MODIFIED:20250217T232704Z
UID:1256-1740668400-1740672000@merrymischief.net
SUMMARY:Westminister Manor
DESCRIPTION:
URL:https://merrymischief.net/events/westminister-manor-5/
LOCATION:Westminister Manor\, 81 S. st.\, Auburn\, Ny\, 13021
END:VEVENT
END:VCALENDAR