BEGIN:VCALENDAR
VERSION:2.0
PRODID:-//Merlyn Fuller and Merry Mischief - ECPv6.15.20//NONSGML v1.0//EN
CALSCALE:GREGORIAN
METHOD:PUBLISH
X-WR-CALNAME:Merlyn Fuller and Merry Mischief
X-ORIGINAL-URL:https://merrymischief.net
X-WR-CALDESC:Events for Merlyn Fuller and Merry Mischief
REFRESH-INTERVAL;VALUE=DURATION:PT1H
X-Robots-Tag:noindex
X-PUBLISHED-TTL:PT1H
BEGIN:VTIMEZONE
TZID:America/New_York
BEGIN:DAYLIGHT
TZOFFSETFROM:-0500
TZOFFSETTO:-0400
TZNAME:EDT
DTSTART:20220313T070000
END:DAYLIGHT
BEGIN:STANDARD
TZOFFSETFROM:-0400
TZOFFSETTO:-0500
TZNAME:EST
DTSTART:20221106T060000
END:STANDARD
BEGIN:DAYLIGHT
TZOFFSETFROM:-0500
TZOFFSETTO:-0400
TZNAME:EDT
DTSTART:20230312T070000
END:DAYLIGHT
BEGIN:STANDARD
TZOFFSETFROM:-0400
TZOFFSETTO:-0500
TZNAME:EST
DTSTART:20231105T060000
END:STANDARD
BEGIN:DAYLIGHT
TZOFFSETFROM:-0500
TZOFFSETTO:-0400
TZNAME:EDT
DTSTART:20240310T070000
END:DAYLIGHT
BEGIN:STANDARD
TZOFFSETFROM:-0400
TZOFFSETTO:-0500
TZNAME:EST
DTSTART:20241103T060000
END:STANDARD
END:VTIMEZONE
BEGIN:VEVENT
DTSTART;TZID=America/New_York:20230902T100000
DTEND;TZID=America/New_York:20230902T180000
DTSTAMP:20260425T072126
CREATED:20230126T154641Z
LAST-MODIFIED:20230126T154641Z
UID:711-1693648800-1693677600@merrymischief.net
SUMMARY:Upstate Renaissance Festival! NEW!
DESCRIPTION:Merry Mischief (Merlyn Mischief & Tom O’Bedlam) will be here on Opening Day of this new ren faire! \nFind us there as wandering minstrels….or is that….meandering wastrels? \nMore info to come!
URL:https://merrymischief.net/events/upstate-renaissance-festival-new/
LOCATION:Upstate Renaissance Faire\, Norwich\, NY
END:VEVENT
BEGIN:VEVENT
DTSTART;TZID=America/New_York:20230906T150000
DTEND;TZID=America/New_York:20230906T160000
DTSTAMP:20260425T072126
CREATED:20230912T132829Z
LAST-MODIFIED:20230912T132829Z
UID:786-1694012400-1694016000@merrymischief.net
SUMMARY:Boyle Center Senior Entertainment
DESCRIPTION:Back again to perform for these lovely folks! They singalong!
URL:https://merrymischief.net/events/boyle-center-senior-entertainment/
LOCATION:Boyle Center\, 149 Genesee St.\, Auburn\, NY
END:VEVENT
BEGIN:VEVENT
DTSTART;TZID=America/New_York:20230915T170000
DTEND;TZID=America/New_York:20230915T210000
DTSTAMP:20260425T072126
CREATED:20221129T215451Z
LAST-MODIFIED:20221129T215451Z
UID:654-1694797200-1694811600@merrymischief.net
SUMMARY:Jordan Fall Fest- Mystic Merlyn Card Readings
DESCRIPTION:Mystic Merlyn Card Reading Booth \nMerlyn on Friday & Sunday \nMeddy & Jeff Jacques on Saturday
URL:https://merrymischief.net/events/jordan-fall-fest-mystic-merlyn-card-readings/
LOCATION:Jordan Fall Fest\, Chappel St.\, Jordan\, NY
END:VEVENT
BEGIN:VEVENT
DTSTART;TZID=America/New_York:20230916T100000
DTEND;TZID=America/New_York:20230916T210000
DTSTAMP:20260425T072126
CREATED:20221129T215550Z
LAST-MODIFIED:20221129T215550Z
UID:657-1694858400-1694898000@merrymischief.net
SUMMARY:Jordan Fall Fest- Mysti Merlyn Card Readings
DESCRIPTION:
URL:https://merrymischief.net/events/jordan-fall-fest-mysti-merlyn-card-readings/
LOCATION:Jordan Fall Fest\, Chappel St.\, Jordan\, NY
END:VEVENT
BEGIN:VEVENT
DTSTART;TZID=America/New_York:20230917T110000
DTEND;TZID=America/New_York:20230917T170000
DTSTAMP:20260425T072126
CREATED:20221129T215634Z
LAST-MODIFIED:20221129T215634Z
UID:659-1694948400-1694970000@merrymischief.net
SUMMARY:Jordan Fall Fest
DESCRIPTION:
URL:https://merrymischief.net/events/jordan-fall-fest/
LOCATION:Jordan Fall Fest\, Chappel St.\, Jordan\, NY
END:VEVENT
BEGIN:VEVENT
DTSTART;TZID=America/New_York:20230920T110000
DTEND;TZID=America/New_York:20230920T120000
DTSTAMP:20260425T072126
CREATED:20230412T144235Z
LAST-MODIFIED:20230412T144235Z
UID:755-1695207600-1695211200@merrymischief.net
SUMMARY:Canton Woods Senior Luncheon
DESCRIPTION:
URL:https://merrymischief.net/events/canton-woods-senior-luncheon/
LOCATION:Canton Woods\, 76 Canton Woods\, Baldwinsville\, NY
END:VEVENT
BEGIN:VEVENT
DTSTART;TZID=America/New_York:20230923T100000
DTEND;TZID=America/New_York:20230923T180000
DTSTAMP:20260425T072126
CREATED:20230316T143202Z
LAST-MODIFIED:20230316T143202Z
UID:744-1695463200-1695492000@merrymischief.net
SUMMARY:Fall Fantasy Fest
DESCRIPTION:In Fulton! \nGreat music and vendors and fun!
URL:https://merrymischief.net/events/fall-fantasy-fest/
LOCATION:Fulton Fall Fantasy Fest\, 554 S. 1st St\, Fulton\, Ny
END:VEVENT
BEGIN:VEVENT
DTSTART;TZID=America/New_York:20230924T130000
DTEND;TZID=America/New_York:20230924T160000
DTSTAMP:20260425T072126
CREATED:20230811T222349Z
LAST-MODIFIED:20230811T222349Z
UID:771-1695560400-1695571200@merrymischief.net
SUMMARY:Community Day @ Rippleton Schoolhouse-Lorenzo State Historic Park
DESCRIPTION:It’s a kids and family event and Merry Mischief will be playing lively music from the late 1800s into the 1900s (or just kid-friendly music!).  We will be playing outside under a tent! \nCome enjoy the fall weather and some Old Timey Music with Merlyn Mischief & Tom Meier!
URL:https://merrymischief.net/events/community-day-rippleton-schoolhouse-lorenzo-state-historic-park/
LOCATION:Lorenzo State Historic Site\, 17 Rippleton Road\, Cazenovia\, NY\, 13035
END:VEVENT
END:VCALENDAR