BEGIN:VCALENDAR
VERSION:2.0
PRODID:-//Merlyn Fuller and Merry Mischief - ECPv6.15.20//NONSGML v1.0//EN
CALSCALE:GREGORIAN
METHOD:PUBLISH
X-WR-CALNAME:Merlyn Fuller and Merry Mischief
X-ORIGINAL-URL:https://merrymischief.net
X-WR-CALDESC:Events for Merlyn Fuller and Merry Mischief
REFRESH-INTERVAL;VALUE=DURATION:PT1H
X-Robots-Tag:noindex
X-PUBLISHED-TTL:PT1H
BEGIN:VTIMEZONE
TZID:America/New_York
BEGIN:DAYLIGHT
TZOFFSETFROM:-0500
TZOFFSETTO:-0400
TZNAME:EDT
DTSTART:20220313T070000
END:DAYLIGHT
BEGIN:STANDARD
TZOFFSETFROM:-0400
TZOFFSETTO:-0500
TZNAME:EST
DTSTART:20221106T060000
END:STANDARD
BEGIN:DAYLIGHT
TZOFFSETFROM:-0500
TZOFFSETTO:-0400
TZNAME:EDT
DTSTART:20230312T070000
END:DAYLIGHT
BEGIN:STANDARD
TZOFFSETFROM:-0400
TZOFFSETTO:-0500
TZNAME:EST
DTSTART:20231105T060000
END:STANDARD
BEGIN:DAYLIGHT
TZOFFSETFROM:-0500
TZOFFSETTO:-0400
TZNAME:EDT
DTSTART:20240310T070000
END:DAYLIGHT
BEGIN:STANDARD
TZOFFSETFROM:-0400
TZOFFSETTO:-0500
TZNAME:EST
DTSTART:20241103T060000
END:STANDARD
END:VTIMEZONE
BEGIN:VEVENT
DTSTART;TZID=America/New_York:20230311T170000
DTEND;TZID=America/New_York:20230311T200000
DTSTAMP:20260425T161044
CREATED:20221129T212219Z
LAST-MODIFIED:20221129T212219Z
UID:613-1678554000-1678564800@merrymischief.net
SUMMARY:Sterling Cidery
DESCRIPTION:Celtic Music with Merlyn\, Tom & Steve! \nSlainte’!
URL:https://merrymischief.net/events/sterling-cidery-2/
LOCATION:Sterling Cidery\, 14451 Richmond Ave\, Sterling\, NY
END:VEVENT
BEGIN:VEVENT
DTSTART;TZID=America/New_York:20230316T133000
DTEND;TZID=America/New_York:20230316T143000
DTSTAMP:20260425T161044
CREATED:20230223T171440Z
LAST-MODIFIED:20230223T171440Z
UID:735-1678973400-1678977000@merrymischief.net
SUMMARY:Bluefield Manor
DESCRIPTION:Merlyn is bringing some Celtic tunes to the party today! 🙂
URL:https://merrymischief.net/events/bluefield-manor/
LOCATION:Bluefield Manor\, 516 Bluefield Rd.\, Auburn\, NY
END:VEVENT
BEGIN:VEVENT
DTSTART;TZID=America/New_York:20230317T110000
DTEND;TZID=America/New_York:20230317T120000
DTSTAMP:20260425T161044
CREATED:20221226T185440Z
LAST-MODIFIED:20221226T185440Z
UID:678-1679050800-1679054400@merrymischief.net
SUMMARY:Canton Woods
DESCRIPTION:
URL:https://merrymischief.net/events/canton-woods/
LOCATION:Canton Woods\, 76 Canton Woods\, Baldwinsville\, NY
END:VEVENT
BEGIN:VEVENT
DTSTART;TZID=America/New_York:20230317T180000
DTEND;TZID=America/New_York:20230317T210000
DTSTAMP:20260425T161044
CREATED:20221023T154341Z
LAST-MODIFIED:20221023T154341Z
UID:538-1679076000-1679086800@merrymischief.net
SUMMARY:St. Paddy’s Day @ Shepherd Brewing
DESCRIPTION:Ring in St. Paddy’s Day with some fun Celtic music and great brews & ciders made right here! \nSlainte’!
URL:https://merrymischief.net/events/st-paddys-day-shepherd-brewing/
LOCATION:Shepherd Brewing Company\, 132 Genesee St\, Auburn\, NY\, 13021
END:VEVENT
BEGIN:VEVENT
DTSTART;TZID=America/New_York:20230318T110000
DTEND;TZID=America/New_York:20230318T163000
DTSTAMP:20260425T161044
CREATED:20221121T115917Z
LAST-MODIFIED:20221121T115917Z
UID:602-1679137200-1679157000@merrymischief.net
SUMMARY:North Country Goes Green Irish Festival!
DESCRIPTION:Huzzah! The Irish Fest is back on for this year having had to go on hiatus since the pandemic! \nMerry Mischief trio (Merlyn\, Tom Meier & Stephen McSweeney) will be performing 3 sets:\n11am-Noon \n1-2pm \n3-4:30pm \nSlainte’!
URL:https://merrymischief.net/events/north-country-goes-green-irish-festival/
LOCATION:Dulles State Office Building\, 317 Washington St.\, Watertown\, NY
END:VEVENT
BEGIN:VEVENT
DTSTART;TZID=America/New_York:20230328T140000
DTEND;TZID=America/New_York:20230328T150000
DTSTAMP:20260425T161044
CREATED:20230219T174617Z
LAST-MODIFIED:20230219T174617Z
UID:733-1680012000-1680015600@merrymischief.net
SUMMARY:The Heritage @ Loretto
DESCRIPTION:
URL:https://merrymischief.net/events/the-heritage-loretto-2/
LOCATION:Heritage Apts.\, 750 E Brighton Ave\,\, Syracuse\, 13205
END:VEVENT
BEGIN:VEVENT
DTSTART;TZID=America/New_York:20230330T120000
DTEND;TZID=America/New_York:20230330T140000
DTSTAMP:20260425T161044
CREATED:20230117T145855Z
LAST-MODIFIED:20230330T123757Z
UID:699-1680177600-1680184800@merrymischief.net
SUMMARY:Melrose Park Seniors March Luncheon
DESCRIPTION:Playing for these lovely folks once again!
URL:https://merrymischief.net/events/melrose-park-seniors-march-luncheon/
LOCATION:NY
END:VEVENT
END:VCALENDAR