BEGIN:VCALENDAR
VERSION:2.0
PRODID:-//Merlyn Fuller and Merry Mischief - ECPv6.15.20//NONSGML v1.0//EN
CALSCALE:GREGORIAN
METHOD:PUBLISH
X-WR-CALNAME:Merlyn Fuller and Merry Mischief
X-ORIGINAL-URL:https://merrymischief.net
X-WR-CALDESC:Events for Merlyn Fuller and Merry Mischief
REFRESH-INTERVAL;VALUE=DURATION:PT1H
X-Robots-Tag:noindex
X-PUBLISHED-TTL:PT1H
BEGIN:VTIMEZONE
TZID:America/New_York
BEGIN:DAYLIGHT
TZOFFSETFROM:-0500
TZOFFSETTO:-0400
TZNAME:EDT
DTSTART:20230312T070000
END:DAYLIGHT
BEGIN:STANDARD
TZOFFSETFROM:-0400
TZOFFSETTO:-0500
TZNAME:EST
DTSTART:20231105T060000
END:STANDARD
BEGIN:DAYLIGHT
TZOFFSETFROM:-0500
TZOFFSETTO:-0400
TZNAME:EDT
DTSTART:20240310T070000
END:DAYLIGHT
BEGIN:STANDARD
TZOFFSETFROM:-0400
TZOFFSETTO:-0500
TZNAME:EST
DTSTART:20241103T060000
END:STANDARD
BEGIN:DAYLIGHT
TZOFFSETFROM:-0500
TZOFFSETTO:-0400
TZNAME:EDT
DTSTART:20250309T070000
END:DAYLIGHT
BEGIN:STANDARD
TZOFFSETFROM:-0400
TZOFFSETTO:-0500
TZNAME:EST
DTSTART:20251102T060000
END:STANDARD
END:VTIMEZONE
BEGIN:VEVENT
DTSTART;TZID=America/New_York:20240928T110000
DTEND;TZID=America/New_York:20240928T150000
DTSTAMP:20260424T093854
CREATED:20240815T153136Z
LAST-MODIFIED:20240815T153136Z
UID:1060-1727521200-1727535600@merrymischief.net
SUMMARY:Fall Fantasy Fest & Fan Fair!
DESCRIPTION:Merlyn will be back once again to play at this fun faire! \nShe plays 11am-Noon and again 2-3pm
URL:https://merrymischief.net/events/fall-fantasy-fest-fan-fair-2/
LOCATION:Fulton Polish Home\, 153 W. First South St. S.\, Fulton\, NY\, 13069
END:VEVENT
BEGIN:VEVENT
DTSTART;TZID=America/New_York:20240922T110000
DTEND;TZID=America/New_York:20240922T170000
DTSTAMP:20260424T093854
CREATED:20231220T153943Z
LAST-MODIFIED:20231220T153943Z
UID:927-1727002800-1727024400@merrymischief.net
SUMMARY:Mystic Merlyn's Cards & Curios Booth- Jordan Fall Fest
DESCRIPTION:
URL:https://merrymischief.net/events/mystic-merlyns-cards-curios-booth-jordan-fall-fest-3/
LOCATION:Jordan Fall Fest\, Chappel St.\, Jordan\, NY
END:VEVENT
BEGIN:VEVENT
DTSTART;TZID=America/New_York:20240921T100000
DTEND;TZID=America/New_York:20240921T210000
DTSTAMP:20260424T093854
CREATED:20231220T153828Z
LAST-MODIFIED:20231220T153829Z
UID:925-1726912800-1726952400@merrymischief.net
SUMMARY:Mystic Merlyn's Cards & Curios Booth- Jordan Fall Fest
DESCRIPTION:
URL:https://merrymischief.net/events/mystic-merlyns-cards-curios-booth-jordan-fall-fest-2/
LOCATION:Jordan Fall Fest\, Chappel St.\, Jordan\, NY
END:VEVENT
BEGIN:VEVENT
DTSTART;TZID=America/New_York:20240920T170000
DTEND;TZID=America/New_York:20240920T210000
DTSTAMP:20260424T093854
CREATED:20240210T183159Z
LAST-MODIFIED:20240210T183159Z
UID:969-1726851600-1726866000@merrymischief.net
SUMMARY:Jordan Fall Fest Mystic Merlyn Booth
DESCRIPTION:Card Readings and Curios!
URL:https://merrymischief.net/events/jordan-fall-fest-mystic-merlyn-booth/
LOCATION:Jordan Fall Fest\, Chappel St.\, Jordan\, NY
END:VEVENT
BEGIN:VEVENT
DTSTART;TZID=America/New_York:20240919T150000
DTEND;TZID=America/New_York:20240919T160000
DTSTAMP:20260424T093854
CREATED:20231116T213408Z
LAST-MODIFIED:20231116T213408Z
UID:832-1726758000-1726761600@merrymischief.net
SUMMARY:Westminister Manor
DESCRIPTION:Pirate and Sailing music for Talk Like A Pirate Day today for the residents!
URL:https://merrymischief.net/events/westminister-manor-4/
LOCATION:Westminister Manor\, 81 S. st.\, Auburn\, Ny\, 13021
END:VEVENT
BEGIN:VEVENT
DTSTART;TZID=America/New_York:20240914T100000
DTEND;TZID=America/New_York:20240914T170000
DTSTAMP:20260424T093854
CREATED:20240520T153805Z
LAST-MODIFIED:20240912T114409Z
UID:1033-1726308000-1726333200@merrymischief.net
SUMMARY:Fall Mystical Family Fun Day Festival- Sodus Center
DESCRIPTION:A metaphysical festival at  Sodus Center Fireman’s Field! \nMerlyn will be there with her booth of very interesting items! Come have a look around!\nEnjoy the autumn vibes!
URL:https://merrymischief.net/events/fall-mystical-family-fun-day-festival-sodus-center/
LOCATION:Sodus Firemans Field\, 48 Mill St\, Sodus\, NY
END:VEVENT
BEGIN:VEVENT
DTSTART;TZID=America/New_York:20240910T080000
DTEND;TZID=America/New_York:20240910T170000
DTSTAMP:20260424T093854
CREATED:20240312T202957Z
LAST-MODIFIED:20240312T202957Z
UID:999-1725955200-1725987600@merrymischief.net
SUMMARY:Camp Hollis Senior Camp Luncheon
DESCRIPTION:
URL:https://merrymischief.net/events/camp-hollis-senior-camp-luncheon/
LOCATION:Camp Hollis\, 40 Health Camp Rd\, Oswego\, NY
END:VEVENT
BEGIN:VEVENT
DTSTART;TZID=America/New_York:20240824T150000
DTEND;TZID=America/New_York:20240824T180000
DTSTAMP:20260424T093854
CREATED:20240311T185213Z
LAST-MODIFIED:20240311T185213Z
UID:989-1724511600-1724522400@merrymischief.net
SUMMARY:Annual Pirate Invasion @ Tiki Bar North!
DESCRIPTION:Merry Mischief Pirates Invade the Tiki Bar North again this year! \nPut on yer dudes mates and let out yer Inner Pirate!!
URL:https://merrymischief.net/events/annual-pirate-invasion-tiki-bar-north/
LOCATION:Tiki Bar North\, 401 Boodys Hill Rd\, Waterloo\, NY
END:VEVENT
BEGIN:VEVENT
DTSTART;TZID=America/New_York:20240824T100000
DTEND;TZID=America/New_York:20240824T120000
DTSTAMP:20260424T093854
CREATED:20240815T152110Z
LAST-MODIFIED:20240820T185151Z
UID:1050-1724493600-1724500800@merrymischief.net
SUMMARY:Fair Haven Pirate Fest! @ South Shore Artisans
DESCRIPTION:Merlyn will be entertaining with stories and songs here this morning 10am-Noon!
URL:https://merrymischief.net/events/south-shore-artisans/
LOCATION:South Shore Artisans\, 576 Main St\, Fair Haven\, NY
END:VEVENT
BEGIN:VEVENT
DTSTART;TZID=America/New_York:20240822T140000
DTEND;TZID=America/New_York:20240822T150000
DTSTAMP:20260424T093854
CREATED:20231220T152811Z
LAST-MODIFIED:20231220T152811Z
UID:919-1724335200-1724338800@merrymischief.net
SUMMARY:Fingerlakes Center for Living
DESCRIPTION:
URL:https://merrymischief.net/events/fingerlakes-center-for-living-11/
LOCATION:Fingerlakes Center for Living\, 20 Park Ave.\, Auburn\, NY\, 13021
END:VEVENT
BEGIN:VEVENT
DTSTART;TZID=America/New_York:20240818T100000
DTEND;TZID=America/New_York:20240818T190000
DTSTAMP:20260424T093854
CREATED:20231206T221106Z
LAST-MODIFIED:20231206T221106Z
UID:895-1723975200-1724007600@merrymischief.net
SUMMARY:Sterling Ren Faire
DESCRIPTION:
URL:https://merrymischief.net/events/sterling-ren-faire-23/
LOCATION:Sterling Ren Faire\, 15385 Farden Rd.\, Sterling\, NY
END:VEVENT
BEGIN:VEVENT
DTSTART;TZID=America/New_York:20240817T080000
DTEND;TZID=America/New_York:20240817T170000
DTSTAMP:20260424T093854
CREATED:20231206T221021Z
LAST-MODIFIED:20231206T221021Z
UID:893-1723881600-1723914000@merrymischief.net
SUMMARY:Sterling Ren Faire
DESCRIPTION:
URL:https://merrymischief.net/events/sterling-ren-faire-22/
LOCATION:Sterling Ren Faire\, 15385 Farden Rd.\, Sterling\, NY
END:VEVENT
BEGIN:VEVENT
DTSTART;TZID=America/New_York:20240811T100000
DTEND;TZID=America/New_York:20240811T190000
DTSTAMP:20260424T093854
CREATED:20231206T220939Z
LAST-MODIFIED:20231206T220939Z
UID:891-1723370400-1723402800@merrymischief.net
SUMMARY:Sterling Ren Faire
DESCRIPTION:
URL:https://merrymischief.net/events/sterling-ren-faire-21/
LOCATION:Sterling Ren Faire\, 15385 Farden Rd.\, Sterling\, NY
END:VEVENT
BEGIN:VEVENT
DTSTART;TZID=America/New_York:20240810T100000
DTEND;TZID=America/New_York:20240810T190000
DTSTAMP:20260424T093854
CREATED:20231206T220851Z
LAST-MODIFIED:20231206T220851Z
UID:889-1723284000-1723316400@merrymischief.net
SUMMARY:Sterling Ren Faire
DESCRIPTION:
URL:https://merrymischief.net/events/sterling-ren-faire-20/
LOCATION:Sterling Ren Faire\, 15385 Farden Rd.\, Sterling\, NY
END:VEVENT
BEGIN:VEVENT
DTSTART;TZID=America/New_York:20240809T120000
DTEND;TZID=America/New_York:20240809T150000
DTSTAMP:20260424T093854
CREATED:20231220T152608Z
LAST-MODIFIED:20231220T152608Z
UID:914-1723204800-1723215600@merrymischief.net
SUMMARY:Alex Bay Pirate Festival
DESCRIPTION:More info to come on Location!
URL:https://merrymischief.net/events/alex-bay-pirate-festival/
LOCATION:Alex Bay Pirate Fest\, Alexandria Bay\, NY
END:VEVENT
BEGIN:VEVENT
DTSTART;TZID=America/New_York:20240804T100000
DTEND;TZID=America/New_York:20240804T190000
DTSTAMP:20260424T093854
CREATED:20231206T220805Z
LAST-MODIFIED:20231206T220805Z
UID:887-1722765600-1722798000@merrymischief.net
SUMMARY:Sterling Ren Faire
DESCRIPTION:
URL:https://merrymischief.net/events/sterling-ren-faire-19/
LOCATION:Sterling Ren Faire\, 15385 Farden Rd.\, Sterling\, NY
END:VEVENT
BEGIN:VEVENT
DTSTART;TZID=America/New_York:20240803T100000
DTEND;TZID=America/New_York:20240803T190000
DTSTAMP:20260424T093854
CREATED:20231206T220716Z
LAST-MODIFIED:20231206T220716Z
UID:885-1722679200-1722711600@merrymischief.net
SUMMARY:Sterling Ren Faire
DESCRIPTION:
URL:https://merrymischief.net/events/sterling-ren-faire-18/
LOCATION:Sterling Ren Faire\, 15385 Farden Rd.\, Sterling\, NY
END:VEVENT
BEGIN:VEVENT
DTSTART;TZID=America/New_York:20240731T150000
DTEND;TZID=America/New_York:20240731T160000
DTSTAMP:20260424T093854
CREATED:20240312T202709Z
LAST-MODIFIED:20240312T202709Z
UID:997-1722438000-1722441600@merrymischief.net
SUMMARY:Adventure on the High Seas!
DESCRIPTION:
URL:https://merrymischief.net/events/adventure-on-the-high-seas/
LOCATION:Brewerton Library\, 5440 Bennett St\, Brewerton\, NY\, 13029
END:VEVENT
BEGIN:VEVENT
DTSTART;TZID=America/New_York:20240728T100000
DTEND;TZID=America/New_York:20240728T190000
DTSTAMP:20260424T093854
CREATED:20231206T220624Z
LAST-MODIFIED:20231206T220624Z
UID:883-1722160800-1722193200@merrymischief.net
SUMMARY:Sterling Ren Faire
DESCRIPTION:
URL:https://merrymischief.net/events/sterling-ren-faire-17/
LOCATION:Sterling Ren Faire\, 15385 Farden Rd.\, Sterling\, NY
END:VEVENT
BEGIN:VEVENT
DTSTART;TZID=America/New_York:20240727T100000
DTEND;TZID=America/New_York:20240727T190000
DTSTAMP:20260424T093854
CREATED:20231206T220422Z
LAST-MODIFIED:20231206T220422Z
UID:881-1722074400-1722106800@merrymischief.net
SUMMARY:Sterling Ren Faire
DESCRIPTION:
URL:https://merrymischief.net/events/sterling-ren-faire-16/
LOCATION:Sterling Ren Faire\, 15385 Farden Rd.\, Sterling\, NY
END:VEVENT
BEGIN:VEVENT
DTSTART;TZID=America/New_York:20240726T180000
DTEND;TZID=America/New_York:20240726T190000
DTSTAMP:20260424T093854
CREATED:20240312T202439Z
LAST-MODIFIED:20240312T202439Z
UID:994-1722016800-1722020400@merrymischief.net
SUMMARY:A Wizard in Olde England program
DESCRIPTION:
URL:https://merrymischief.net/events/a-wizard-in-olde-england-program/
LOCATION:Geneva Library\, 244 Main St\, Geneva\, NY
END:VEVENT
BEGIN:VEVENT
DTSTART;TZID=America/New_York:20240721T100000
DTEND;TZID=America/New_York:20240721T190000
DTSTAMP:20260424T093854
CREATED:20231206T220327Z
LAST-MODIFIED:20231206T220327Z
UID:879-1721556000-1721588400@merrymischief.net
SUMMARY:Sterling Ren Faire
DESCRIPTION:
URL:https://merrymischief.net/events/sterling-ren-faire-15/
LOCATION:Sterling Ren Faire\, 15385 Farden Rd.\, Sterling\, NY
END:VEVENT
BEGIN:VEVENT
DTSTART;TZID=America/New_York:20240720T100000
DTEND;TZID=America/New_York:20240720T190000
DTSTAMP:20260424T093854
CREATED:20231206T220239Z
LAST-MODIFIED:20231206T220239Z
UID:877-1721469600-1721502000@merrymischief.net
SUMMARY:Sterling Ren Faire
DESCRIPTION:
URL:https://merrymischief.net/events/sterling-ren-faire-14/
LOCATION:Sterling Ren Faire\, 15385 Farden Rd.\, Sterling\, NY
END:VEVENT
BEGIN:VEVENT
DTSTART;TZID=America/New_York:20240718T170000
DTEND;TZID=America/New_York:20240718T190000
DTSTAMP:20260424T093854
CREATED:20240529T182819Z
LAST-MODIFIED:20240529T182819Z
UID:1039-1721322000-1721329200@merrymischief.net
SUMMARY:Happy Hour with a Pirate and her Stories!
DESCRIPTION:Merlyn Mischief will be telling her tales and presenting her book “Up Yer Knicker Leg- A Piratess Tell All” for a unique and fun Happy Hour experience! Books will be available for purchase. $20 \nA salty tune or two may likely happen. Drinks all around!
URL:https://merrymischief.net/events/happy-hour-with-a-pirate-and-her-stories/
LOCATION:Sterling Cidery\, 14451 Richmond Ave\, Sterling\, NY
END:VEVENT
BEGIN:VEVENT
DTSTART;TZID=America/New_York:20240714T100000
DTEND;TZID=America/New_York:20240714T190000
DTSTAMP:20260424T093854
CREATED:20231206T215908Z
LAST-MODIFIED:20231206T215908Z
UID:875-1720951200-1720983600@merrymischief.net
SUMMARY:Sterling Renaissance Faire
DESCRIPTION:
URL:https://merrymischief.net/events/sterling-renaissance-faire/
LOCATION:Sterling Ren Faire\, 15385 Farden Rd.\, Sterling\, NY
END:VEVENT
BEGIN:VEVENT
DTSTART;TZID=America/New_York:20240713T100000
DTEND;TZID=America/New_York:20240713T190000
DTSTAMP:20260424T093854
CREATED:20231206T215815Z
LAST-MODIFIED:20231206T215815Z
UID:873-1720864800-1720897200@merrymischief.net
SUMMARY:Sterling Renaissance Festival
DESCRIPTION:
URL:https://merrymischief.net/events/sterling-renaissance-festival-4/
LOCATION:Sterling Ren Faire\, 15385 Farden Rd.\, Sterling\, NY
END:VEVENT
BEGIN:VEVENT
DTSTART;TZID=America/New_York:20240712T143000
DTEND;TZID=America/New_York:20240712T153000
DTSTAMP:20260424T093854
CREATED:20231206T215721Z
LAST-MODIFIED:20231206T215721Z
UID:871-1720794600-1720798200@merrymischief.net
SUMMARY:St. Camillus
DESCRIPTION:Old Country Music for the folks here today!
URL:https://merrymischief.net/events/st-camillus-4/
LOCATION:St. Camillus\, 813 Fay Rd\, Syracuse\, NY
END:VEVENT
BEGIN:VEVENT
DTSTART;TZID=America/New_York:20240711T190000
DTEND;TZID=America/New_York:20240711T210000
DTSTAMP:20260424T093854
CREATED:20240520T151837Z
LAST-MODIFIED:20240520T151837Z
UID:1023-1720724400-1720731600@merrymischief.net
SUMMARY:Stout Beard Brewing Company
DESCRIPTION:Merry Mischief (this night Merlyn Mischief & Stephen McSweeney) will be playing tunes from 7-9pm and this cool new brewery!\nCome taste some delicious brews and listen to a few tunes! It’s SUMMERTIME!
URL:https://merrymischief.net/events/stout-beard-brewing-company/
LOCATION:Stout Beard Brewing Co.\, 715 Old Liverpool Rd STE B1\, Liverpool\, NY\, 13088
END:VEVENT
BEGIN:VEVENT
DTSTART;TZID=America/New_York:20240707T100000
DTEND;TZID=America/New_York:20240707T190000
DTSTAMP:20260424T093854
CREATED:20231206T215609Z
LAST-MODIFIED:20231206T215609Z
UID:869-1720346400-1720378800@merrymischief.net
SUMMARY:Sterling Renaissance Festival
DESCRIPTION:
URL:https://merrymischief.net/events/sterling-renaissance-festival-3/
LOCATION:Sterling Ren Faire\, 15385 Farden Rd.\, Sterling\, NY
END:VEVENT
BEGIN:VEVENT
DTSTART;TZID=America/New_York:20240706T100000
DTEND;TZID=America/New_York:20240706T190000
DTSTAMP:20260424T093854
CREATED:20231206T215407Z
LAST-MODIFIED:20231206T215407Z
UID:867-1720260000-1720292400@merrymischief.net
SUMMARY:Sterling Renaissance Festival
DESCRIPTION:
URL:https://merrymischief.net/events/sterling-renaissance-festival-2/
LOCATION:Sterling Ren Faire\, 15385 Farden Rd.\, Sterling\, NY
END:VEVENT
END:VCALENDAR