BEGIN:VCALENDAR
VERSION:2.0
PRODID:-//Merlyn Fuller and Merry Mischief - ECPv6.15.20//NONSGML v1.0//EN
CALSCALE:GREGORIAN
METHOD:PUBLISH
X-WR-CALNAME:Merlyn Fuller and Merry Mischief
X-ORIGINAL-URL:https://merrymischief.net
X-WR-CALDESC:Events for Merlyn Fuller and Merry Mischief
REFRESH-INTERVAL;VALUE=DURATION:PT1H
X-Robots-Tag:noindex
X-PUBLISHED-TTL:PT1H
BEGIN:VTIMEZONE
TZID:America/New_York
BEGIN:DAYLIGHT
TZOFFSETFROM:-0500
TZOFFSETTO:-0400
TZNAME:EDT
DTSTART:20230312T070000
END:DAYLIGHT
BEGIN:STANDARD
TZOFFSETFROM:-0400
TZOFFSETTO:-0500
TZNAME:EST
DTSTART:20231105T060000
END:STANDARD
BEGIN:DAYLIGHT
TZOFFSETFROM:-0500
TZOFFSETTO:-0400
TZNAME:EDT
DTSTART:20240310T070000
END:DAYLIGHT
BEGIN:STANDARD
TZOFFSETFROM:-0400
TZOFFSETTO:-0500
TZNAME:EST
DTSTART:20241103T060000
END:STANDARD
BEGIN:DAYLIGHT
TZOFFSETFROM:-0500
TZOFFSETTO:-0400
TZNAME:EDT
DTSTART:20250309T070000
END:DAYLIGHT
BEGIN:STANDARD
TZOFFSETFROM:-0400
TZOFFSETTO:-0500
TZNAME:EST
DTSTART:20251102T060000
END:STANDARD
END:VTIMEZONE
BEGIN:VEVENT
DTSTART;TZID=America/New_York:20241216T130000
DTEND;TZID=America/New_York:20241216T140000
DTSTAMP:20260424T094145
CREATED:20241107T220254Z
LAST-MODIFIED:20241107T220254Z
UID:1166-1734354000-1734357600@merrymischief.net
SUMMARY:P.A.C.E.~ N. Syr.
DESCRIPTION:Merlyn performs holiday tunes for the folks here this day!
URL:https://merrymischief.net/events/p-a-c-e-n-syr/
LOCATION:Pace- Malta Lane\, 100 Malta Lane\, Syracuse\, NY\, 13212
END:VEVENT
BEGIN:VEVENT
DTSTART;TZID=America/New_York:20241215T130000
DTEND;TZID=America/New_York:20241215T170000
DTSTAMP:20260424T094145
CREATED:20240210T183630Z
LAST-MODIFIED:20240210T183630Z
UID:973-1734267600-1734282000@merrymischief.net
SUMMARY:Christmas at Lorenzo
DESCRIPTION:Visit with Santa & Mrs. Claus 🤶 🧑‍🎄
URL:https://merrymischief.net/events/christmas-at-lorenzo-2/
LOCATION:Lorenzo State Historic Site\, 17 Rippleton Road\, Cazenovia\, NY\, 13035
END:VEVENT
BEGIN:VEVENT
DTSTART;TZID=America/New_York:20241214T103000
DTEND;TZID=America/New_York:20241214T113000
DTSTAMP:20260424T094145
CREATED:20241002T192015Z
LAST-MODIFIED:20241002T192015Z
UID:1100-1734172200-1734175800@merrymischief.net
SUMMARY:Santa & Mrs Claus @ Moravia Library
DESCRIPTION:Singalong with Santa & Mrs Claus and then sit with Santa and give him your wishes for the holiday!\nA great family fun event!
URL:https://merrymischief.net/events/santa-mrs-claus-moravia-library-2/
LOCATION:Moravia Library\, 29 Church St.\, Moravia\, NY\, 13118
END:VEVENT
BEGIN:VEVENT
DTSTART;TZID=America/New_York:20241208T130000
DTEND;TZID=America/New_York:20241208T150000
DTSTAMP:20260424T094145
CREATED:20241219T153204Z
LAST-MODIFIED:20241219T153204Z
UID:1192-1733662800-1733670000@merrymischief.net
SUMMARY:Holiday Market @ Prison City Brewing!
DESCRIPTION:Santa & Mrs. Claus visit today from 1-3pm!
URL:https://merrymischief.net/events/holiday-market-prison-city-brewing/
LOCATION:Prison City Brewing\, 251 North St.\, Auburn\, NY\, 13021\, United States
END:VEVENT
BEGIN:VEVENT
DTSTART;TZID=America/New_York:20241208T080000
DTEND;TZID=America/New_York:20241208T110000
DTSTAMP:20260424T094145
CREATED:20231220T154147Z
LAST-MODIFIED:20231220T154147Z
UID:931-1733644800-1733655600@merrymischief.net
SUMMARY:Holiday Party for Widewaters
DESCRIPTION:
URL:https://merrymischief.net/events/holiday-party-for-widewaters/
LOCATION:The Craftsman Inn\, 7300 E Genesee Street\, Fayettevilee\, NY\, 13066
END:VEVENT
BEGIN:VEVENT
DTSTART;TZID=America/New_York:20241205T180000
DTEND;TZID=America/New_York:20241205T190000
DTSTAMP:20260424T094145
CREATED:20241002T190507Z
LAST-MODIFIED:20241002T190507Z
UID:1088-1733421600-1733425200@merrymischief.net
SUMMARY:Music in the Stacks~ Seymour Library
DESCRIPTION:Music in the Stacks: Sailing the High Seas with Merry Mischief   \nEnjoy an evening of music at Seymour Library with Merlyn Fuller of Merry Mischief. Take a musical adventure with seafaring songs\, shanties and tales of the high seas with this “theatrical musician” as she navigates music from the ages! No Life Preservers needed.
URL:https://merrymischief.net/events/music-in-the-stacks-seymour-library/
LOCATION:Seymour Library\, 176 Genesee St.\, Auburn\, NY\, 13021
END:VEVENT
BEGIN:VEVENT
DTSTART;TZID=America/New_York:20241130T170000
DTEND;TZID=America/New_York:20241130T190000
DTSTAMP:20260424T094145
CREATED:20241002T191823Z
LAST-MODIFIED:20241002T191823Z
UID:1098-1732986000-1732993200@merrymischief.net
SUMMARY:Santa & Mrs Claus~ Auburn Parade!
DESCRIPTION:Santa is coming to town in the Parade! Ho! Ho! Ho!
URL:https://merrymischief.net/events/santa-mrs-claus-auburn-parade/
LOCATION:Downtown Auburn NY
END:VEVENT
BEGIN:VEVENT
DTSTART;TZID=America/New_York:20241129T160000
DTEND;TZID=America/New_York:20241129T180000
DTSTAMP:20260424T094145
CREATED:20241002T191650Z
LAST-MODIFIED:20241002T191650Z
UID:1096-1732896000-1732903200@merrymischief.net
SUMMARY:Gingerbread Gallery @ Erie Canal Museum Syracuse
DESCRIPTION:Merry Mischief kicks off the holiday season with another fun Gingerbread Gallery season! \nWander the museum\, eat cookies\, drink hot cocoa\, listen to some Erie Canal and Christmas music while you judge the best Gingerbread creation here on display! Truly a delightful holiday tradition! This will be Merlyn’s 20th year here for this event!
URL:https://merrymischief.net/events/gingerbread-gallery-erie-canal-museum-syracuse-2/
LOCATION:Erie Canal Weighlock Museum\, 318 Erie Blvd East\, Syracuse\, NY\, 13202
END:VEVENT
BEGIN:VEVENT
DTSTART;TZID=America/New_York:20241128T000000
DTEND;TZID=America/New_York:20241128T233000
DTSTAMP:20260424T094145
CREATED:20241016T141953Z
LAST-MODIFIED:20241016T141953Z
UID:1156-1732752000-1732836600@merrymischief.net
SUMMARY:Happy Thanksgiving to You all!
DESCRIPTION:Many thanks from Merry Mischief to you and yours this Holiday Season!
URL:https://merrymischief.net/events/happy-thanksgiving-to-you-all/
LOCATION:NY
END:VEVENT
BEGIN:VEVENT
DTSTART;TZID=America/New_York:20241121T180000
DTEND;TZID=America/New_York:20241121T200000
DTSTAMP:20260424T094145
CREATED:20241107T215211Z
LAST-MODIFIED:20241107T215211Z
UID:1158-1732212000-1732219200@merrymischief.net
SUMMARY:Jordan Library Music Night!
DESCRIPTION:Free event for YOU and the community by Merry Mischief & Friends!
URL:https://merrymischief.net/events/jordan-library-music-night/
LOCATION:Jordan Library\, 15 Mechanic St\, Jordan\, NY\, 13080\, United States
END:VEVENT
BEGIN:VEVENT
DTSTART;TZID=America/New_York:20241108T120000
DTEND;TZID=America/New_York:20241108T160000
DTSTAMP:20260424T094145
CREATED:20241002T191209Z
LAST-MODIFIED:20241107T215916Z
UID:1094-1731067200-1731081600@merrymischief.net
SUMMARY:Craft Show @ Nottingham Retirement Residential
DESCRIPTION:
URL:https://merrymischief.net/events/craft-show-nottingham-retirement-residential/
LOCATION:Nottingham Center\, 1301 Nottingham Road\, Jamesville\, NY
END:VEVENT
BEGIN:VEVENT
DTSTART;TZID=America/New_York:20241102T110000
DTEND;TZID=America/New_York:20241102T150000
DTSTAMP:20260424T094145
CREATED:20240815T153558Z
LAST-MODIFIED:20240815T153558Z
UID:1062-1730545200-1730559600@merrymischief.net
SUMMARY:Author Day - Seymour Library
DESCRIPTION:
URL:https://merrymischief.net/events/author-day-seymour-library/
LOCATION:Seymour Library\, 176 Genesee St.\, Auburn\, NY\, 13021
END:VEVENT
BEGIN:VEVENT
DTSTART;TZID=America/New_York:20241101T160000
DTEND;TZID=America/New_York:20241101T170000
DTSTAMP:20260424T094145
CREATED:20240919T170503Z
LAST-MODIFIED:20240919T170503Z
UID:1082-1730476800-1730480400@merrymischief.net
SUMMARY:Pirate Show! Bluefield Manor
DESCRIPTION:YARR!\nPirate songs\, shanties and tales here this day for the seniors!
URL:https://merrymischief.net/events/pirate-show-bluefield-manor/
LOCATION:Bluefield Manor\, 516 Bluefield Rd.\, Auburn\, NY
END:VEVENT
BEGIN:VEVENT
DTSTART;TZID=America/New_York:20241031T190000
DTEND;TZID=America/New_York:20241031T210000
DTSTAMP:20260424T094145
CREATED:20241016T141724Z
LAST-MODIFIED:20241016T141724Z
UID:1154-1730401200-1730408400@merrymischief.net
SUMMARY:Raven Haven Haunt~ Mystic Merlyn's Card Readings
DESCRIPTION:Readings $30 this night at the The Haunt from 7-9pm
URL:https://merrymischief.net/events/raven-haven-haunt-mystic-merlyns-card-readings-3/
LOCATION:Raven Haven\, 7475 Thunderbird Rd.\, Liverpool\, NY
END:VEVENT
BEGIN:VEVENT
DTSTART;TZID=America/New_York:20241031T143000
DTEND;TZID=America/New_York:20241031T153000
DTSTAMP:20260424T094145
CREATED:20231206T221531Z
LAST-MODIFIED:20231206T221531Z
UID:901-1730385000-1730388600@merrymischief.net
SUMMARY:St. Camillus
DESCRIPTION:Merlyn has been asked back to do her “Spooky Tunes & Murder Ballads Halloween Hat Show” once again! 🙂
URL:https://merrymischief.net/events/st-camillus-5/
LOCATION:St. Camillus\, 813 Fay Rd\, Syracuse\, NY
END:VEVENT
BEGIN:VEVENT
DTSTART;TZID=America/New_York:20241028T130000
DTEND;TZID=America/New_York:20241028T170000
DTSTAMP:20260424T094145
CREATED:20241002T191105Z
LAST-MODIFIED:20241002T191105Z
UID:1092-1730120400-1730134800@merrymischief.net
SUMMARY:P.A.C.E. ~ Malta Lane
DESCRIPTION:
URL:https://merrymischief.net/events/p-a-c-e-malta-lane/
LOCATION:Pace- Malta Lane\, 100 Malta Lane\, Syracuse\, NY\, 13212
END:VEVENT
BEGIN:VEVENT
DTSTART;TZID=America/New_York:20241026T190000
DTEND;TZID=America/New_York:20241026T210000
DTSTAMP:20260424T094145
CREATED:20241016T141624Z
LAST-MODIFIED:20241016T141624Z
UID:1152-1729969200-1729976400@merrymischief.net
SUMMARY:Raven Haven Haunt~ Mystic Merlyn's Card Readings
DESCRIPTION:Readings $30 this night at the The Haunt from 7-9pm
URL:https://merrymischief.net/events/raven-haven-haunt-mystic-merlyns-card-readings-2/
LOCATION:Raven Haven\, 7475 Thunderbird Rd.\, Liverpool\, NY
END:VEVENT
BEGIN:VEVENT
DTSTART;TZID=America/New_York:20241025T190000
DTEND;TZID=America/New_York:20241025T210000
DTSTAMP:20260424T094145
CREATED:20241016T141521Z
LAST-MODIFIED:20241016T141521Z
UID:1150-1729882800-1729890000@merrymischief.net
SUMMARY:Raven Haven Haunt~ Mystic Merlyn's Card Readings
DESCRIPTION:Readings $30 this night at the The Haunt from 7-9pm
URL:https://merrymischief.net/events/raven-haven-haunt-mystic-merlyns-card-readings/
LOCATION:Raven Haven\, 7475 Thunderbird Rd.\, Liverpool\, NY
END:VEVENT
BEGIN:VEVENT
DTSTART;TZID=America/New_York:20241022T190000
DTEND;TZID=America/New_York:20241022T200000
DTSTAMP:20260424T094145
CREATED:20240520T154135Z
LAST-MODIFIED:20240520T154135Z
UID:1036-1729623600-1729627200@merrymischief.net
SUMMARY:Spooky Tunes & Murder Ballads Halloween Hat Show!
DESCRIPTION:
URL:https://merrymischief.net/events/spooky-tunes-murder-ballads-halloween-hat-show/
LOCATION:Nottingham Center\, 1301 Nottingham Road\, Jamesville\, NY
END:VEVENT
BEGIN:VEVENT
DTSTART;TZID=America/New_York:20241018T190000
DTEND;TZID=America/New_York:20241018T210000
DTSTAMP:20260424T094145
CREATED:20241016T141417Z
LAST-MODIFIED:20241016T141417Z
UID:1148-1729278000-1729285200@merrymischief.net
SUMMARY:Raven Haven Haunt~ Mystic Merlyn Card Readings
DESCRIPTION:Readings $30 this night at the The Haunt from 7-9pm
URL:https://merrymischief.net/events/raven-haven-haunt-mystic-merlyn-card-readings/
LOCATION:Raven Haven\, 7475 Thunderbird Rd.\, Liverpool\, NY
END:VEVENT
BEGIN:VEVENT
DTSTART;TZID=America/New_York:20241018T130000
DTEND;TZID=America/New_York:20241018T140000
DTSTAMP:20260424T094145
CREATED:20241002T191007Z
LAST-MODIFIED:20241002T191007Z
UID:1090-1729256400-1729260000@merrymischief.net
SUMMARY:P.A.C.E. ~ Creek Circle
DESCRIPTION:
URL:https://merrymischief.net/events/p-a-c-e-creek-circle/
LOCATION:PACE- Circle Creek\, 115 Circle Creek\, E. Syracuse\, NY\, 13057
END:VEVENT
BEGIN:VEVENT
DTSTART;TZID=America/New_York:20241017T140000
DTEND;TZID=America/New_York:20241017T150000
DTSTAMP:20260424T094145
CREATED:20231220T154048Z
LAST-MODIFIED:20231220T154048Z
UID:929-1729173600-1729177200@merrymischief.net
SUMMARY:Fingerlakes Center for Living
DESCRIPTION:
URL:https://merrymischief.net/events/fingerlakes-center-for-living-12/
LOCATION:Fingerlakes Center for Living\, 20 Park Ave.\, Auburn\, NY\, 13021
END:VEVENT
BEGIN:VEVENT
DTSTART;TZID=America/New_York:20241012T120000
DTEND;TZID=America/New_York:20241012T160000
DTSTAMP:20260424T094145
CREATED:20231206T221359Z
LAST-MODIFIED:20231206T221359Z
UID:899-1728734400-1728748800@merrymischief.net
SUMMARY:Fairy Fest at Baltimore Woods
DESCRIPTION:Tom & Merlyn playing music to make wee children dance in the Woods like Fairies!
URL:https://merrymischief.net/events/fairy-fest-at-baltimore-woods-2/
LOCATION:Baltimore Woods\, 4007 Bishop Hill Rd\, Marcellus\, NY
END:VEVENT
BEGIN:VEVENT
DTSTART;TZID=America/New_York:20241007T120000
DTEND;TZID=America/New_York:20241007T170000
DTSTAMP:20260424T094145
CREATED:20240210T183404Z
LAST-MODIFIED:20240210T183404Z
UID:971-1728302400-1728320400@merrymischief.net
SUMMARY:Wedding Officiate for Mark & Kathryn
DESCRIPTION:
URL:https://merrymischief.net/events/wedding-officiate-for-mark-kathryn/
LOCATION:NY
END:VEVENT
BEGIN:VEVENT
DTSTART;TZID=America/New_York:20240928T110000
DTEND;TZID=America/New_York:20240928T150000
DTSTAMP:20260424T094145
CREATED:20240815T153136Z
LAST-MODIFIED:20240815T153136Z
UID:1060-1727521200-1727535600@merrymischief.net
SUMMARY:Fall Fantasy Fest & Fan Fair!
DESCRIPTION:Merlyn will be back once again to play at this fun faire! \nShe plays 11am-Noon and again 2-3pm
URL:https://merrymischief.net/events/fall-fantasy-fest-fan-fair-2/
LOCATION:Fulton Polish Home\, 153 W. First South St. S.\, Fulton\, NY\, 13069
END:VEVENT
BEGIN:VEVENT
DTSTART;TZID=America/New_York:20240922T110000
DTEND;TZID=America/New_York:20240922T170000
DTSTAMP:20260424T094145
CREATED:20231220T153943Z
LAST-MODIFIED:20231220T153943Z
UID:927-1727002800-1727024400@merrymischief.net
SUMMARY:Mystic Merlyn's Cards & Curios Booth- Jordan Fall Fest
DESCRIPTION:
URL:https://merrymischief.net/events/mystic-merlyns-cards-curios-booth-jordan-fall-fest-3/
LOCATION:Jordan Fall Fest\, Chappel St.\, Jordan\, NY
END:VEVENT
BEGIN:VEVENT
DTSTART;TZID=America/New_York:20240921T100000
DTEND;TZID=America/New_York:20240921T210000
DTSTAMP:20260424T094145
CREATED:20231220T153828Z
LAST-MODIFIED:20231220T153829Z
UID:925-1726912800-1726952400@merrymischief.net
SUMMARY:Mystic Merlyn's Cards & Curios Booth- Jordan Fall Fest
DESCRIPTION:
URL:https://merrymischief.net/events/mystic-merlyns-cards-curios-booth-jordan-fall-fest-2/
LOCATION:Jordan Fall Fest\, Chappel St.\, Jordan\, NY
END:VEVENT
BEGIN:VEVENT
DTSTART;TZID=America/New_York:20240920T170000
DTEND;TZID=America/New_York:20240920T210000
DTSTAMP:20260424T094145
CREATED:20240210T183159Z
LAST-MODIFIED:20240210T183159Z
UID:969-1726851600-1726866000@merrymischief.net
SUMMARY:Jordan Fall Fest Mystic Merlyn Booth
DESCRIPTION:Card Readings and Curios!
URL:https://merrymischief.net/events/jordan-fall-fest-mystic-merlyn-booth/
LOCATION:Jordan Fall Fest\, Chappel St.\, Jordan\, NY
END:VEVENT
BEGIN:VEVENT
DTSTART;TZID=America/New_York:20240919T150000
DTEND;TZID=America/New_York:20240919T160000
DTSTAMP:20260424T094145
CREATED:20231116T213408Z
LAST-MODIFIED:20231116T213408Z
UID:832-1726758000-1726761600@merrymischief.net
SUMMARY:Westminister Manor
DESCRIPTION:Pirate and Sailing music for Talk Like A Pirate Day today for the residents!
URL:https://merrymischief.net/events/westminister-manor-4/
LOCATION:Westminister Manor\, 81 S. st.\, Auburn\, Ny\, 13021
END:VEVENT
BEGIN:VEVENT
DTSTART;TZID=America/New_York:20240914T100000
DTEND;TZID=America/New_York:20240914T170000
DTSTAMP:20260424T094145
CREATED:20240520T153805Z
LAST-MODIFIED:20240912T114409Z
UID:1033-1726308000-1726333200@merrymischief.net
SUMMARY:Fall Mystical Family Fun Day Festival- Sodus Center
DESCRIPTION:A metaphysical festival at  Sodus Center Fireman’s Field! \nMerlyn will be there with her booth of very interesting items! Come have a look around!\nEnjoy the autumn vibes!
URL:https://merrymischief.net/events/fall-mystical-family-fun-day-festival-sodus-center/
LOCATION:Sodus Firemans Field\, 48 Mill St\, Sodus\, NY
END:VEVENT
END:VCALENDAR