BEGIN:VCALENDAR
VERSION:2.0
PRODID:-//Merlyn Fuller and Merry Mischief - ECPv6.15.20//NONSGML v1.0//EN
CALSCALE:GREGORIAN
METHOD:PUBLISH
X-WR-CALNAME:Merlyn Fuller and Merry Mischief
X-ORIGINAL-URL:https://merrymischief.net
X-WR-CALDESC:Events for Merlyn Fuller and Merry Mischief
REFRESH-INTERVAL;VALUE=DURATION:PT1H
X-Robots-Tag:noindex
X-PUBLISHED-TTL:PT1H
BEGIN:VTIMEZONE
TZID:America/New_York
BEGIN:DAYLIGHT
TZOFFSETFROM:-0500
TZOFFSETTO:-0400
TZNAME:EDT
DTSTART:20220313T070000
END:DAYLIGHT
BEGIN:STANDARD
TZOFFSETFROM:-0400
TZOFFSETTO:-0500
TZNAME:EST
DTSTART:20221106T060000
END:STANDARD
BEGIN:DAYLIGHT
TZOFFSETFROM:-0500
TZOFFSETTO:-0400
TZNAME:EDT
DTSTART:20230312T070000
END:DAYLIGHT
BEGIN:STANDARD
TZOFFSETFROM:-0400
TZOFFSETTO:-0500
TZNAME:EST
DTSTART:20231105T060000
END:STANDARD
BEGIN:DAYLIGHT
TZOFFSETFROM:-0500
TZOFFSETTO:-0400
TZNAME:EDT
DTSTART:20240310T070000
END:DAYLIGHT
BEGIN:STANDARD
TZOFFSETFROM:-0400
TZOFFSETTO:-0500
TZNAME:EST
DTSTART:20241103T060000
END:STANDARD
END:VTIMEZONE
BEGIN:VEVENT
DTSTART;TZID=America/New_York:20231029T103000
DTEND;TZID=America/New_York:20231029T113000
DTSTAMP:20260425T083807
CREATED:20231006T161041Z
LAST-MODIFIED:20231006T161041Z
UID:820-1698575400-1698579000@merrymischief.net
SUMMARY:Samhain Music at Auburn Unitarian Universalist
DESCRIPTION:Merry Mischief Music with Merlyn Mischief and Jon Anderson to celebrate the Samhain season!
URL:https://merrymischief.net/events/samhain-music-at-auburn-unitarian-universalist/
LOCATION:Auburn UU\, 607 N. Seward Ave\, Auburn\, NY
END:VEVENT
BEGIN:VEVENT
DTSTART;TZID=America/New_York:20231028T190000
DTEND;TZID=America/New_York:20231028T210000
DTSTAMP:20260425T083807
CREATED:20231006T160727Z
LAST-MODIFIED:20231006T160727Z
UID:818-1698519600-1698526800@merrymischief.net
SUMMARY:Private Halloween Party Music!
DESCRIPTION:
URL:https://merrymischief.net/events/private-halloween-party-music/
LOCATION:Ny
END:VEVENT
BEGIN:VEVENT
DTSTART;TZID=America/New_York:20231027T190000
DTEND;TZID=America/New_York:20231027T210000
DTSTAMP:20260425T083807
CREATED:20231006T160629Z
LAST-MODIFIED:20231006T161150Z
UID:816-1698433200-1698440400@merrymischief.net
SUMMARY:Card Readings at Raven Haven Haunt!
DESCRIPTION:Merlyn Mischief is back again this year at Raven Haven Haunted House!\nEnjoy your Halloween Fun at the Haunt (both Kooky and Spooky adventures here to be found for all ages and desires) and get a reading while you wait for your friends or family! \n$25 per 15 minute reading!
URL:https://merrymischief.net/events/card-readings-at-raven-haven-haunt/
LOCATION:Raven Haven\, 7475 Thunderbird Rd.\, Liverpool\, NY
END:VEVENT
BEGIN:VEVENT
DTSTART;TZID=America/New_York:20231021T190000
DTEND;TZID=America/New_York:20231021T210000
DTSTAMP:20260425T083807
CREATED:20230828T184306Z
LAST-MODIFIED:20230828T184306Z
UID:783-1697914800-1697922000@merrymischief.net
SUMMARY:Brit Brew Fest @Sager Brewery
DESCRIPTION:Merlyn Mischief and Kissy ( Kristen Baskewicz) will be playing some Celtic tunes and dri king songs for this fun event!\ncome have a pint or 3!
URL:https://merrymischief.net/events/brit-brew-fest-sager-brewery/
LOCATION:Sager Pub\, 46 Sager Dr. Suite E\, Rochester\, NY
END:VEVENT
BEGIN:VEVENT
DTSTART;TZID=America/New_York:20231021T130000
DTEND;TZID=America/New_York:20231021T150000
DTSTAMP:20260425T083807
CREATED:20230828T184003Z
LAST-MODIFIED:20230828T184003Z
UID:780-1697893200-1697900400@merrymischief.net
SUMMARY:Halfshire Folk Music Festival
DESCRIPTION:Merry Mischief ( Merlyn Mischief & fiddler John Harnois) will be playing at this event today from 1-3pm \n 
URL:https://merrymischief.net/events/halfshire-folk-music-festival/
LOCATION:Halfshire Historical Museum\, 1100 Co. Rt. 48\, Richland\, NY
END:VEVENT
BEGIN:VEVENT
DTSTART;TZID=America/New_York:20231020T160000
DTEND;TZID=America/New_York:20231020T170000
DTSTAMP:20260425T083807
CREATED:20231003T181923Z
LAST-MODIFIED:20231003T181948Z
UID:813-1697817600-1697821200@merrymischief.net
SUMMARY:Westminister Manor Halloween Happy Hour!
DESCRIPTION:Some Halloween Fun for the folks here!
URL:https://merrymischief.net/events/westminister-manor-halloween-happy-hour/
LOCATION:Westminister Manor\, 81 S. st.\, Auburn\, Ny\, 13021
END:VEVENT
BEGIN:VEVENT
DTSTART;TZID=America/New_York:20231019T140000
DTEND;TZID=America/New_York:20231019T150000
DTSTAMP:20260425T083807
CREATED:20221226T190033Z
LAST-MODIFIED:20221226T190033Z
UID:687-1697724000-1697727600@merrymischief.net
SUMMARY:Fingerlakes Center for Living
DESCRIPTION:
URL:https://merrymischief.net/events/fingerlakes-center-for-living-6/
LOCATION:Fingerlakes Center for Living\, 20 Park Ave.\, Auburn\, NY\, 13021
END:VEVENT
BEGIN:VEVENT
DTSTART;TZID=America/New_York:20231018T110000
DTEND;TZID=America/New_York:20231018T120000
DTSTAMP:20260425T083807
CREATED:20230912T134646Z
LAST-MODIFIED:20230912T134646Z
UID:796-1697626800-1697630400@merrymischief.net
SUMMARY:Halloween Music for Sennett Seniors Party Luncheon
DESCRIPTION:Merlyn Mischief brings her Halloween Hat Show to this fun group of Seniors again!
URL:https://merrymischief.net/events/halloween-music-for-sennett-seniors-party-luncheon/
LOCATION:Sennett Fire House\, 3526 Franklin St. Rd.\, Auburn\, NY
END:VEVENT
BEGIN:VEVENT
DTSTART;TZID=America/New_York:20231014T120000
DTEND;TZID=America/New_York:20231014T160000
DTSTAMP:20260425T083807
CREATED:20230126T154916Z
LAST-MODIFIED:20231006T165758Z
UID:714-1697284800-1697299200@merrymischief.net
SUMMARY:Fairy Fest at Baltimore Woods!
DESCRIPTION:Merry Mischief is back once again at this great event in the woods!\nAdvance registration is required – \nsurf to BaltimoreWoods.org to register
URL:https://merrymischief.net/events/fairy-fest-at-baltimore-woods/
LOCATION:Baltimore Woods\, 4007 Bishop Hill Rd\, Marcellus\, NY
END:VEVENT
BEGIN:VEVENT
DTSTART;TZID=America/New_York:20231013T180000
DTEND;TZID=America/New_York:20231013T210000
DTSTAMP:20260425T083807
CREATED:20230926T143829Z
LAST-MODIFIED:20230926T143829Z
UID:807-1697220000-1697230800@merrymischief.net
SUMMARY:Shep’s Brewing - Spooky Tunes
DESCRIPTION:Merry Mischief ( tonight Merlyn Mischief & John Harnois) doing some Spooky Tunes & Murder Ballads… \nwith Pints 🙂
URL:https://merrymischief.net/events/sheps-brewing-spooky-tunes/
LOCATION:Shepherd Brewing Company\, 132 Genesee St\, Auburn\, NY\, 13021
END:VEVENT
BEGIN:VEVENT
DTSTART;TZID=America/New_York:20230924T130000
DTEND;TZID=America/New_York:20230924T160000
DTSTAMP:20260425T083807
CREATED:20230811T222349Z
LAST-MODIFIED:20230811T222349Z
UID:771-1695560400-1695571200@merrymischief.net
SUMMARY:Community Day @ Rippleton Schoolhouse-Lorenzo State Historic Park
DESCRIPTION:It’s a kids and family event and Merry Mischief will be playing lively music from the late 1800s into the 1900s (or just kid-friendly music!).  We will be playing outside under a tent! \nCome enjoy the fall weather and some Old Timey Music with Merlyn Mischief & Tom Meier!
URL:https://merrymischief.net/events/community-day-rippleton-schoolhouse-lorenzo-state-historic-park/
LOCATION:Lorenzo State Historic Site\, 17 Rippleton Road\, Cazenovia\, NY\, 13035
END:VEVENT
BEGIN:VEVENT
DTSTART;TZID=America/New_York:20230923T100000
DTEND;TZID=America/New_York:20230923T180000
DTSTAMP:20260425T083807
CREATED:20230316T143202Z
LAST-MODIFIED:20230316T143202Z
UID:744-1695463200-1695492000@merrymischief.net
SUMMARY:Fall Fantasy Fest
DESCRIPTION:In Fulton! \nGreat music and vendors and fun!
URL:https://merrymischief.net/events/fall-fantasy-fest/
LOCATION:Fulton Fall Fantasy Fest\, 554 S. 1st St\, Fulton\, Ny
END:VEVENT
BEGIN:VEVENT
DTSTART;TZID=America/New_York:20230920T110000
DTEND;TZID=America/New_York:20230920T120000
DTSTAMP:20260425T083807
CREATED:20230412T144235Z
LAST-MODIFIED:20230412T144235Z
UID:755-1695207600-1695211200@merrymischief.net
SUMMARY:Canton Woods Senior Luncheon
DESCRIPTION:
URL:https://merrymischief.net/events/canton-woods-senior-luncheon/
LOCATION:Canton Woods\, 76 Canton Woods\, Baldwinsville\, NY
END:VEVENT
BEGIN:VEVENT
DTSTART;TZID=America/New_York:20230917T110000
DTEND;TZID=America/New_York:20230917T170000
DTSTAMP:20260425T083807
CREATED:20221129T215634Z
LAST-MODIFIED:20221129T215634Z
UID:659-1694948400-1694970000@merrymischief.net
SUMMARY:Jordan Fall Fest
DESCRIPTION:
URL:https://merrymischief.net/events/jordan-fall-fest/
LOCATION:Jordan Fall Fest\, Chappel St.\, Jordan\, NY
END:VEVENT
BEGIN:VEVENT
DTSTART;TZID=America/New_York:20230916T100000
DTEND;TZID=America/New_York:20230916T210000
DTSTAMP:20260425T083807
CREATED:20221129T215550Z
LAST-MODIFIED:20221129T215550Z
UID:657-1694858400-1694898000@merrymischief.net
SUMMARY:Jordan Fall Fest- Mysti Merlyn Card Readings
DESCRIPTION:
URL:https://merrymischief.net/events/jordan-fall-fest-mysti-merlyn-card-readings/
LOCATION:Jordan Fall Fest\, Chappel St.\, Jordan\, NY
END:VEVENT
BEGIN:VEVENT
DTSTART;TZID=America/New_York:20230915T170000
DTEND;TZID=America/New_York:20230915T210000
DTSTAMP:20260425T083807
CREATED:20221129T215451Z
LAST-MODIFIED:20221129T215451Z
UID:654-1694797200-1694811600@merrymischief.net
SUMMARY:Jordan Fall Fest- Mystic Merlyn Card Readings
DESCRIPTION:Mystic Merlyn Card Reading Booth \nMerlyn on Friday & Sunday \nMeddy & Jeff Jacques on Saturday
URL:https://merrymischief.net/events/jordan-fall-fest-mystic-merlyn-card-readings/
LOCATION:Jordan Fall Fest\, Chappel St.\, Jordan\, NY
END:VEVENT
BEGIN:VEVENT
DTSTART;TZID=America/New_York:20230906T150000
DTEND;TZID=America/New_York:20230906T160000
DTSTAMP:20260425T083807
CREATED:20230912T132829Z
LAST-MODIFIED:20230912T132829Z
UID:786-1694012400-1694016000@merrymischief.net
SUMMARY:Boyle Center Senior Entertainment
DESCRIPTION:Back again to perform for these lovely folks! They singalong!
URL:https://merrymischief.net/events/boyle-center-senior-entertainment/
LOCATION:Boyle Center\, 149 Genesee St.\, Auburn\, NY
END:VEVENT
BEGIN:VEVENT
DTSTART;TZID=America/New_York:20230902T100000
DTEND;TZID=America/New_York:20230902T180000
DTSTAMP:20260425T083807
CREATED:20230126T154641Z
LAST-MODIFIED:20230126T154641Z
UID:711-1693648800-1693677600@merrymischief.net
SUMMARY:Upstate Renaissance Festival! NEW!
DESCRIPTION:Merry Mischief (Merlyn Mischief & Tom O’Bedlam) will be here on Opening Day of this new ren faire! \nFind us there as wandering minstrels….or is that….meandering wastrels? \nMore info to come!
URL:https://merrymischief.net/events/upstate-renaissance-festival-new/
LOCATION:Upstate Renaissance Faire\, Norwich\, NY
END:VEVENT
BEGIN:VEVENT
DTSTART;TZID=America/New_York:20230829T173000
DTEND;TZID=America/New_York:20230829T193000
DTSTAMP:20260425T083807
CREATED:20230811T222817Z
LAST-MODIFIED:20230811T222817Z
UID:773-1693330200-1693337400@merrymischief.net
SUMMARY:Celtic Night in Jordan- Veteran's Memorial Park
DESCRIPTION:Lots of Free Entertainment starting at 5:3-7:30pm \nThe Choraliers\, Irish Step Dancers\, Merry Mischief and Pipe Band music! \nFood available. Bring your lawn chair and enjoy a lovely summer evening of Celtic fun!
URL:https://merrymischief.net/events/celtic-night-in-jordan-veterans-memorial-park/
LOCATION:Jordan Veterans Park\, N. Main St.\, Jordan\, NY
END:VEVENT
BEGIN:VEVENT
DTSTART;TZID=America/New_York:20230826T170000
DTEND;TZID=America/New_York:20230826T200000
DTSTAMP:20260425T083807
CREATED:20230714T122938Z
LAST-MODIFIED:20230821T151333Z
UID:764-1693069200-1693080000@merrymischief.net
SUMMARY:Pirate Invasion @ Tiki Bar North!
DESCRIPTION:YARRR!\nWe be back again t’ set anchor at this fun pub on the water!\nPiratical music from us (“Sailor O’ Fortune”\,  “Fishbait Fill” and “Mz. Mizzenmast”) and lip smacking Adult beverages  and grilled repast from the Tiki Bar! \nSail o’er and have a few pints w’ us\, mates!
URL:https://merrymischief.net/events/pirate-invasion-tiki-bar-north/
LOCATION:Tiki Bar North\, 401 Boodys Hill Rd\, Waterloo\, NY
END:VEVENT
BEGIN:VEVENT
DTSTART;TZID=America/New_York:20230817T080000
DTEND;TZID=America/New_York:20230817T170000
DTSTAMP:20260425T083807
CREATED:20221226T185816Z
LAST-MODIFIED:20221226T185816Z
UID:685-1692259200-1692291600@merrymischief.net
SUMMARY:Fingerlakes Center for Living
DESCRIPTION:
URL:https://merrymischief.net/events/fingerlakes-center-for-living-5/
LOCATION:Fingerlakes Center for Living\, 20 Park Ave.\, Auburn\, NY\, 13021
END:VEVENT
BEGIN:VEVENT
DTSTART;TZID=America/New_York:20230813T100000
DTEND;TZID=America/New_York:20230813T190000
DTSTAMP:20260425T083807
CREATED:20221129T214800Z
LAST-MODIFIED:20221129T214800Z
UID:649-1691920800-1691953200@merrymischief.net
SUMMARY:Sterling Ren Faire
DESCRIPTION:
URL:https://merrymischief.net/events/sterling-ren-faire-13/
LOCATION:Sterling Ren Faire\, 15385 Farden Rd.\, Sterling\, NY
END:VEVENT
BEGIN:VEVENT
DTSTART;TZID=America/New_York:20230812T100000
DTEND;TZID=America/New_York:20230812T190000
DTSTAMP:20260425T083807
CREATED:20221129T214705Z
LAST-MODIFIED:20221129T214705Z
UID:647-1691834400-1691866800@merrymischief.net
SUMMARY:Sterling Ren Faire
DESCRIPTION:
URL:https://merrymischief.net/events/sterling-ren-faire-12/
LOCATION:Sterling Ren Faire\, 15385 Farden Rd.\, Sterling\, NY
END:VEVENT
BEGIN:VEVENT
DTSTART;TZID=America/New_York:20230806T100000
DTEND;TZID=America/New_York:20230806T190000
DTSTAMP:20260425T083807
CREATED:20221129T214613Z
LAST-MODIFIED:20221129T214613Z
UID:645-1691316000-1691348400@merrymischief.net
SUMMARY:Sterling Ren Faire
DESCRIPTION:
URL:https://merrymischief.net/events/sterling-ren-faire-11/
LOCATION:Sterling Ren Faire\, 15385 Farden Rd.\, Sterling\, NY
END:VEVENT
BEGIN:VEVENT
DTSTART;TZID=America/New_York:20230805T100000
DTEND;TZID=America/New_York:20230805T190000
DTSTAMP:20260425T083807
CREATED:20221129T214526Z
LAST-MODIFIED:20221129T214526Z
UID:643-1691229600-1691262000@merrymischief.net
SUMMARY:Sterling Ren Faire
DESCRIPTION:
URL:https://merrymischief.net/events/sterling-ren-faire-10/
LOCATION:Sterling Ren Faire\, 15385 Farden Rd.\, Sterling\, NY
END:VEVENT
BEGIN:VEVENT
DTSTART;TZID=America/New_York:20230730T100000
DTEND;TZID=America/New_York:20230730T190000
DTSTAMP:20260425T083807
CREATED:20221129T214145Z
LAST-MODIFIED:20221129T214145Z
UID:640-1690711200-1690743600@merrymischief.net
SUMMARY:Sterling Ren Faire
DESCRIPTION:
URL:https://merrymischief.net/events/sterling-ren-faire-9/
LOCATION:Sterling Ren Faire\, 15385 Farden Rd.\, Sterling\, NY
END:VEVENT
BEGIN:VEVENT
DTSTART;TZID=America/New_York:20230729T100000
DTEND;TZID=America/New_York:20230729T190000
DTSTAMP:20260425T083807
CREATED:20221129T214057Z
LAST-MODIFIED:20221129T214057Z
UID:638-1690624800-1690657200@merrymischief.net
SUMMARY:Sterling Ren Faire
DESCRIPTION:
URL:https://merrymischief.net/events/sterling-ren-faire-8/
LOCATION:Sterling Ren Faire\, 15385 Farden Rd.\, Sterling\, NY
END:VEVENT
BEGIN:VEVENT
DTSTART;TZID=America/New_York:20230728T130000
DTEND;TZID=America/New_York:20230728T170000
DTSTAMP:20260425T083807
CREATED:20230714T122431Z
LAST-MODIFIED:20230714T122431Z
UID:761-1690549200-1690563600@merrymischief.net
SUMMARY:Syracuse Arts & Crafts Festival
DESCRIPTION:Merry Mischief (This day Merlyn Mischief & John Harnois “Fiddlestix”) will be one of the Entertainers wandering the grounds of Columbus Circle\, Syracuse for this wonderful festival! \nMany original artists and vendors\, street performers\, food vendors and much more! \nWe are happy to be back again this year! Hope to see you!
URL:https://merrymischief.net/events/syracuse-arts-crafts-festival/
LOCATION:Syracuse Arts & Crafts Festival\, E. Onondaga St.\, Syracuse\, NY
END:VEVENT
BEGIN:VEVENT
DTSTART;TZID=America/New_York:20230723T100000
DTEND;TZID=America/New_York:20230723T190000
DTSTAMP:20260425T083807
CREATED:20221129T214009Z
LAST-MODIFIED:20221129T214009Z
UID:636-1690106400-1690138800@merrymischief.net
SUMMARY:Sterling Ren Faire
DESCRIPTION:
URL:https://merrymischief.net/events/sterling-ren-faire-7/
LOCATION:Sterling Ren Faire\, 15385 Farden Rd.\, Sterling\, NY
END:VEVENT
BEGIN:VEVENT
DTSTART;TZID=America/New_York:20230722T100000
DTEND;TZID=America/New_York:20230722T190000
DTSTAMP:20260425T083807
CREATED:20221129T213924Z
LAST-MODIFIED:20221129T213924Z
UID:634-1690020000-1690052400@merrymischief.net
SUMMARY:Sterling Ren Faire
DESCRIPTION:
URL:https://merrymischief.net/events/sterling-ren-faire-6/
LOCATION:Sterling Ren Faire\, 15385 Farden Rd.\, Sterling\, NY
END:VEVENT
END:VCALENDAR