BEGIN:VCALENDAR
VERSION:2.0
PRODID:-//Merlyn Fuller and Merry Mischief - ECPv6.15.20//NONSGML v1.0//EN
CALSCALE:GREGORIAN
METHOD:PUBLISH
X-ORIGINAL-URL:https://merrymischief.net
X-WR-CALDESC:Events for Merlyn Fuller and Merry Mischief
REFRESH-INTERVAL;VALUE=DURATION:PT1H
X-Robots-Tag:noindex
X-PUBLISHED-TTL:PT1H
BEGIN:VTIMEZONE
TZID:America/New_York
BEGIN:DAYLIGHT
TZOFFSETFROM:-0500
TZOFFSETTO:-0400
TZNAME:EDT
DTSTART:20230312T070000
END:DAYLIGHT
BEGIN:STANDARD
TZOFFSETFROM:-0400
TZOFFSETTO:-0500
TZNAME:EST
DTSTART:20231105T060000
END:STANDARD
BEGIN:DAYLIGHT
TZOFFSETFROM:-0500
TZOFFSETTO:-0400
TZNAME:EDT
DTSTART:20240310T070000
END:DAYLIGHT
BEGIN:STANDARD
TZOFFSETFROM:-0400
TZOFFSETTO:-0500
TZNAME:EST
DTSTART:20241103T060000
END:STANDARD
BEGIN:DAYLIGHT
TZOFFSETFROM:-0500
TZOFFSETTO:-0400
TZNAME:EDT
DTSTART:20250309T070000
END:DAYLIGHT
BEGIN:STANDARD
TZOFFSETFROM:-0400
TZOFFSETTO:-0500
TZNAME:EST
DTSTART:20251102T060000
END:STANDARD
END:VTIMEZONE
BEGIN:VEVENT
DTSTART;TZID=America/New_York:20240126T143000
DTEND;TZID=America/New_York:20240126T153000
DTSTAMP:20260425T120259
CREATED:20231206T212307Z
LAST-MODIFIED:20231206T212307Z
UID:844-1706279400-1706283000@merrymischief.net
SUMMARY:St. Camillus
DESCRIPTION:Merlyn Mischief back again here to do some Old Country Music for the residents! <3
URL:https://merrymischief.net/events/st-camillus/
LOCATION:St. Camillus\, 813 Fay Rd\, Syracuse\, NY
END:VEVENT
BEGIN:VEVENT
DTSTART;TZID=America/New_York:20240130T110000
DTEND;TZID=America/New_York:20240130T120000
DTSTAMP:20260425T120259
CREATED:20240118T183151Z
LAST-MODIFIED:20240118T183151Z
UID:937-1706612400-1706616000@merrymischief.net
SUMMARY:Memorial for Mischievite-Dottie Huckle
DESCRIPTION:11am Memorial Service for Dottie Huckle \nCheney Funeral Home \n70 Main St. Phelps\, NY
URL:https://merrymischief.net/events/memorial-for-mischievite-dottie-huckle/
LOCATION:Cheney Funeral Home\, 70 Main St\, Phelps\, NY
END:VEVENT
BEGIN:VEVENT
DTSTART;TZID=America/New_York:20240216T153000
DTEND;TZID=America/New_York:20240216T163000
DTSTAMP:20260425T120259
CREATED:20240210T181620Z
LAST-MODIFIED:20240210T181620Z
UID:964-1708097400-1708101000@merrymischief.net
SUMMARY:Westminister Manor
DESCRIPTION:Romance & Renaissance music for Valentines Day!
URL:https://merrymischief.net/events/westminister-manor-3/
LOCATION:Westminister Manor\, 81 S. st.\, Auburn\, Ny\, 13021
END:VEVENT
BEGIN:VEVENT
DTSTART;TZID=America/New_York:20240221T143000
DTEND;TZID=America/New_York:20240221T153000
DTSTAMP:20260425T120259
CREATED:20240125T232756Z
LAST-MODIFIED:20240125T232756Z
UID:952-1708525800-1708529400@merrymischief.net
SUMMARY:Boyle Center
DESCRIPTION:
URL:https://merrymischief.net/events/boyle-center-2/
LOCATION:Boyle Center\, 149 Genesee St.\, Auburn\, NY
END:VEVENT
BEGIN:VEVENT
DTSTART;TZID=America/New_York:20240224T100000
DTEND;TZID=America/New_York:20240224T153000
DTSTAMP:20260425T120259
CREATED:20240125T233225Z
LAST-MODIFIED:20240125T233225Z
UID:962-1708768800-1708788600@merrymischief.net
SUMMARY:Boyle Center Craft Fair
DESCRIPTION:
URL:https://merrymischief.net/events/boyle-center-craft-fair/
LOCATION:Boyle Center\, 149 Genesee St.\, Auburn\, NY
END:VEVENT
BEGIN:VEVENT
DTSTART;TZID=America/New_York:20240226T140000
DTEND;TZID=America/New_York:20240226T150000
DTSTAMP:20260425T120259
CREATED:20231220T152035Z
LAST-MODIFIED:20231220T152035Z
UID:906-1708956000-1708959600@merrymischief.net
SUMMARY:Nottingham Rehabilitation Memory Care
DESCRIPTION:Helping the folks singalong to some fun songs!
URL:https://merrymischief.net/events/nottingham-rehabilitation-memory-care/
LOCATION:Nottingham Center\, 1301 Nottingham Road\, Jamesville\, NY
END:VEVENT
BEGIN:VEVENT
DTSTART;TZID=America/New_York:20240306T143000
DTEND;TZID=America/New_York:20240306T153000
DTSTAMP:20260425T120259
CREATED:20240125T232849Z
LAST-MODIFIED:20240125T232849Z
UID:954-1709735400-1709739000@merrymischief.net
SUMMARY:Boyle Center
DESCRIPTION:
URL:https://merrymischief.net/events/boyle-center-3/
LOCATION:Boyle Center\, 149 Genesee St.\, Auburn\, NY
END:VEVENT
BEGIN:VEVENT
DTSTART;TZID=America/New_York:20240309T170000
DTEND;TZID=America/New_York:20240309T200000
DTSTAMP:20260425T120259
CREATED:20231206T213137Z
LAST-MODIFIED:20231206T213137Z
UID:852-1710003600-1710014400@merrymischief.net
SUMMARY:Sterling Cidery
DESCRIPTION:One of our favorite places to play! The folks here love us and we love them! <3 \nSome Celtic music in store for all this night!
URL:https://merrymischief.net/events/sterling-cidery-5/
LOCATION:Sterling Cidery\, 14451 Richmond Ave\, Sterling\, NY
END:VEVENT
BEGIN:VEVENT
DTSTART;TZID=America/New_York:20240313T110000
DTEND;TZID=America/New_York:20240313T120000
DTSTAMP:20260425T120259
CREATED:20240118T183413Z
LAST-MODIFIED:20240118T183413Z
UID:940-1710327600-1710331200@merrymischief.net
SUMMARY:Canton Woods Senior Group
DESCRIPTION:Celtic Party!
URL:https://merrymischief.net/events/canton-woods-senior-group/
LOCATION:Canton Woods\, 76 Canton Woods\, Baldwinsville\, NY
END:VEVENT
BEGIN:VEVENT
DTSTART;TZID=America/New_York:20240315T120000
DTEND;TZID=America/New_York:20240315T130000
DTSTAMP:20260425T120259
CREATED:20240118T183521Z
LAST-MODIFIED:20240118T183521Z
UID:942-1710504000-1710507600@merrymischief.net
SUMMARY:Jordan Elbridge Senior Luncheon
DESCRIPTION:Celtic Party!
URL:https://merrymischief.net/events/jordan-elbridge-senior-luncheon/
LOCATION:Jordan Communty Center\, Rt. 31\, Jordan\, NY\, 13080
END:VEVENT
BEGIN:VEVENT
DTSTART;TZID=America/New_York:20240316T110000
DTEND;TZID=America/New_York:20240316T160000
DTSTAMP:20260425T120259
CREATED:20231206T213302Z
LAST-MODIFIED:20231206T213302Z
UID:854-1710586800-1710604800@merrymischief.net
SUMMARY:North Country Goes Green Irish Festival
DESCRIPTION:Slainte’!\nWill post details as soon as I get them!
URL:https://merrymischief.net/events/north-country-goes-green-irish-festival-2/
LOCATION:Dulles State Office Building\, 317 Washington St.\, Watertown\, NY
END:VEVENT
BEGIN:VEVENT
DTSTART;TZID=America/New_York:20240318T160000
DTEND;TZID=America/New_York:20240318T170000
DTSTAMP:20260425T120259
CREATED:20240210T182406Z
LAST-MODIFIED:20240210T182406Z
UID:967-1710777600-1710781200@merrymischief.net
SUMMARY:Bluefield Manor
DESCRIPTION:Celtic music for St. Psddy’s Day Happy Hour for residents
URL:https://merrymischief.net/events/bluefield-manor-2/
LOCATION:Bluefield Manor\, 516 Bluefield Rd.\, Auburn\, NY
END:VEVENT
BEGIN:VEVENT
DTSTART;TZID=America/New_York:20240319T190000
DTEND;TZID=America/New_York:20240319T200000
DTSTAMP:20260425T120259
CREATED:20240118T183627Z
LAST-MODIFIED:20240118T183627Z
UID:944-1710874800-1710878400@merrymischief.net
SUMMARY:Nottingham Senior Residence
DESCRIPTION:Evening of Celtic Music
URL:https://merrymischief.net/events/nottingham-senior-residence/
LOCATION:Nottingham Center\, 1301 Nottingham Road\, Jamesville\, NY
END:VEVENT
BEGIN:VEVENT
DTSTART;TZID=America/New_York:20240321T140000
DTEND;TZID=America/New_York:20240321T150000
DTSTAMP:20260425T120259
CREATED:20231220T151438Z
LAST-MODIFIED:20240223T004116Z
UID:904-1711029600-1711033200@merrymischief.net
SUMMARY:Fingerlakes Center for Living
DESCRIPTION:
URL:https://merrymischief.net/events/fingerlakes-center-for-living-7/
LOCATION:Fingerlakes Center for Living\, 20 Park Ave.\, Auburn\, NY\, 13021
END:VEVENT
BEGIN:VEVENT
DTSTART;TZID=America/New_York:20240322T143000
DTEND;TZID=America/New_York:20240322T153000
DTSTAMP:20260425T120259
CREATED:20231206T212824Z
LAST-MODIFIED:20231206T212824Z
UID:850-1711117800-1711121400@merrymischief.net
SUMMARY:St. Camillus
DESCRIPTION:Celtic Music for the folks today!
URL:https://merrymischief.net/events/st-camillus-2/
LOCATION:St. Camillus\, 813 Fay Rd\, Syracuse\, NY
END:VEVENT
BEGIN:VEVENT
DTSTART;TZID=America/New_York:20240324T103000
DTEND;TZID=America/New_York:20240324T113000
DTSTAMP:20260425T120259
CREATED:20240224T182546Z
LAST-MODIFIED:20240224T182546Z
UID:979-1711276200-1711279800@merrymischief.net
SUMMARY:Celtic Music at the UU- Auburn
DESCRIPTION:
URL:https://merrymischief.net/events/celtic-music-at-the-uu-auburn/
LOCATION:Auburn UU\, 607 N. Seward Ave\, Auburn\, NY
END:VEVENT
BEGIN:VEVENT
DTSTART;TZID=America/New_York:20240328T130000
DTEND;TZID=America/New_York:20240328T150000
DTSTAMP:20260425T120259
CREATED:20240223T004513Z
LAST-MODIFIED:20240223T004513Z
UID:976-1711630800-1711638000@merrymischief.net
SUMMARY:PACE
DESCRIPTION:Merlyn is back again to play for folks here!
URL:https://merrymischief.net/events/pace-2/
LOCATION:NY
END:VEVENT
BEGIN:VEVENT
DTSTART;TZID=America/New_York:20240408T130000
DTEND;TZID=America/New_York:20240408T140000
DTSTAMP:20260425T120259
CREATED:20240306T160518Z
LAST-MODIFIED:20240306T160518Z
UID:982-1712581200-1712584800@merrymischief.net
SUMMARY:P.A.C.E.
DESCRIPTION:Merlyn is back again to play for the folks here!
URL:https://merrymischief.net/events/p-a-c-e/
LOCATION:Pace- Malta Lane\, 100 Malta Lane\, Syracuse\, NY\, 13212
END:VEVENT
BEGIN:VEVENT
DTSTART;TZID=America/New_York:20240410T143000
DTEND;TZID=America/New_York:20240410T153000
DTSTAMP:20260425T120259
CREATED:20240125T232952Z
LAST-MODIFIED:20240125T232952Z
UID:956-1712759400-1712763000@merrymischief.net
SUMMARY:Boyle Center
DESCRIPTION:
URL:https://merrymischief.net/events/boyle-center-4/
LOCATION:Boyle Center\, 149 Genesee St.\, Auburn\, NY
END:VEVENT
BEGIN:VEVENT
DTSTART;TZID=America/New_York:20240417T150000
DTEND;TZID=America/New_York:20240417T160000
DTSTAMP:20260425T120259
CREATED:20231220T152214Z
LAST-MODIFIED:20231220T152214Z
UID:908-1713366000-1713369600@merrymischief.net
SUMMARY:Westminister Manor
DESCRIPTION:Erie Canal & Country Music today!
URL:https://merrymischief.net/events/westminister-manor-6/
LOCATION:Westminister Manor\, 81 S. st.\, Auburn\, Ny\, 13021
END:VEVENT
BEGIN:VEVENT
DTSTART;TZID=America/New_York:20240418T140000
DTEND;TZID=America/New_York:20240418T150000
DTSTAMP:20260425T120259
CREATED:20231220T152311Z
LAST-MODIFIED:20231220T152311Z
UID:910-1713448800-1713452400@merrymischief.net
SUMMARY:Fingerlakes Center for Living
DESCRIPTION:
URL:https://merrymischief.net/events/fingerlakes-center-for-living-9/
LOCATION:Fingerlakes Center for Living\, 20 Park Ave.\, Auburn\, NY\, 13021
END:VEVENT
BEGIN:VEVENT
DTSTART;TZID=America/New_York:20240419T160000
DTEND;TZID=America/New_York:20240419T190000
DTSTAMP:20260425T120259
CREATED:20231206T213826Z
LAST-MODIFIED:20231206T213826Z
UID:859-1713542400-1713553200@merrymischief.net
SUMMARY:Rochester Erotic Arts Festival (REAF)
DESCRIPTION:Back again to this fun and creative event! \nMerry Mischief duo playing in the pub for Registration/Opening Night! YAY!
URL:https://merrymischief.net/events/rochester-erotic-arts-festival-reaf/
LOCATION:Holiday Inn\, 75 North St.\, Auburn\, NY
END:VEVENT
BEGIN:VEVENT
DTSTART;TZID=America/New_York:20240428T120000
DTEND;TZID=America/New_York:20240428T170000
DTSTAMP:20260425T120259
CREATED:20240306T161114Z
LAST-MODIFIED:20240306T161114Z
UID:985-1714305600-1714323600@merrymischief.net
SUMMARY:Rochester Win Ren Fest- 3 Heads Brewing
DESCRIPTION:Merry Mischief (Merlyn Mischief & Michael Edwards) will be playing at this fun mini Ren Faire to help benefit the charity of “Mended Little Hearts”. \nVendors\, Faire music\, get out yer garb and come have a few pints and help out some wee ones with your patronage! \nFestival is Noon-5pm \nMerry Mischief plays an hour…I’ll update when I get our scheduled time slot. <3
URL:https://merrymischief.net/events/rochester-win-ren-fest-3-heads-brewing/
LOCATION:3 Heads Brewing\, 186 Atlantic Ave\, Rochester\, NY\, 14607
END:VEVENT
BEGIN:VEVENT
DTSTART;TZID=America/New_York:20240504T100000
DTEND;TZID=America/New_York:20240504T130000
DTSTAMP:20260425T120259
CREATED:20240312T202135Z
LAST-MODIFIED:20240312T202135Z
UID:992-1714816800-1714827600@merrymischief.net
SUMMARY:Valley Arts4All
DESCRIPTION:Merlyn Mischief and Steve McSweeney will be back again playing some tunes this day from 10 am-1pm!
URL:https://merrymischief.net/events/valley-arts4all-2/
LOCATION:Riverfront Park\, 100 Riverfront Park Rd\, Sayre\,\, PA
END:VEVENT
BEGIN:VEVENT
DTSTART;TZID=America/New_York:20240508T143000
DTEND;TZID=America/New_York:20240508T153000
DTSTAMP:20260425T120259
CREATED:20240125T233043Z
LAST-MODIFIED:20240125T233043Z
UID:958-1715178600-1715182200@merrymischief.net
SUMMARY:Boyle Center
DESCRIPTION:
URL:https://merrymischief.net/events/boyle-center-5/
LOCATION:Boyle Center\, 149 Genesee St.\, Auburn\, NY
END:VEVENT
BEGIN:VEVENT
DTSTART;TZID=America/New_York:20240511T160000
DTEND;TZID=America/New_York:20240511T180000
DTSTAMP:20260425T120259
CREATED:20240425T160049Z
LAST-MODIFIED:20240425T160049Z
UID:1013-1715443200-1715450400@merrymischief.net
SUMMARY:Sterling Cidery NEW PIRATE BOOK RELEASE NIGHT!
DESCRIPTION:AHOY Mates! \nMerlyn has a new\, fun\, salty\, Pirate adventure book published and will be offering a night of stories\, song and randy adventure! Come have a pint and be prepared to let out yer INNER PIRATE! \nThis is Merlyn’s 7 published book. Come help her celebrate this accomplishment with …PINTS!
URL:https://merrymischief.net/events/sterling-cidery-new-pirate-book-release-night/
LOCATION:Sterling Cidery\, 14451 Richmond Ave\, Sterling\, NY
END:VEVENT
BEGIN:VEVENT
DTSTART;TZID=America/New_York:20240515T150000
DTEND;TZID=America/New_York:20240515T163000
DTSTAMP:20260425T120259
CREATED:20240425T160339Z
LAST-MODIFIED:20240425T160339Z
UID:1015-1715785200-1715790600@merrymischief.net
SUMMARY:Nottingham Residential Happy Hour!
DESCRIPTION:Partying with folks here at Nottingham at Happy Hour! Couldn’t be happier! 🙂
URL:https://merrymischief.net/events/nottingham-residential-happy-hour/
LOCATION:Nottingham Center\, 1301 Nottingham Road\, Jamesville\, NY
END:VEVENT
BEGIN:VEVENT
DTSTART;TZID=America/New_York:20240519T100000
DTEND;TZID=America/New_York:20240519T170000
DTSTAMP:20260425T120259
CREATED:20231206T214026Z
LAST-MODIFIED:20231206T214026Z
UID:862-1716112800-1716138000@merrymischief.net
SUMMARY:Mayfaire on the Green
DESCRIPTION:Merry Mischief will be the music for this day here on the Green!
URL:https://merrymischief.net/events/mayfaire-on-the-green-2/
LOCATION:Holland Patent\, NY
END:VEVENT
BEGIN:VEVENT
DTSTART;TZID=America/New_York:20240522T130000
DTEND;TZID=America/New_York:20240522T140000
DTSTAMP:20260425T120259
CREATED:20240425T160708Z
LAST-MODIFIED:20240425T160708Z
UID:1019-1716382800-1716386400@merrymischief.net
SUMMARY:P.A.C.E- Circle Creek
DESCRIPTION:
URL:https://merrymischief.net/events/p-a-c-e-circle-creek/
LOCATION:PACE- Circle Creek\, 115 Circle Creek\, E. Syracuse\, NY\, 13057
END:VEVENT
BEGIN:VEVENT
DTSTART;TZID=America/New_York:20240525T130000
DTEND;TZID=America/New_York:20240525T170000
DTSTAMP:20260425T120259
CREATED:20240118T184004Z
LAST-MODIFIED:20240118T184004Z
UID:946-1716642000-1716656400@merrymischief.net
SUMMARY:Waterloo Memorial Commemorate & Celebrate Festival
DESCRIPTION:Find Merlyn Mischief & Tom Meier at Oak Island at the Civil War Encampment again \nfrom 1-5 on Saturday and Noon -4  on Sunday!
URL:https://merrymischief.net/events/waterloo-memorial-commemorate-celebrate-festival/
LOCATION:Commemorate & Celebrate Memorial Day!\, Waterloo\, NY
END:VEVENT
END:VCALENDAR