BEGIN:VCALENDAR
VERSION:2.0
PRODID:-//Merlyn Fuller and Merry Mischief - ECPv6.15.20//NONSGML v1.0//EN
CALSCALE:GREGORIAN
METHOD:PUBLISH
X-WR-CALNAME:Merlyn Fuller and Merry Mischief
X-ORIGINAL-URL:https://merrymischief.net
X-WR-CALDESC:Events for Merlyn Fuller and Merry Mischief
REFRESH-INTERVAL;VALUE=DURATION:PT1H
X-Robots-Tag:noindex
X-PUBLISHED-TTL:PT1H
BEGIN:VTIMEZONE
TZID:UTC
BEGIN:STANDARD
TZOFFSETFROM:+0000
TZOFFSETTO:+0000
TZNAME:UTC
DTSTART:20210101T000000
END:STANDARD
END:VTIMEZONE
BEGIN:VEVENT
DTSTART;TZID=UTC:20221026T173000
DTEND;TZID=UTC:20221026T183000
DTSTAMP:20260425T104931
CREATED:20221021T025249Z
LAST-MODIFIED:20221021T025249Z
UID:460-1666805400-1666809000@merrymischief.net
SUMMARY:Auburn Connect 55+ Halloween Show!
DESCRIPTION:Oooooh! Spooky Tunes & Murder Ballads! My favorite!
URL:https://merrymischief.net/events/auburn-connect-55-halloween-show/
LOCATION:Auburn Grove/Connect 55+ Seniors\, 138 Standart Ave\, Auburn\, NY\, 13021
END:VEVENT
BEGIN:VEVENT
DTSTART;TZID=UTC:20221026T123000
DTEND;TZID=UTC:20221026T133000
DTSTAMP:20260425T104931
CREATED:20221021T024936Z
LAST-MODIFIED:20221021T024936Z
UID:456-1666787400-1666791000@merrymischief.net
SUMMARY:J-E Senior Luncheon
DESCRIPTION:Merlyn does her Halloween Hat Show for this holiday party today!
URL:https://merrymischief.net/events/j-e-senior-luncheon/
LOCATION:Jordan Communty Center\, Rt. 31\, Jordan\, NY\, 13080
END:VEVENT
END:VCALENDAR