BEGIN:VCALENDAR
VERSION:2.0
PRODID:-//Merlyn Fuller and Merry Mischief - ECPv6.15.20//NONSGML v1.0//EN
CALSCALE:GREGORIAN
METHOD:PUBLISH
X-WR-CALNAME:Merlyn Fuller and Merry Mischief
X-ORIGINAL-URL:https://merrymischief.net
X-WR-CALDESC:Events for Merlyn Fuller and Merry Mischief
REFRESH-INTERVAL;VALUE=DURATION:PT1H
X-Robots-Tag:noindex
X-PUBLISHED-TTL:PT1H
BEGIN:VTIMEZONE
TZID:America/New_York
BEGIN:DAYLIGHT
TZOFFSETFROM:-0500
TZOFFSETTO:-0400
TZNAME:EDT
DTSTART:20210314T070000
END:DAYLIGHT
BEGIN:STANDARD
TZOFFSETFROM:-0400
TZOFFSETTO:-0500
TZNAME:EST
DTSTART:20211107T060000
END:STANDARD
BEGIN:DAYLIGHT
TZOFFSETFROM:-0500
TZOFFSETTO:-0400
TZNAME:EDT
DTSTART:20220313T070000
END:DAYLIGHT
BEGIN:STANDARD
TZOFFSETFROM:-0400
TZOFFSETTO:-0500
TZNAME:EST
DTSTART:20221106T060000
END:STANDARD
BEGIN:DAYLIGHT
TZOFFSETFROM:-0500
TZOFFSETTO:-0400
TZNAME:EDT
DTSTART:20230312T070000
END:DAYLIGHT
BEGIN:STANDARD
TZOFFSETFROM:-0400
TZOFFSETTO:-0500
TZNAME:EST
DTSTART:20231105T060000
END:STANDARD
END:VTIMEZONE
BEGIN:VTIMEZONE
TZID:UTC
BEGIN:STANDARD
TZOFFSETFROM:+0000
TZOFFSETTO:+0000
TZNAME:UTC
DTSTART:20210101T000000
END:STANDARD
END:VTIMEZONE
BEGIN:VEVENT
DTSTART;TZID=America/New_York:20221105T100000
DTEND;TZID=America/New_York:20221105T150000
DTSTAMP:20260425T122655
CREATED:20221023T152347Z
LAST-MODIFIED:20221023T152347Z
UID:499-1667642400-1667660400@merrymischief.net
SUMMARY:Craft Fair @ Morgan Rd School
DESCRIPTION:Merlyn will be here selling her wares! \nThe craft show benefits the Girls Volleyball team! <3
URL:https://merrymischief.net/events/craft-fair-morgan-rd-school/
LOCATION:Morgan Road School Complex\, 7795 Morgan Rd\, Liverpool\, NY
END:VEVENT
BEGIN:VEVENT
DTSTART;TZID=America/New_York:20221102T150000
DTEND;TZID=America/New_York:20221102T170000
DTSTAMP:20260425T122655
CREATED:20221121T120411Z
LAST-MODIFIED:20221121T120411Z
UID:608-1667401200-1667408400@merrymischief.net
SUMMARY:KS & R Event
DESCRIPTION:Mystic Merlyn reads cards for this fun corporate party today!
URL:https://merrymischief.net/events/ks-r-event/
LOCATION:OnCenter\, 411 Montgomery St\, Watertown\, NY
END:VEVENT
BEGIN:VEVENT
DTSTART;TZID=UTC:20221029T170000
DTEND;TZID=UTC:20221029T200000
DTSTAMP:20260425T122655
CREATED:20221021T025619Z
LAST-MODIFIED:20221021T025619Z
UID:465-1667062800-1667073600@merrymischief.net
SUMMARY:Sterling Cidery
DESCRIPTION:Merlyn\, Tom & Steve will be playing this night with some Spooky Tunes & Murder Ballads!\nCome wet your whistle at this fine pub!
URL:https://merrymischief.net/events/sterling-cidery/
LOCATION:Sterling Cidery\, 14451 Richmond Ave\, Sterling\, NY
END:VEVENT
BEGIN:VEVENT
DTSTART;TZID=UTC:20221028T190000
DTEND;TZID=UTC:20221028T210000
DTSTAMP:20260425T122655
CREATED:20221021T024755Z
LAST-MODIFIED:20221023T152041Z
UID:451-1666983600-1666990800@merrymischief.net
SUMMARY:Mystic Merlyn Card Readings@ Raven Haven Haunt!
DESCRIPTION:Mystic Merlyn will be reading fortunes at the Raven Haven Haunt on Fridays\, Oct. 21 & 28th from 7-9pm! \nThe Haunt is a donation experience that is good for the family!\nMystic Merlyn will be offering readings for $25 for a 15 minute reading these nights!\nCome have some Halloween fun!
URL:https://merrymischief.net/events/mystic-merlyn-card-readings-raven-haven-haunt/
LOCATION:Raven Haven\, 7475 Thunderbird Rd.\, Liverpool\, NY
END:VEVENT
BEGIN:VEVENT
DTSTART;TZID=UTC:20221026T173000
DTEND;TZID=UTC:20221026T183000
DTSTAMP:20260425T122655
CREATED:20221021T025249Z
LAST-MODIFIED:20221021T025249Z
UID:460-1666805400-1666809000@merrymischief.net
SUMMARY:Auburn Connect 55+ Halloween Show!
DESCRIPTION:Oooooh! Spooky Tunes & Murder Ballads! My favorite!
URL:https://merrymischief.net/events/auburn-connect-55-halloween-show/
LOCATION:Auburn Grove/Connect 55+ Seniors\, 138 Standart Ave\, Auburn\, NY\, 13021
END:VEVENT
BEGIN:VEVENT
DTSTART;TZID=UTC:20221026T123000
DTEND;TZID=UTC:20221026T133000
DTSTAMP:20260425T122655
CREATED:20221021T024936Z
LAST-MODIFIED:20221021T024936Z
UID:456-1666787400-1666791000@merrymischief.net
SUMMARY:J-E Senior Luncheon
DESCRIPTION:Merlyn does her Halloween Hat Show for this holiday party today!
URL:https://merrymischief.net/events/j-e-senior-luncheon/
LOCATION:Jordan Communty Center\, Rt. 31\, Jordan\, NY\, 13080
END:VEVENT
END:VCALENDAR