BEGIN:VCALENDAR
VERSION:2.0
PRODID:-//Merlyn Fuller and Merry Mischief - ECPv6.15.20//NONSGML v1.0//EN
CALSCALE:GREGORIAN
METHOD:PUBLISH
X-ORIGINAL-URL:https://merrymischief.net
X-WR-CALDESC:Events for Merlyn Fuller and Merry Mischief
REFRESH-INTERVAL;VALUE=DURATION:PT1H
X-Robots-Tag:noindex
X-PUBLISHED-TTL:PT1H
BEGIN:VTIMEZONE
TZID:America/New_York
BEGIN:DAYLIGHT
TZOFFSETFROM:-0500
TZOFFSETTO:-0400
TZNAME:EDT
DTSTART:20250309T070000
END:DAYLIGHT
BEGIN:STANDARD
TZOFFSETFROM:-0400
TZOFFSETTO:-0500
TZNAME:EST
DTSTART:20251102T060000
END:STANDARD
BEGIN:DAYLIGHT
TZOFFSETFROM:-0500
TZOFFSETTO:-0400
TZNAME:EDT
DTSTART:20260308T070000
END:DAYLIGHT
BEGIN:STANDARD
TZOFFSETFROM:-0400
TZOFFSETTO:-0500
TZNAME:EST
DTSTART:20261101T060000
END:STANDARD
BEGIN:DAYLIGHT
TZOFFSETFROM:-0500
TZOFFSETTO:-0400
TZNAME:EDT
DTSTART:20270314T070000
END:DAYLIGHT
BEGIN:STANDARD
TZOFFSETFROM:-0400
TZOFFSETTO:-0500
TZNAME:EST
DTSTART:20271107T060000
END:STANDARD
END:VTIMEZONE
BEGIN:VEVENT
DTSTART;TZID=America/New_York:20260725T100000
DTEND;TZID=America/New_York:20260725T190000
DTSTAMP:20260423T192350
CREATED:20251024T160259Z
LAST-MODIFIED:20251024T160259Z
UID:1563-1784973600-1785006000@merrymischief.net
SUMMARY:Sterling Renaissance Festival
DESCRIPTION:
URL:https://merrymischief.net/events/sterling-renaissance-festival-24/
LOCATION:Sterling Ren Faire\, 15385 Farden Rd.\, Sterling\, NY
END:VEVENT
BEGIN:VEVENT
DTSTART;TZID=America/New_York:20260726T100000
DTEND;TZID=America/New_York:20260726T190000
DTSTAMP:20260423T192351
CREATED:20251024T160349Z
LAST-MODIFIED:20251024T160349Z
UID:1565-1785060000-1785092400@merrymischief.net
SUMMARY:Sterling Renaissance Festival
DESCRIPTION:
URL:https://merrymischief.net/events/sterling-renaissance-festival-25/
LOCATION:Sterling Ren Faire\, 15385 Farden Rd.\, Sterling\, NY
END:VEVENT
BEGIN:VEVENT
DTSTART;TZID=America/New_York:20260801T100000
DTEND;TZID=America/New_York:20260801T190000
DTSTAMP:20260423T192351
CREATED:20251024T160453Z
LAST-MODIFIED:20251024T160453Z
UID:1567-1785578400-1785610800@merrymischief.net
SUMMARY:Sterling Renaissance Festival
DESCRIPTION:
URL:https://merrymischief.net/events/sterling-renaissance-festival-26/
LOCATION:Sterling Ren Faire\, 15385 Farden Rd.\, Sterling\, NY
END:VEVENT
BEGIN:VEVENT
DTSTART;TZID=America/New_York:20260802T100000
DTEND;TZID=America/New_York:20260802T190000
DTSTAMP:20260423T192351
CREATED:20251024T160541Z
LAST-MODIFIED:20251024T160541Z
UID:1569-1785664800-1785697200@merrymischief.net
SUMMARY:Sterling Renaissance Festival
DESCRIPTION:
URL:https://merrymischief.net/events/sterling-renaissance-festival-27/
LOCATION:Sterling Ren Faire\, 15385 Farden Rd.\, Sterling\, NY
END:VEVENT
BEGIN:VEVENT
DTSTART;TZID=America/New_York:20260808T100000
DTEND;TZID=America/New_York:20260808T190000
DTSTAMP:20260423T192351
CREATED:20251024T160636Z
LAST-MODIFIED:20251024T160636Z
UID:1571-1786183200-1786215600@merrymischief.net
SUMMARY:Sterling Renaissance Festival
DESCRIPTION:
URL:https://merrymischief.net/events/sterling-renaissance-festival-28/
LOCATION:Sterling Ren Faire\, 15385 Farden Rd.\, Sterling\, NY
END:VEVENT
BEGIN:VEVENT
DTSTART;TZID=America/New_York:20260809T100000
DTEND;TZID=America/New_York:20260809T190000
DTSTAMP:20260423T192351
CREATED:20251024T160915Z
LAST-MODIFIED:20251024T160915Z
UID:1573-1786269600-1786302000@merrymischief.net
SUMMARY:Sterling Renaissance Festival
DESCRIPTION:
URL:https://merrymischief.net/events/sterling-renaissance-festival-29/
LOCATION:Sterling Ren Faire\, 15385 Farden Rd.\, Sterling\, NY
END:VEVENT
BEGIN:VEVENT
DTSTART;TZID=America/New_York:20260812T140000
DTEND;TZID=America/New_York:20260812T150000
DTSTAMP:20260423T192351
CREATED:20260112T211644Z
LAST-MODIFIED:20260112T211644Z
UID:1802-1786543200-1786546800@merrymischief.net
SUMMARY:The Home
DESCRIPTION:
URL:https://merrymischief.net/events/the-home-2/
LOCATION:The Home\, 46 Grant Ave\, Auburn\, NY
END:VEVENT
BEGIN:VEVENT
DTSTART;TZID=America/New_York:20260814T120000
DTEND;TZID=America/New_York:20260814T150000
DTSTAMP:20260423T192351
CREATED:20260417T163435Z
LAST-MODIFIED:20260417T163435Z
UID:2430-1786708800-1786719600@merrymischief.net
SUMMARY:Alex Bay Pirate Fest!
DESCRIPTION:More details to come! 🙂
URL:https://merrymischief.net/events/alex-bay-pirate-fest-2/
LOCATION:Alex Bay Pirate Fest\, Alexandria Bay\, NY
END:VEVENT
BEGIN:VEVENT
DTSTART;TZID=America/New_York:20260815T100000
DTEND;TZID=America/New_York:20260815T190000
DTSTAMP:20260423T192351
CREATED:20251024T161004Z
LAST-MODIFIED:20251024T161004Z
UID:1575-1786788000-1786820400@merrymischief.net
SUMMARY:Sterling Renaissance Festival
DESCRIPTION:
URL:https://merrymischief.net/events/sterling-renaissance-festival-30/
LOCATION:Sterling Ren Faire\, 15385 Farden Rd.\, Sterling\, NY
END:VEVENT
BEGIN:VEVENT
DTSTART;TZID=America/New_York:20260816T100000
DTEND;TZID=America/New_York:20260816T190000
DTSTAMP:20260423T192351
CREATED:20251024T161100Z
LAST-MODIFIED:20251024T161100Z
UID:1577-1786874400-1786906800@merrymischief.net
SUMMARY:Sterling Renaissance Festival
DESCRIPTION:
URL:https://merrymischief.net/events/sterling-renaissance-festival-31/
LOCATION:Sterling Ren Faire\, 15385 Farden Rd.\, Sterling\, NY
END:VEVENT
BEGIN:VEVENT
DTSTART;TZID=America/New_York:20260820T180000
DTEND;TZID=America/New_York:20260820T200000
DTSTAMP:20260423T192351
CREATED:20260313T140603Z
LAST-MODIFIED:20260313T140603Z
UID:2292-1787248800-1787256000@merrymischief.net
SUMMARY:Macedon Canal Park Celebrates USA 250th Anniversary!
DESCRIPTION:
URL:https://merrymischief.net/events/macedon-canal-park-celebrates-usa-250th-anniversary/
LOCATION:Macedon Canal Park\, 24 Stone St\, Macedon\, NY\, 14502\, United States
END:VEVENT
BEGIN:VEVENT
DTSTART;TZID=America/New_York:20260827T140000
DTEND;TZID=America/New_York:20260827T150000
DTSTAMP:20260423T192351
CREATED:20260101T153320Z
LAST-MODIFIED:20260101T153320Z
UID:1783-1787839200-1787842800@merrymischief.net
SUMMARY:Fingerlakes Center for Living
DESCRIPTION:
URL:https://merrymischief.net/events/fingerlakes-center-for-living-23/
LOCATION:Fingerlakes Center for Living\, 20 Park Ave.\, Auburn\, NY\, 13021
END:VEVENT
BEGIN:VEVENT
DTSTART;TZID=America/New_York:20260910T140000
DTEND;TZID=America/New_York:20260910T150000
DTSTAMP:20260423T192351
CREATED:20260319T234310Z
LAST-MODIFIED:20260319T234310Z
UID:2323-1789048800-1789052400@merrymischief.net
SUMMARY:Auburn Rehabilitation
DESCRIPTION:
URL:https://merrymischief.net/events/auburn-rehabilitation-3/
LOCATION:Auburn Rehabilitation\, 85 Thornden Ave\, Auburn\, 13021\, United States
END:VEVENT
BEGIN:VEVENT
DTSTART;TZID=America/New_York:20260918T170000
DTEND;TZID=America/New_York:20260918T210000
DTSTAMP:20260423T192351
CREATED:20251108T230215Z
LAST-MODIFIED:20251108T230215Z
UID:1596-1789750800-1789765200@merrymischief.net
SUMMARY:Jordan Fall Fest
DESCRIPTION:
URL:https://merrymischief.net/events/jordan-fall-fest-2/
LOCATION:Jordan Fall Fest\, Chappel St.\, Jordan\, NY
END:VEVENT
BEGIN:VEVENT
DTSTART;TZID=America/New_York:20260919T100000
DTEND;TZID=America/New_York:20260919T210000
DTSTAMP:20260423T192351
CREATED:20251108T230301Z
LAST-MODIFIED:20251108T230301Z
UID:1598-1789812000-1789851600@merrymischief.net
SUMMARY:Jordan Fall Fest
DESCRIPTION:
URL:https://merrymischief.net/events/jordan-fall-fest-3/
LOCATION:Jordan Fall Fest\, Chappel St.\, Jordan\, NY
END:VEVENT
BEGIN:VEVENT
DTSTART;TZID=America/New_York:20260920T110000
DTEND;TZID=America/New_York:20260920T170000
DTSTAMP:20260423T192351
CREATED:20251108T230344Z
LAST-MODIFIED:20251108T230344Z
UID:1600-1789902000-1789923600@merrymischief.net
SUMMARY:Jordan Fall Fest
DESCRIPTION:
URL:https://merrymischief.net/events/jordan-fall-fest-4/
LOCATION:Jordan Fall Fest\, Chappel St.\, Jordan\, NY
END:VEVENT
BEGIN:VEVENT
DTSTART;TZID=America/New_York:20260925T163000
DTEND;TZID=America/New_York:20260925T210000
DTSTAMP:20260423T192351
CREATED:20260417T163921Z
LAST-MODIFIED:20260417T163921Z
UID:2432-1790353800-1790370000@merrymischief.net
SUMMARY:Rochester Fringe Fest!
DESCRIPTION:Merlyn brings her Pirate show to Fringe Fest! \nGeneral Audience – showing at earlier time (4:30-5:30pm) \nBawdy Pirate Show – later evening time! (8-9pm) \n 
URL:https://merrymischief.net/events/rochester-fringe-fest/
LOCATION:Strathallan Century Club\, 566 East Avenue\, Rochester\, NY\, 14610
END:VEVENT
BEGIN:VEVENT
DTSTART;TZID=America/New_York:20260926T163000
DTEND;TZID=America/New_York:20260926T210000
DTSTAMP:20260423T192351
CREATED:20260417T164115Z
LAST-MODIFIED:20260417T164115Z
UID:2435-1790440200-1790456400@merrymischief.net
SUMMARY:Rochester Fringe Fest!
DESCRIPTION:Merlyn brings her Pirate show to Fringe Fest at the Century Club at Strathallan! \nGeneral audience 4:30-5:30 pm \nAdult Bawdy Show  8-9pm
URL:https://merrymischief.net/events/rochester-fringe-fest-2/
LOCATION:Strathallan Century Club\, 566 East Avenue\, Rochester\, NY\, 14610
END:VEVENT
BEGIN:VEVENT
DTSTART;TZID=America/New_York:20261010T130000
DTEND;TZID=America/New_York:20261010T163000
DTSTAMP:20260423T192351
CREATED:20260112T211740Z
LAST-MODIFIED:20260112T211740Z
UID:1804-1791637200-1791649800@merrymischief.net
SUMMARY:Fairy Fest at Baltimore Woods
DESCRIPTION:
URL:https://merrymischief.net/events/fairy-fest-at-baltimore-woods-4/
LOCATION:Baltimore Woods\, 4007 Bishop Hill Rd\, Marcellus\, NY
END:VEVENT
BEGIN:VEVENT
DTSTART;TZID=America/New_York:20261015T143000
DTEND;TZID=America/New_York:20261015T150000
DTSTAMP:20260423T192351
CREATED:20260101T153439Z
LAST-MODIFIED:20260101T153439Z
UID:1785-1792074600-1792076400@merrymischief.net
SUMMARY:Fingerlakes Center for Living
DESCRIPTION:
URL:https://merrymischief.net/events/fingerlakes-center-for-living-24/
LOCATION:Fingerlakes Center for Living\, 20 Park Ave.\, Auburn\, NY\, 13021
END:VEVENT
BEGIN:VEVENT
DTSTART;TZID=America/New_York:20261027T150000
DTEND;TZID=America/New_York:20261027T163000
DTSTAMP:20260423T192351
CREATED:20251108T230436Z
LAST-MODIFIED:20251108T230436Z
UID:1602-1793113200-1793118600@merrymischief.net
SUMMARY:Nottingham Retirement
DESCRIPTION:
URL:https://merrymischief.net/events/nottingham-retirement-3/
LOCATION:Nottingham Center\, 1301 Nottingham Road\, Jamesville\, NY
END:VEVENT
BEGIN:VEVENT
DTSTART;TZID=America/New_York:20261028T140000
DTEND;TZID=America/New_York:20261028T150000
DTSTAMP:20260423T192351
CREATED:20260112T211827Z
LAST-MODIFIED:20260112T211827Z
UID:1806-1793196000-1793199600@merrymischief.net
SUMMARY:The Home
DESCRIPTION:
URL:https://merrymischief.net/events/the-home-3/
LOCATION:The Home\, 46 Grant Ave\, Auburn\, NY
END:VEVENT
BEGIN:VEVENT
DTSTART;TZID=America/New_York:20261029T120000
DTEND;TZID=America/New_York:20261029T140000
DTSTAMP:20260423T192351
CREATED:20260121T152502Z
LAST-MODIFIED:20260121T152502Z
UID:1929-1793275200-1793282400@merrymischief.net
SUMMARY:Melrose Seniors Luncheon
DESCRIPTION:
URL:https://merrymischief.net/events/melrose-seniors-luncheon-2/
LOCATION:1st Presbyterian Church\, 112 South Street\, Auburn\, 13021\, United States
END:VEVENT
BEGIN:VEVENT
DTSTART;TZID=America/New_York:20261030T143000
DTEND;TZID=America/New_York:20261030T153000
DTSTAMP:20260423T192351
CREATED:20250718T004059Z
LAST-MODIFIED:20250718T004059Z
UID:1374-1793370600-1793374200@merrymischief.net
SUMMARY:St. Camillus
DESCRIPTION:
URL:https://merrymischief.net/events/st-camillus-9/
LOCATION:St. Camillus\, 813 Fay Rd\, Syracuse\, NY
END:VEVENT
BEGIN:VEVENT
DTSTART;TZID=America/New_York:20261031T140000
DTEND;TZID=America/New_York:20261031T150000
DTSTAMP:20260423T192351
CREATED:20260319T234358Z
LAST-MODIFIED:20260319T234358Z
UID:2325-1793455200-1793458800@merrymischief.net
SUMMARY:Auburn Rehabilitation
DESCRIPTION:
URL:https://merrymischief.net/events/auburn-rehabilitation-4/
LOCATION:Auburn Rehabilitation\, 85 Thornden Ave\, Auburn\, 13021\, United States
END:VEVENT
BEGIN:VEVENT
DTSTART;TZID=America/New_York:20261120T140000
DTEND;TZID=America/New_York:20261120T150000
DTSTAMP:20260423T192351
CREATED:20260318T191615Z
LAST-MODIFIED:20260318T191615Z
UID:2316-1795183200-1795186800@merrymischief.net
SUMMARY:The Home
DESCRIPTION:
URL:https://merrymischief.net/events/the-home-6/
LOCATION:The Home\, 46 Grant Ave\, Auburn\, NY
END:VEVENT
BEGIN:VEVENT
DTSTART;TZID=America/New_York:20261203T150000
DTEND;TZID=America/New_York:20261203T160000
DTSTAMP:20260423T192351
CREATED:20260101T153558Z
LAST-MODIFIED:20260112T212022Z
UID:1787-1796310000-1796313600@merrymischief.net
SUMMARY:Westminister Manor
DESCRIPTION:
URL:https://merrymischief.net/events/fingerlakes-center-for-living-25/
LOCATION:Westminister Manor\, 81 S. st.\, Auburn\, Ny\, 13021
END:VEVENT
BEGIN:VEVENT
DTSTART;TZID=America/New_York:20261204T143000
DTEND;TZID=America/New_York:20261204T153000
DTSTAMP:20260423T192351
CREATED:20250715T145816Z
LAST-MODIFIED:20250715T145816Z
UID:1366-1796394600-1796398200@merrymischief.net
SUMMARY:St. Camillus
DESCRIPTION:
URL:https://merrymischief.net/events/st-camillus-10/
LOCATION:St. Camillus\, 813 Fay Rd\, Syracuse\, NY
END:VEVENT
BEGIN:VEVENT
DTSTART;TZID=America/New_York:20261206T140000
DTEND;TZID=America/New_York:20261206T160000
DTSTAMP:20260423T192351
CREATED:20260305T170124Z
LAST-MODIFIED:20260305T170124Z
UID:2272-1796565600-1796572800@merrymischief.net
SUMMARY:Santa & Mrs. Claus at Macedon Historical Society
DESCRIPTION:
URL:https://merrymischief.net/events/santa-mrs-claus-at-macedon-historical-society/
LOCATION:Macedon Center Meeting House\, 1208 Macedon Center Road\, Macedon\, NY
END:VEVENT
BEGIN:VEVENT
DTSTART;TZID=America/New_York:20261210T140000
DTEND;TZID=America/New_York:20261210T150000
DTSTAMP:20260423T192351
CREATED:20260101T153649Z
LAST-MODIFIED:20260101T153649Z
UID:1789-1796911200-1796914800@merrymischief.net
SUMMARY:Fingerlakes Center for Living
DESCRIPTION:
URL:https://merrymischief.net/events/fingerlakes-center-for-living-26/
LOCATION:Fingerlakes Center for Living\, 20 Park Ave.\, Auburn\, NY\, 13021
END:VEVENT
END:VCALENDAR