BEGIN:VCALENDAR
VERSION:2.0
PRODID:-//Merlyn Fuller and Merry Mischief - ECPv6.15.20//NONSGML v1.0//EN
CALSCALE:GREGORIAN
METHOD:PUBLISH
X-WR-CALNAME:Merlyn Fuller and Merry Mischief
X-ORIGINAL-URL:https://merrymischief.net
X-WR-CALDESC:Events for Merlyn Fuller and Merry Mischief
REFRESH-INTERVAL;VALUE=DURATION:PT1H
X-Robots-Tag:noindex
X-PUBLISHED-TTL:PT1H
BEGIN:VTIMEZONE
TZID:America/New_York
BEGIN:DAYLIGHT
TZOFFSETFROM:-0500
TZOFFSETTO:-0400
TZNAME:EDT
DTSTART:20220313T070000
END:DAYLIGHT
BEGIN:STANDARD
TZOFFSETFROM:-0400
TZOFFSETTO:-0500
TZNAME:EST
DTSTART:20221106T060000
END:STANDARD
BEGIN:DAYLIGHT
TZOFFSETFROM:-0500
TZOFFSETTO:-0400
TZNAME:EDT
DTSTART:20230312T070000
END:DAYLIGHT
BEGIN:STANDARD
TZOFFSETFROM:-0400
TZOFFSETTO:-0500
TZNAME:EST
DTSTART:20231105T060000
END:STANDARD
BEGIN:DAYLIGHT
TZOFFSETFROM:-0500
TZOFFSETTO:-0400
TZNAME:EDT
DTSTART:20240310T070000
END:DAYLIGHT
BEGIN:STANDARD
TZOFFSETFROM:-0400
TZOFFSETTO:-0500
TZNAME:EST
DTSTART:20241103T060000
END:STANDARD
END:VTIMEZONE
BEGIN:VEVENT
DTSTART;TZID=America/New_York:20230729T100000
DTEND;TZID=America/New_York:20230729T190000
DTSTAMP:20260425T080212
CREATED:20221129T214057Z
LAST-MODIFIED:20221129T214057Z
UID:638-1690624800-1690657200@merrymischief.net
SUMMARY:Sterling Ren Faire
DESCRIPTION:
URL:https://merrymischief.net/events/sterling-ren-faire-8/
LOCATION:Sterling Ren Faire\, 15385 Farden Rd.\, Sterling\, NY
END:VEVENT
BEGIN:VEVENT
DTSTART;TZID=America/New_York:20230728T130000
DTEND;TZID=America/New_York:20230728T170000
DTSTAMP:20260425T080212
CREATED:20230714T122431Z
LAST-MODIFIED:20230714T122431Z
UID:761-1690549200-1690563600@merrymischief.net
SUMMARY:Syracuse Arts & Crafts Festival
DESCRIPTION:Merry Mischief (This day Merlyn Mischief & John Harnois “Fiddlestix”) will be one of the Entertainers wandering the grounds of Columbus Circle\, Syracuse for this wonderful festival! \nMany original artists and vendors\, street performers\, food vendors and much more! \nWe are happy to be back again this year! Hope to see you!
URL:https://merrymischief.net/events/syracuse-arts-crafts-festival/
LOCATION:Syracuse Arts & Crafts Festival\, E. Onondaga St.\, Syracuse\, NY
END:VEVENT
BEGIN:VEVENT
DTSTART;TZID=America/New_York:20230723T100000
DTEND;TZID=America/New_York:20230723T190000
DTSTAMP:20260425T080212
CREATED:20221129T214009Z
LAST-MODIFIED:20221129T214009Z
UID:636-1690106400-1690138800@merrymischief.net
SUMMARY:Sterling Ren Faire
DESCRIPTION:
URL:https://merrymischief.net/events/sterling-ren-faire-7/
LOCATION:Sterling Ren Faire\, 15385 Farden Rd.\, Sterling\, NY
END:VEVENT
BEGIN:VEVENT
DTSTART;TZID=America/New_York:20230722T100000
DTEND;TZID=America/New_York:20230722T190000
DTSTAMP:20260425T080212
CREATED:20221129T213924Z
LAST-MODIFIED:20221129T213924Z
UID:634-1690020000-1690052400@merrymischief.net
SUMMARY:Sterling Ren Faire
DESCRIPTION:
URL:https://merrymischief.net/events/sterling-ren-faire-6/
LOCATION:Sterling Ren Faire\, 15385 Farden Rd.\, Sterling\, NY
END:VEVENT
BEGIN:VEVENT
DTSTART;TZID=America/New_York:20230720T120000
DTEND;TZID=America/New_York:20230720T140000
DTSTAMP:20260425T080212
CREATED:20230412T143636Z
LAST-MODIFIED:20230412T143636Z
UID:752-1689854400-1689861600@merrymischief.net
SUMMARY:Cato Senior Luncheon
DESCRIPTION:
URL:https://merrymischief.net/events/cato-senior-luncheon/
LOCATION:Cato VFW\, 2598 Legion St\, Cato\, NY
END:VEVENT
BEGIN:VEVENT
DTSTART;TZID=America/New_York:20230716T100000
DTEND;TZID=America/New_York:20230716T190000
DTSTAMP:20260425T080212
CREATED:20221129T213526Z
LAST-MODIFIED:20221129T213526Z
UID:632-1689501600-1689534000@merrymischief.net
SUMMARY:Sterling Ren Faire
DESCRIPTION:
URL:https://merrymischief.net/events/sterling-ren-faire-5/
LOCATION:Sterling Ren Faire\, 15385 Farden Rd.\, Sterling\, NY
END:VEVENT
BEGIN:VEVENT
DTSTART;TZID=America/New_York:20230715T100000
DTEND;TZID=America/New_York:20230715T190000
DTSTAMP:20260425T080212
CREATED:20221129T213434Z
LAST-MODIFIED:20221129T213434Z
UID:630-1689415200-1689447600@merrymischief.net
SUMMARY:Sterling Ren Faire
DESCRIPTION:
URL:https://merrymischief.net/events/sterling-ren-faire-4/
LOCATION:Sterling Ren Faire\, 15385 Farden Rd.\, Sterling\, NY
END:VEVENT
BEGIN:VEVENT
DTSTART;TZID=America/New_York:20230709T100000
DTEND;TZID=America/New_York:20230709T190000
DTSTAMP:20260425T080212
CREATED:20221129T213339Z
LAST-MODIFIED:20221129T213339Z
UID:628-1688896800-1688929200@merrymischief.net
SUMMARY:Sterling Ren Faire
DESCRIPTION:
URL:https://merrymischief.net/events/sterling-ren-faire-3/
LOCATION:Sterling Ren Faire\, 15385 Farden Rd.\, Sterling\, NY
END:VEVENT
BEGIN:VEVENT
DTSTART;TZID=America/New_York:20230708T100000
DTEND;TZID=America/New_York:20230708T190000
DTSTAMP:20260425T080212
CREATED:20221129T213247Z
LAST-MODIFIED:20221129T213247Z
UID:626-1688810400-1688842800@merrymischief.net
SUMMARY:Sterling Ren Faire
DESCRIPTION:
URL:https://merrymischief.net/events/sterling-ren-faire-2/
LOCATION:Sterling Ren Faire\, 15385 Farden Rd.\, Sterling\, NY
END:VEVENT
BEGIN:VEVENT
DTSTART;TZID=America/New_York:20230702T100000
DTEND;TZID=America/New_York:20230702T190000
DTSTAMP:20260425T080212
CREATED:20221129T213148Z
LAST-MODIFIED:20221129T213148Z
UID:624-1688292000-1688324400@merrymischief.net
SUMMARY:Sterling Ren Faire
DESCRIPTION:
URL:https://merrymischief.net/events/sterling-ren-faire/
LOCATION:Sterling Ren Faire\, 15385 Farden Rd.\, Sterling\, NY
END:VEVENT
BEGIN:VEVENT
DTSTART;TZID=America/New_York:20230701T100000
DTEND;TZID=America/New_York:20230701T190000
DTSTAMP:20260425T080212
CREATED:20221129T213034Z
LAST-MODIFIED:20221129T213034Z
UID:621-1688205600-1688238000@merrymischief.net
SUMMARY:Sterling Renaissance Festival
DESCRIPTION:
URL:https://merrymischief.net/events/sterling-renaissance-festival/
LOCATION:Sterling Ren Faire\, 15385 Farden Rd.\, Sterling\, NY
END:VEVENT
BEGIN:VEVENT
DTSTART;TZID=America/New_York:20230622T140000
DTEND;TZID=America/New_York:20230622T150000
DTSTAMP:20260425T080212
CREATED:20221226T185710Z
LAST-MODIFIED:20221226T185710Z
UID:683-1687442400-1687446000@merrymischief.net
SUMMARY:Fingerlakes Center for Living
DESCRIPTION:
URL:https://merrymischief.net/events/fingerlakes-center-for-living-4/
LOCATION:Fingerlakes Center for Living\, 20 Park Ave.\, Auburn\, NY\, 13021
END:VEVENT
BEGIN:VEVENT
DTSTART;TZID=America/New_York:20230617T170000
DTEND;TZID=America/New_York:20230617T200000
DTSTAMP:20260425T080212
CREATED:20221129T212353Z
LAST-MODIFIED:20221129T212353Z
UID:615-1687021200-1687032000@merrymischief.net
SUMMARY:Sterling Cidery
DESCRIPTION:Pirate Music on the Porch! YAR! \nLet’s celebrate great summer weather!
URL:https://merrymischief.net/events/sterling-cidery-3/
LOCATION:Sterling Cidery\, 14451 Richmond Ave\, Sterling\, NY
END:VEVENT
BEGIN:VEVENT
DTSTART;TZID=America/New_York:20230616T083000
DTEND;TZID=America/New_York:20230616T130000
DTSTAMP:20260425T080212
CREATED:20221121T120220Z
LAST-MODIFIED:20221121T120220Z
UID:605-1686904200-1686920400@merrymischief.net
SUMMARY:Ren Revelry Show at Martha Brown School
DESCRIPTION:Merlyn Mischief & Michael Edwards bring the Renaissance to the students again here at their Medieval Days!
URL:https://merrymischief.net/events/ren-revelry-show-at-martha-brown-school/
LOCATION:Martha Brown Middle School\, 665 Ayrault Rd.\, Fairport\, NY
END:VEVENT
BEGIN:VEVENT
DTSTART;TZID=America/New_York:20230615T080000
DTEND;TZID=America/New_York:20230615T140000
DTSTAMP:20260425T080212
CREATED:20221129T215032Z
LAST-MODIFIED:20221129T215032Z
UID:651-1686816000-1686837600@merrymischief.net
SUMMARY:Johanna Perin School
DESCRIPTION:Ren Revelry School Program with Merlyn & Michael Edwards
URL:https://merrymischief.net/events/johanna-perin-school/
LOCATION:Johanna Perin School\, 38 W. Church St.\, Fairport\, NY
END:VEVENT
BEGIN:VEVENT
DTSTART;TZID=America/New_York:20230610T103000
DTEND;TZID=America/New_York:20230611T173000
DTSTAMP:20260425T080212
CREATED:20230406T171741Z
LAST-MODIFIED:20230406T172032Z
UID:748-1686393000-1686504600@merrymischief.net
SUMMARY:Cape Cod Pirate Fest!
DESCRIPTION:Merlyn is back again at this fun new festival! Mayhaps\, Ms. Mizzenmast will be in tow as well! \nYARRR!
URL:https://merrymischief.net/events/cape-cod-pirate-fest/
LOCATION:Cape Cod Pirate Fest\, 669 MA-28\, W. Yarmouth\, MA\, 02673
END:VEVENT
BEGIN:VEVENT
DTSTART;TZID=America/New_York:20230528T120000
DTEND;TZID=America/New_York:20230528T160000
DTSTAMP:20260425T080212
CREATED:20230126T154308Z
LAST-MODIFIED:20230126T154308Z
UID:709-1685275200-1685289600@merrymischief.net
SUMMARY:Celebrate Memorial Day Festival in Waterloo!
DESCRIPTION:
URL:https://merrymischief.net/events/celebrate-memorial-day-festival-in-waterloo-2/
LOCATION:Commemorate & Celebrate Memorial Day!\, Waterloo\, NY
END:VEVENT
BEGIN:VEVENT
DTSTART;TZID=America/New_York:20230527T130000
DTEND;TZID=America/New_York:20230527T170000
DTSTAMP:20260425T080212
CREATED:20230126T154202Z
LAST-MODIFIED:20230126T154202Z
UID:706-1685192400-1685206800@merrymischief.net
SUMMARY:Celebrate Memorial Day Festival in Waterloo!
DESCRIPTION:The birthplace of Memorial Day!\nFind Merry Mischief (Merlyn Mischief & Tom Meier this weekend) playing historical music in interesting places! Likely sightings of us will be at the McClintock House and Oak Island with the Civil War Encampment!
URL:https://merrymischief.net/events/celebrate-memorial-day-festival-in-waterloo/
LOCATION:Commemorate & Celebrate Memorial Day!\, Waterloo\, NY
END:VEVENT
BEGIN:VEVENT
DTSTART;TZID=America/New_York:20230520T100000
DTEND;TZID=America/New_York:20230520T170000
DTSTAMP:20260425T080212
CREATED:20230117T150329Z
LAST-MODIFIED:20230117T150329Z
UID:701-1684576800-1684602000@merrymischief.net
SUMMARY:MayFaire on the Green
DESCRIPTION:Back once again! Merry Mischief (this day\, Merlyn Mischief & fiddler\, John Harnois) will be on site playing music all day! A lovely little ren/medieval faire!
URL:https://merrymischief.net/events/mayfaire-on-the-green/
LOCATION:Holland Patent\, NY
END:VEVENT
BEGIN:VEVENT
DTSTART;TZID=America/New_York:20230516T120000
DTEND;TZID=America/New_York:20230516T140000
DTSTAMP:20260425T080212
CREATED:20230117T150441Z
LAST-MODIFIED:20230117T150441Z
UID:704-1684238400-1684245600@merrymischief.net
SUMMARY:J-E Seniors Luncheon
DESCRIPTION:Playing once again for these lovely folks!
URL:https://merrymischief.net/events/j-e-seniors-luncheon/
LOCATION:NY
END:VEVENT
BEGIN:VEVENT
DTSTART;TZID=America/New_York:20230506T160000
DTEND;TZID=America/New_York:20230506T170000
DTSTAMP:20260425T080212
CREATED:20230223T171946Z
LAST-MODIFIED:20230223T171946Z
UID:737-1683388800-1683392400@merrymischief.net
SUMMARY:Valley Arts4All
DESCRIPTION:A free\, diverse show of local juried artisans\, food vendors and musicians! \nBring in SPRING!
URL:https://merrymischief.net/events/valley-arts4all/
LOCATION:Riverfront Park\, 100 Riverfront Park Rd\, Sayre\,\, PA
END:VEVENT
BEGIN:VEVENT
DTSTART;TZID=America/New_York:20230427T133000
DTEND;TZID=America/New_York:20230427T143000
DTSTAMP:20260425T080212
CREATED:20230424T190639Z
LAST-MODIFIED:20230424T190751Z
UID:757-1682602200-1682605800@merrymischief.net
SUMMARY:Westminister Manor
DESCRIPTION:
URL:https://merrymischief.net/events/westminister-manor/
LOCATION:Westminister Manor\, 81 S. st.\, Auburn\, Ny\, 13021
END:VEVENT
BEGIN:VEVENT
DTSTART;TZID=America/New_York:20230419T130000
DTEND;TZID=America/New_York:20230419T140000
DTSTAMP:20260425T080212
CREATED:20230316T142305Z
LAST-MODIFIED:20230316T142305Z
UID:741-1681909200-1681912800@merrymischief.net
SUMMARY:PACE
DESCRIPTION:Merlyn entertains for the residents here today!
URL:https://merrymischief.net/events/pace/
LOCATION:PACE- Circle Creek\, 115 Circle Creek\, E. Syracuse\, NY\, 13057
END:VEVENT
BEGIN:VEVENT
DTSTART;TZID=America/New_York:20230414T170000
DTEND;TZID=America/New_York:20230414T203000
DTSTAMP:20260425T080212
CREATED:20221213T155136Z
LAST-MODIFIED:20221213T155136Z
UID:666-1681491600-1681504200@merrymischief.net
SUMMARY:Rochester Erotic Arts Festival!
DESCRIPTION:Merlyn Mischief in the tavern restaurant will be playing some “Lusty Ditties” for your checking in\, drinks and chatting pleasure!\n2 sets! \n5-5:30 \n& \n8-8:30pm
URL:https://merrymischief.net/events/rochester-erotic-arts-festival/
LOCATION:NY
END:VEVENT
BEGIN:VEVENT
DTSTART;TZID=America/New_York:20230413T140000
DTEND;TZID=America/New_York:20230413T150000
DTSTAMP:20260425T080212
CREATED:20221226T185602Z
LAST-MODIFIED:20221226T185602Z
UID:681-1681394400-1681398000@merrymischief.net
SUMMARY:Fingerlakes Center for Living
DESCRIPTION:
URL:https://merrymischief.net/events/fingerlakes-center-for-living-3/
LOCATION:Fingerlakes Center for Living\, 20 Park Ave.\, Auburn\, NY\, 13021
END:VEVENT
BEGIN:VEVENT
DTSTART;TZID=America/New_York:20230330T120000
DTEND;TZID=America/New_York:20230330T140000
DTSTAMP:20260425T080212
CREATED:20230117T145855Z
LAST-MODIFIED:20230330T123757Z
UID:699-1680177600-1680184800@merrymischief.net
SUMMARY:Melrose Park Seniors March Luncheon
DESCRIPTION:Playing for these lovely folks once again!
URL:https://merrymischief.net/events/melrose-park-seniors-march-luncheon/
LOCATION:NY
END:VEVENT
BEGIN:VEVENT
DTSTART;TZID=America/New_York:20230328T140000
DTEND;TZID=America/New_York:20230328T150000
DTSTAMP:20260425T080212
CREATED:20230219T174617Z
LAST-MODIFIED:20230219T174617Z
UID:733-1680012000-1680015600@merrymischief.net
SUMMARY:The Heritage @ Loretto
DESCRIPTION:
URL:https://merrymischief.net/events/the-heritage-loretto-2/
LOCATION:Heritage Apts.\, 750 E Brighton Ave\,\, Syracuse\, 13205
END:VEVENT
BEGIN:VEVENT
DTSTART;TZID=America/New_York:20230318T110000
DTEND;TZID=America/New_York:20230318T163000
DTSTAMP:20260425T080212
CREATED:20221121T115917Z
LAST-MODIFIED:20221121T115917Z
UID:602-1679137200-1679157000@merrymischief.net
SUMMARY:North Country Goes Green Irish Festival!
DESCRIPTION:Huzzah! The Irish Fest is back on for this year having had to go on hiatus since the pandemic! \nMerry Mischief trio (Merlyn\, Tom Meier & Stephen McSweeney) will be performing 3 sets:\n11am-Noon \n1-2pm \n3-4:30pm \nSlainte’!
URL:https://merrymischief.net/events/north-country-goes-green-irish-festival/
LOCATION:Dulles State Office Building\, 317 Washington St.\, Watertown\, NY
END:VEVENT
BEGIN:VEVENT
DTSTART;TZID=America/New_York:20230317T180000
DTEND;TZID=America/New_York:20230317T210000
DTSTAMP:20260425T080212
CREATED:20221023T154341Z
LAST-MODIFIED:20221023T154341Z
UID:538-1679076000-1679086800@merrymischief.net
SUMMARY:St. Paddy’s Day @ Shepherd Brewing
DESCRIPTION:Ring in St. Paddy’s Day with some fun Celtic music and great brews & ciders made right here! \nSlainte’!
URL:https://merrymischief.net/events/st-paddys-day-shepherd-brewing/
LOCATION:Shepherd Brewing Company\, 132 Genesee St\, Auburn\, NY\, 13021
END:VEVENT
BEGIN:VEVENT
DTSTART;TZID=America/New_York:20230317T110000
DTEND;TZID=America/New_York:20230317T120000
DTSTAMP:20260425T080212
CREATED:20221226T185440Z
LAST-MODIFIED:20221226T185440Z
UID:678-1679050800-1679054400@merrymischief.net
SUMMARY:Canton Woods
DESCRIPTION:
URL:https://merrymischief.net/events/canton-woods/
LOCATION:Canton Woods\, 76 Canton Woods\, Baldwinsville\, NY
END:VEVENT
END:VCALENDAR