BEGIN:VCALENDAR
VERSION:2.0
PRODID:-//Merlyn Fuller and Merry Mischief - ECPv6.15.20//NONSGML v1.0//EN
CALSCALE:GREGORIAN
METHOD:PUBLISH
X-WR-CALNAME:Merlyn Fuller and Merry Mischief
X-ORIGINAL-URL:https://merrymischief.net
X-WR-CALDESC:Events for Merlyn Fuller and Merry Mischief
REFRESH-INTERVAL;VALUE=DURATION:PT1H
X-Robots-Tag:noindex
X-PUBLISHED-TTL:PT1H
BEGIN:VTIMEZONE
TZID:America/New_York
BEGIN:DAYLIGHT
TZOFFSETFROM:-0500
TZOFFSETTO:-0400
TZNAME:EDT
DTSTART:20240310T070000
END:DAYLIGHT
BEGIN:STANDARD
TZOFFSETFROM:-0400
TZOFFSETTO:-0500
TZNAME:EST
DTSTART:20241103T060000
END:STANDARD
BEGIN:DAYLIGHT
TZOFFSETFROM:-0500
TZOFFSETTO:-0400
TZNAME:EDT
DTSTART:20250309T070000
END:DAYLIGHT
BEGIN:STANDARD
TZOFFSETFROM:-0400
TZOFFSETTO:-0500
TZNAME:EST
DTSTART:20251102T060000
END:STANDARD
BEGIN:DAYLIGHT
TZOFFSETFROM:-0500
TZOFFSETTO:-0400
TZNAME:EDT
DTSTART:20260308T070000
END:DAYLIGHT
BEGIN:STANDARD
TZOFFSETFROM:-0400
TZOFFSETTO:-0500
TZNAME:EST
DTSTART:20261101T060000
END:STANDARD
END:VTIMEZONE
BEGIN:VEVENT
DTSTART;TZID=America/New_York:20250605T090000
DTEND;TZID=America/New_York:20250605T130000
DTSTAMP:20260425T120721
CREATED:20241002T192417Z
LAST-MODIFIED:20241004T010757Z
UID:1102-1749114000-1749128400@merrymischief.net
SUMMARY:Martha Brown Medieval Day!
DESCRIPTION:Merry Mischief is back again at this amazing event for the kids as we do our “Ren Revelry” show! \nThis will be Merlyn’s 16th year here doing these assemblies! Huzzah!
URL:https://merrymischief.net/events/martha-brown-medieval-day/
LOCATION:Martha Brown Middle School\, 665 Ayrault Rd.\, Fairport\, NY
END:VEVENT
BEGIN:VEVENT
DTSTART;TZID=America/New_York:20250611T143000
DTEND;TZID=America/New_York:20250611T153000
DTSTAMP:20260425T120721
CREATED:20250604T164825Z
LAST-MODIFIED:20250604T164825Z
UID:1338-1749652200-1749655800@merrymischief.net
SUMMARY:Boyle Center
DESCRIPTION:
URL:https://merrymischief.net/events/boyle-center-9/
LOCATION:Boyle Center\, 149 Genesee St.\, Auburn\, NY
END:VEVENT
BEGIN:VEVENT
DTSTART;TZID=America/New_York:20250613T080000
DTEND;TZID=America/New_York:20250613T170000
DTSTAMP:20260425T120721
CREATED:20241004T010943Z
LAST-MODIFIED:20241004T010943Z
UID:1140-1749801600-1749834000@merrymischief.net
SUMMARY:Johanna Perin Medieval Day!
DESCRIPTION:Merlyn Mischief and Greenway the Minstrel play once again here for school assemblies for this very fun day of history at the school!
URL:https://merrymischief.net/events/johanna-perin-medieval-day/
LOCATION:NY
END:VEVENT
BEGIN:VEVENT
DTSTART;TZID=America/New_York:20250614T140000
DTEND;TZID=America/New_York:20250614T220000
DTSTAMP:20260425T120721
CREATED:20250516T140605Z
LAST-MODIFIED:20250516T140605Z
UID:1319-1749909600-1749938400@merrymischief.net
SUMMARY:Mini Ren Faire @ No BS Brewery! Livonia
DESCRIPTION:Merry Mischief (Merlyn Mischief\, Tom Meier & Kristen Baskewicz) will be playing at 4pm\, 6pm and 8pm!\nGarb up and come have a pint and some fun!\nLots going on for this first time Pub Ren faire here!
URL:https://merrymischief.net/events/mini-ren-faire-no-bs-brewery-livonia/
LOCATION:No BS Brew Company\, 3474 Bronson Hill Rd\, Livonia
END:VEVENT
BEGIN:VEVENT
DTSTART;TZID=America/New_York:20250618T123000
DTEND;TZID=America/New_York:20250618T133000
DTSTAMP:20260425T120721
CREATED:20250604T164458Z
LAST-MODIFIED:20250604T164458Z
UID:1335-1750249800-1750253400@merrymischief.net
SUMMARY:P.A.C.E.
DESCRIPTION:
URL:https://merrymischief.net/events/p-a-c-e-4/
LOCATION:Pace- Malta Lane\, 100 Malta Lane\, Syracuse\, NY\, 13212
END:VEVENT
BEGIN:VEVENT
DTSTART;TZID=America/New_York:20250619T140000
DTEND;TZID=America/New_York:20250619T150000
DTSTAMP:20260425T120721
CREATED:20250113T155012Z
LAST-MODIFIED:20250113T155012Z
UID:1206-1750341600-1750345200@merrymischief.net
SUMMARY:Fingerlakes Center for Living
DESCRIPTION:
URL:https://merrymischief.net/events/fingerlakes-center-for-living-16/
LOCATION:Fingerlakes Center for Living\, 20 Park Ave.\, Auburn\, NY\, 13021
END:VEVENT
BEGIN:VEVENT
DTSTART;TZID=America/New_York:20250621T140000
DTEND;TZID=America/New_York:20250621T200000
DTSTAMP:20260425T120721
CREATED:20241112T164008Z
LAST-MODIFIED:20250509T153757Z
UID:1179-1750514400-1750536000@merrymischief.net
SUMMARY:"Clinton's Ditch" - Play- 2 Showings this day!
DESCRIPTION:2 Shows this day!\n2pm and again at 7pm
URL:https://merrymischief.net/events/clintons-ditch-play/
LOCATION:Samuel Center\, 31 Rochester St\, Port Byron\, NY
END:VEVENT
BEGIN:VEVENT
DTSTART;TZID=America/New_York:20250626T130000
DTEND;TZID=America/New_York:20250626T140000
DTSTAMP:20260425T120721
CREATED:20250604T165021Z
LAST-MODIFIED:20250604T165021Z
UID:1342-1750942800-1750946400@merrymischief.net
SUMMARY:PACE
DESCRIPTION:
URL:https://merrymischief.net/events/pace-4/
LOCATION:PACE- Circle Creek\, 115 Circle Creek\, E. Syracuse\, NY\, 13057
END:VEVENT
BEGIN:VEVENT
DTSTART;TZID=America/New_York:20250627T190000
DTEND;TZID=America/New_York:20250627T210000
DTSTAMP:20260425T120721
CREATED:20241112T164108Z
LAST-MODIFIED:20250509T153927Z
UID:1181-1751050800-1751058000@merrymischief.net
SUMMARY:"Clinton's Ditch~ Play
DESCRIPTION:
URL:https://merrymischief.net/events/clintons-ditch-play-2/
LOCATION:Samuel Center\, 31 Rochester St\, Port Byron\, NY
END:VEVENT
BEGIN:VEVENT
DTSTART;TZID=America/New_York:20250628T140000
DTEND;TZID=America/New_York:20250628T200000
DTSTAMP:20260425T120721
CREATED:20241112T164201Z
LAST-MODIFIED:20250509T154100Z
UID:1183-1751119200-1751140800@merrymischief.net
SUMMARY:"Clinton's Ditch" ~ Play- 2 Shows this day
DESCRIPTION:2pm & 7pm
URL:https://merrymischief.net/events/clintons-ditch-play-3/
LOCATION:Samuel Center\, 31 Rochester St\, Port Byron\, NY
END:VEVENT
BEGIN:VEVENT
DTSTART;TZID=America/New_York:20250629T130000
DTEND;TZID=America/New_York:20250629T150000
DTSTAMP:20260425T120721
CREATED:20250604T165208Z
LAST-MODIFIED:20250604T165208Z
UID:1345-1751202000-1751209200@merrymischief.net
SUMMARY:Shimmer Spiritual Fairy Fest!
DESCRIPTION:Merlyn Mischief Wandering Minstrel!
URL:https://merrymischief.net/events/shimmer-spiritual-fairy-fest/
LOCATION:Shimmer Spiritual & Holistic Arts\, 1001Vine St.\, Liverpool\, NY\, 13090
END:VEVENT
BEGIN:VEVENT
DTSTART;TZID=America/New_York:20250701T160000
DTEND;TZID=America/New_York:20250701T170000
DTSTAMP:20260425T120721
CREATED:20250318T150846Z
LAST-MODIFIED:20250318T150846Z
UID:1286-1751385600-1751389200@merrymischief.net
SUMMARY:Bluefield Manor
DESCRIPTION:
URL:https://merrymischief.net/events/bluefield-manor-4/
LOCATION:Bluefield Manor\, 516 Bluefield Rd.\, Auburn\, NY
END:VEVENT
BEGIN:VEVENT
DTSTART;TZID=America/New_York:20250705T100000
DTEND;TZID=America/New_York:20250705T190000
DTSTAMP:20260425T120721
CREATED:20241002T193333Z
LAST-MODIFIED:20241002T193333Z
UID:1112-1751709600-1751742000@merrymischief.net
SUMMARY:Sterling Renaissance Festival
DESCRIPTION:
URL:https://merrymischief.net/events/sterling-renaissance-festival-5/
LOCATION:Sterling Ren Faire\, 15385 Farden Rd.\, Sterling\, NY
END:VEVENT
BEGIN:VEVENT
DTSTART;TZID=America/New_York:20250706T100000
DTEND;TZID=America/New_York:20250706T190000
DTSTAMP:20260425T120721
CREATED:20241002T193443Z
LAST-MODIFIED:20241002T193443Z
UID:1114-1751796000-1751828400@merrymischief.net
SUMMARY:Sterling Renaissance Festival
DESCRIPTION:
URL:https://merrymischief.net/events/sterling-renaissance-festival-6/
LOCATION:Sterling Ren Faire\, 15385 Farden Rd.\, Sterling\, NY
END:VEVENT
BEGIN:VEVENT
DTSTART;TZID=America/New_York:20250712T100000
DTEND;TZID=America/New_York:20250712T190000
DTSTAMP:20260425T120721
CREATED:20241002T193604Z
LAST-MODIFIED:20241002T193604Z
UID:1116-1752314400-1752346800@merrymischief.net
SUMMARY:Sterling Renaissance Festival
DESCRIPTION:
URL:https://merrymischief.net/events/sterling-renaissance-festival-7/
LOCATION:Sterling Ren Faire\, 15385 Farden Rd.\, Sterling\, NY
END:VEVENT
BEGIN:VEVENT
DTSTART;TZID=America/New_York:20250713T100000
DTEND;TZID=America/New_York:20250713T190000
DTSTAMP:20260425T120721
CREATED:20241002T193727Z
LAST-MODIFIED:20241002T193727Z
UID:1118-1752400800-1752433200@merrymischief.net
SUMMARY:Sterling Ren Faire
DESCRIPTION:
URL:https://merrymischief.net/events/sterling-ren-faire-24/
LOCATION:Sterling Ren Faire\, 15385 Farden Rd.\, Sterling\, NY
END:VEVENT
BEGIN:VEVENT
DTSTART;TZID=America/New_York:20250716T180000
DTEND;TZID=America/New_York:20250716T190000
DTSTAMP:20260425T120721
CREATED:20250304T191429Z
LAST-MODIFIED:20250716T155453Z
UID:1279-1752688800-1752692400@merrymischief.net
SUMMARY:Evening on the Erie~ Macedon Academy
DESCRIPTION:Giddy up Mule!  Merry Mischief will be here to sing some tunes\, tell some stories and tall tales!
URL:https://merrymischief.net/events/evening-on-the-erie-macedon-library/
LOCATION:Macedon Academy\, 1185 Macedon Center Rd\, Macedon
END:VEVENT
BEGIN:VEVENT
DTSTART;TZID=America/New_York:20250717T180000
DTEND;TZID=America/New_York:20250717T190000
DTSTAMP:20260425T120721
CREATED:20250623T195049Z
LAST-MODIFIED:20250715T150019Z
UID:1352-1752775200-1752778800@merrymischief.net
SUMMARY:Evening on the Erie Canal -Bridgeport Library
DESCRIPTION:Merry Mischief will tell tall tales and sing some toe tapping songs tonight!
URL:https://merrymischief.net/events/evening-on-the-erie-canal/
LOCATION:Bridgeport Library\, 8979 North Rd.\, Bridgeport\, NY
END:VEVENT
BEGIN:VEVENT
DTSTART;TZID=America/New_York:20250719T100000
DTEND;TZID=America/New_York:20250719T190000
DTSTAMP:20260425T120721
CREATED:20241002T193845Z
LAST-MODIFIED:20241002T193845Z
UID:1120-1752919200-1752951600@merrymischief.net
SUMMARY:Sterling Renaissance Festival
DESCRIPTION:
URL:https://merrymischief.net/events/sterling-renaissance-festival-8/
LOCATION:Sterling Ren Faire\, 15385 Farden Rd.\, Sterling\, NY
END:VEVENT
BEGIN:VEVENT
DTSTART;TZID=America/New_York:20250720T100000
DTEND;TZID=America/New_York:20250720T190000
DTSTAMP:20260425T120721
CREATED:20241002T193947Z
LAST-MODIFIED:20241002T193947Z
UID:1122-1753005600-1753038000@merrymischief.net
SUMMARY:Sterling Renaissance Festival
DESCRIPTION:
URL:https://merrymischief.net/events/sterling-renaissance-festival-9/
LOCATION:Sterling Ren Faire\, 15385 Farden Rd.\, Sterling\, NY
END:VEVENT
BEGIN:VEVENT
DTSTART;TZID=America/New_York:20250726T100000
DTEND;TZID=America/New_York:20250726T190000
DTSTAMP:20260425T120721
CREATED:20241002T194110Z
LAST-MODIFIED:20241002T194110Z
UID:1124-1753524000-1753556400@merrymischief.net
SUMMARY:Sterling Renaissance Festival
DESCRIPTION:
URL:https://merrymischief.net/events/sterling-renaissance-festival-10/
LOCATION:Sterling Ren Faire\, 15385 Farden Rd.\, Sterling\, NY
END:VEVENT
BEGIN:VEVENT
DTSTART;TZID=America/New_York:20250727T100000
DTEND;TZID=America/New_York:20250727T190000
DTSTAMP:20260425T120721
CREATED:20241002T194220Z
LAST-MODIFIED:20241002T194220Z
UID:1126-1753610400-1753642800@merrymischief.net
SUMMARY:Sterling Renaissance Festival
DESCRIPTION:
URL:https://merrymischief.net/events/sterling-renaissance-festival-11/
LOCATION:Sterling Ren Faire\, 15385 Farden Rd.\, Sterling\, NY
END:VEVENT
BEGIN:VEVENT
DTSTART;TZID=America/New_York:20250730T183000
DTEND;TZID=America/New_York:20250730T200000
DTSTAMP:20260425T120721
CREATED:20250509T152038Z
LAST-MODIFIED:20250509T152038Z
UID:1298-1753900200-1753905600@merrymischief.net
SUMMARY:Erie Canal Jam @ Erie Canal Museum!
DESCRIPTION:A fun night of songwriters and music of the Erie Canal! \nSpecial Guests: Colin Aberdeen\, Edgy Folk\, Curtis Waterman and Merry Mischief!
URL:https://merrymischief.net/events/erie-canal-jam-erie-canal-museum/
LOCATION:Erie Canal Weighlock Museum\, 318 Erie Blvd East\, Syracuse\, NY\, 13202
END:VEVENT
BEGIN:VEVENT
DTSTART;TZID=America/New_York:20250802T100000
DTEND;TZID=America/New_York:20250802T190000
DTSTAMP:20260425T120721
CREATED:20241002T194425Z
LAST-MODIFIED:20241002T194425Z
UID:1128-1754128800-1754161200@merrymischief.net
SUMMARY:Sterling Renaissance Festival
DESCRIPTION:
URL:https://merrymischief.net/events/sterling-renaissance-festival-12/
LOCATION:Sterling Ren Faire\, 15385 Farden Rd.\, Sterling\, NY
END:VEVENT
BEGIN:VEVENT
DTSTART;TZID=America/New_York:20250803T100000
DTEND;TZID=America/New_York:20250803T190000
DTSTAMP:20260425T120721
CREATED:20241002T194526Z
LAST-MODIFIED:20241002T194526Z
UID:1130-1754215200-1754247600@merrymischief.net
SUMMARY:Sterling Renaissance Festival
DESCRIPTION:
URL:https://merrymischief.net/events/sterling-renaissance-festival-13/
LOCATION:Sterling Ren Faire\, 15385 Farden Rd.\, Sterling\, NY
END:VEVENT
BEGIN:VEVENT
DTSTART;TZID=America/New_York:20250808T120000
DTEND;TZID=America/New_York:20250808T150000
DTSTAMP:20260425T120721
CREATED:20250509T152208Z
LAST-MODIFIED:20250807T155629Z
UID:1300-1754654400-1754665200@merrymischief.net
SUMMARY:Alex Bay Pirate Fest! Old Homestead Restaurant
DESCRIPTION:Merlyn Mischief & Ms. Mizzie are back again!\nYARR! Come for the Pirates! Stay for the food and drink!
URL:https://merrymischief.net/events/alex-bay-pirate-fest/
LOCATION:Old Homestead Restaurant\, 30 James St\, Alexandria Bay\, NY
END:VEVENT
BEGIN:VEVENT
DTSTART;TZID=America/New_York:20250809T100000
DTEND;TZID=America/New_York:20250809T190000
DTSTAMP:20260425T120721
CREATED:20241002T194631Z
LAST-MODIFIED:20241002T194631Z
UID:1132-1754733600-1754766000@merrymischief.net
SUMMARY:Sterling Renaissance Festival
DESCRIPTION:
URL:https://merrymischief.net/events/sterling-renaissance-festival-14/
LOCATION:Sterling Ren Faire\, 15385 Farden Rd.\, Sterling\, NY
END:VEVENT
BEGIN:VEVENT
DTSTART;TZID=America/New_York:20250810T100000
DTEND;TZID=America/New_York:20250810T190000
DTSTAMP:20260425T120721
CREATED:20241002T194727Z
LAST-MODIFIED:20241002T194727Z
UID:1134-1754820000-1754852400@merrymischief.net
SUMMARY:Sterling Renaissance Festival
DESCRIPTION:
URL:https://merrymischief.net/events/sterling-renaissance-festival-15/
LOCATION:Sterling Ren Faire\, 15385 Farden Rd.\, Sterling\, NY
END:VEVENT
BEGIN:VEVENT
DTSTART;TZID=America/New_York:20250814T140000
DTEND;TZID=America/New_York:20250814T150000
DTSTAMP:20260425T120721
CREATED:20250113T155113Z
LAST-MODIFIED:20250113T155113Z
UID:1208-1755180000-1755183600@merrymischief.net
SUMMARY:Fingerlakes Center for Living
DESCRIPTION:
URL:https://merrymischief.net/events/fingerlakes-center-for-living-17/
LOCATION:Fingerlakes Center for Living\, 20 Park Ave.\, Auburn\, NY\, 13021
END:VEVENT
BEGIN:VEVENT
DTSTART;TZID=America/New_York:20250816T100000
DTEND;TZID=America/New_York:20250816T190000
DTSTAMP:20260425T120721
CREATED:20241002T194825Z
LAST-MODIFIED:20241002T194825Z
UID:1136-1755338400-1755370800@merrymischief.net
SUMMARY:Sterling Renaissance Festival
DESCRIPTION:
URL:https://merrymischief.net/events/sterling-renaissance-festival-16/
LOCATION:Sterling Ren Faire\, 15385 Farden Rd.\, Sterling\, NY
END:VEVENT
END:VCALENDAR