BEGIN:VCALENDAR
VERSION:2.0
PRODID:-//Merlyn Fuller and Merry Mischief - ECPv6.15.20//NONSGML v1.0//EN
CALSCALE:GREGORIAN
METHOD:PUBLISH
X-WR-CALNAME:Merlyn Fuller and Merry Mischief
X-ORIGINAL-URL:https://merrymischief.net
X-WR-CALDESC:Events for Merlyn Fuller and Merry Mischief
REFRESH-INTERVAL;VALUE=DURATION:PT1H
X-Robots-Tag:noindex
X-PUBLISHED-TTL:PT1H
BEGIN:VTIMEZONE
TZID:America/New_York
BEGIN:DAYLIGHT
TZOFFSETFROM:-0500
TZOFFSETTO:-0400
TZNAME:EDT
DTSTART:20250309T070000
END:DAYLIGHT
BEGIN:STANDARD
TZOFFSETFROM:-0400
TZOFFSETTO:-0500
TZNAME:EST
DTSTART:20251102T060000
END:STANDARD
BEGIN:DAYLIGHT
TZOFFSETFROM:-0500
TZOFFSETTO:-0400
TZNAME:EDT
DTSTART:20260308T070000
END:DAYLIGHT
BEGIN:STANDARD
TZOFFSETFROM:-0400
TZOFFSETTO:-0500
TZNAME:EST
DTSTART:20261101T060000
END:STANDARD
BEGIN:DAYLIGHT
TZOFFSETFROM:-0500
TZOFFSETTO:-0400
TZNAME:EDT
DTSTART:20270314T070000
END:DAYLIGHT
BEGIN:STANDARD
TZOFFSETFROM:-0400
TZOFFSETTO:-0500
TZNAME:EST
DTSTART:20271107T060000
END:STANDARD
END:VTIMEZONE
BEGIN:VEVENT
DTSTART;TZID=America/New_York:20260205T140000
DTEND;TZID=America/New_York:20260205T150000
DTSTAMP:20260423T184116
CREATED:20260101T152811Z
LAST-MODIFIED:20260101T152811Z
UID:1775-1770300000-1770303600@merrymischief.net
SUMMARY:Fingerlakes Center for Living
DESCRIPTION:
URL:https://merrymischief.net/events/fingerlakes-center-for-living-20/
LOCATION:Fingerlakes Center for Living\, 20 Park Ave.\, Auburn\, NY\, 13021
END:VEVENT
BEGIN:VEVENT
DTSTART;TZID=America/New_York:20260210T120000
DTEND;TZID=America/New_York:20260210T130000
DTSTAMP:20260423T184116
CREATED:20260112T211412Z
LAST-MODIFIED:20260112T211412Z
UID:1797-1770724800-1770728400@merrymischief.net
SUMMARY:Jordan Elbridge Senior Luncheon
DESCRIPTION:
URL:https://merrymischief.net/events/jordan-elbridge-senior-luncheon-2/
LOCATION:Jordan Communty Center\, Rt. 31\, Jordan\, NY\, 13080
END:VEVENT
BEGIN:VEVENT
DTSTART;TZID=America/New_York:20260215T120000
DTEND;TZID=America/New_York:20260215T160000
DTSTAMP:20260423T184116
CREATED:20251124T164158Z
LAST-MODIFIED:20251124T164158Z
UID:1606-1771156800-1771171200@merrymischief.net
SUMMARY:Syracuse Winterfest! Syracuse Marriott Hotel
DESCRIPTION:Merry Mischief will be playing some fun kids songs and Pirate tunes today!\nFind us here as well as the Bubble Guy and Magician!
URL:https://merrymischief.net/events/syracuse-winterfest-syracuse-marriott-hotel/
LOCATION:Syracuse Marriott Hotel\, 100 E. Onondaga St\, Syracuse\, NY
END:VEVENT
BEGIN:VEVENT
DTSTART;TZID=America/New_York:20260217T140000
DTEND;TZID=America/New_York:20260217T150000
DTSTAMP:20260423T184116
CREATED:20260130T205136Z
LAST-MODIFIED:20260130T205136Z
UID:2018-1771336800-1771340400@merrymischief.net
SUMMARY:McHarrie Place- Mardi Gras party!
DESCRIPTION:
URL:https://merrymischief.net/events/mcharrie-place-mardi-gras-party/
LOCATION:McHarrie Place\, 7740 Meigs Rd\, Baldwinsville\, NY
END:VEVENT
BEGIN:VEVENT
DTSTART;TZID=America/New_York:20260221T170000
DTEND;TZID=America/New_York:20260221T190000
DTSTAMP:20260423T184116
CREATED:20251124T164436Z
LAST-MODIFIED:20251213T180206Z
UID:1611-1771693200-1771700400@merrymischief.net
SUMMARY:First Ever CROW CAUCUS CONVENTION!
DESCRIPTION:Come celebrate the very first CROW FEST in Auburn! \nMerry Mischief will be kicking it off at Shep’s Brewing by reading a CROW PROCLAMATION setting the 3rd Saturday of February of every year to be CROW FEST! \nWe will have Edgar Allen CROW and Lenore there to read “The Raven” and then music to follow! With PINTS!
URL:https://merrymischief.net/events/auburn-crow-fest-stay-tuned-for-more-info-to-come/
LOCATION:Shepherd Brewing Company\, 132 Genesee St\, Auburn\, NY\, 13021
END:VEVENT
BEGIN:VEVENT
DTSTART;TZID=America/New_York:20260222T120000
DTEND;TZID=America/New_York:20260222T160000
DTSTAMP:20260423T184116
CREATED:20251124T164330Z
LAST-MODIFIED:20251124T164330Z
UID:1609-1771761600-1771776000@merrymischief.net
SUMMARY:Syracuse Winterfest!  Syracuse Marriott Hotel
DESCRIPTION:Merry Mischief playing some fun-time kids songs and Pirate tunes to make winter even more awesome!
URL:https://merrymischief.net/events/syracuse-winterfest-syracuse-marriott-hotel-2/
LOCATION:Syracuse Marriott Hotel\, 100 E. Onondaga St\, Syracuse\, NY
END:VEVENT
BEGIN:VEVENT
DTSTART;TZID=America/New_York:20260305T150000
DTEND;TZID=America/New_York:20260305T160000
DTSTAMP:20260423T184116
CREATED:20260101T152933Z
LAST-MODIFIED:20260101T152933Z
UID:1777-1772722800-1772726400@merrymischief.net
SUMMARY:Westminister Manor
DESCRIPTION:
URL:https://merrymischief.net/events/westminister-manor-9/
LOCATION:Westminister Manor\, 81 S. st.\, Auburn\, Ny\, 13021
END:VEVENT
BEGIN:VEVENT
DTSTART;TZID=America/New_York:20260310T140000
DTEND;TZID=America/New_York:20260310T150000
DTSTAMP:20260423T184116
CREATED:20251203T011649Z
LAST-MODIFIED:20251203T011649Z
UID:1668-1773151200-1773154800@merrymischief.net
SUMMARY:Boyle Center
DESCRIPTION:
URL:https://merrymischief.net/events/boyle-center-10/
LOCATION:Boyle Center\, 149 Genesee St.\, Auburn\, NY
END:VEVENT
BEGIN:VEVENT
DTSTART;TZID=America/New_York:20260312T140000
DTEND;TZID=America/New_York:20260312T150000
DTSTAMP:20260423T184116
CREATED:20260112T211550Z
LAST-MODIFIED:20260112T211550Z
UID:1799-1773324000-1773327600@merrymischief.net
SUMMARY:The Home
DESCRIPTION:
URL:https://merrymischief.net/events/the-home/
LOCATION:The Home\, 46 Grant Ave\, Auburn\, NY
END:VEVENT
BEGIN:VEVENT
DTSTART;TZID=America/New_York:20260313T143000
DTEND;TZID=America/New_York:20260313T153000
DTSTAMP:20260423T184116
CREATED:20250715T145342Z
LAST-MODIFIED:20250715T145342Z
UID:1360-1773412200-1773415800@merrymischief.net
SUMMARY:St. Camillus
DESCRIPTION:
URL:https://merrymischief.net/events/st-camillus-7/
LOCATION:St. Camillus\, 813 Fay Rd\, Syracuse\, NY
END:VEVENT
BEGIN:VEVENT
DTSTART;TZID=America/New_York:20260314T170000
DTEND;TZID=America/New_York:20260314T190000
DTSTAMP:20260423T184116
CREATED:20260115T215843Z
LAST-MODIFIED:20260115T215843Z
UID:1817-1773507600-1773514800@merrymischief.net
SUMMARY:Sterling Cidery~ Fair Haven Pub Crawl!
DESCRIPTION:Merry Mischief will be back once again at our favorite pub for the Village wide PUB CRAWL! \nMore info as it becomes available but hold the date!
URL:https://merrymischief.net/events/sterling-cidery-fair-haven-pub-crawl/
LOCATION:Sterling Cidery\, 14451 Richmond Ave\, Sterling\, NY
END:VEVENT
BEGIN:VEVENT
DTSTART;TZID=America/New_York:20260315T160000
DTEND;TZID=America/New_York:20260315T170000
DTSTAMP:20260423T184116
CREATED:20251108T225413Z
LAST-MODIFIED:20251108T225413Z
UID:1586-1773590400-1773594000@merrymischief.net
SUMMARY:Plainville Church
DESCRIPTION:Celtic Music with Merry Mischief!
URL:https://merrymischief.net/events/plainville-church/
LOCATION:Plainville Christ Church\, 752 W. Genesee St\, Plainville\, NY
END:VEVENT
BEGIN:VEVENT
DTSTART;TZID=America/New_York:20260316T133000
DTEND;TZID=America/New_York:20260316T143000
DTSTAMP:20260423T184116
CREATED:20251213T175602Z
LAST-MODIFIED:20251213T175602Z
UID:1729-1773667800-1773671400@merrymischief.net
SUMMARY:Auburn Nursing & Rehabilitation
DESCRIPTION:
URL:https://merrymischief.net/events/auburn-nursing-rehabilitation/
LOCATION:Auburn Rehabilitation\, 85 Thornden Ave\, Auburn\, 13021\, United States
END:VEVENT
BEGIN:VEVENT
DTSTART;TZID=America/New_York:20260317T160000
DTEND;TZID=America/New_York:20260317T170000
DTSTAMP:20260423T184116
CREATED:20251108T225506Z
LAST-MODIFIED:20251108T225506Z
UID:1588-1773763200-1773766800@merrymischief.net
SUMMARY:Bluefield Manor
DESCRIPTION:
URL:https://merrymischief.net/events/bluefield-manor-5/
LOCATION:Bluefield Manor\, 516 Bluefield Rd.\, Auburn\, NY
END:VEVENT
BEGIN:VEVENT
DTSTART;TZID=America/New_York:20260320T130000
DTEND;TZID=America/New_York:20260320T140000
DTSTAMP:20260423T184116
CREATED:20251213T175727Z
LAST-MODIFIED:20251213T175727Z
UID:1731-1774011600-1774015200@merrymischief.net
SUMMARY:Cicero Senior Center
DESCRIPTION:
URL:https://merrymischief.net/events/cicero-senior-center/
LOCATION:Cicero Senior Center\, 5924 Lathrop Dr.\, Cicero\, NY
END:VEVENT
BEGIN:VEVENT
DTSTART;TZID=America/New_York:20260326T120000
DTEND;TZID=America/New_York:20260326T140000
DTSTAMP:20260423T184116
CREATED:20260121T152326Z
LAST-MODIFIED:20260121T152326Z
UID:1927-1774526400-1774533600@merrymischief.net
SUMMARY:Melrose Seniors Luncheon
DESCRIPTION:
URL:https://merrymischief.net/events/melrose-seniors-luncheon/
LOCATION:1st Presbyterian Church\, 112 South Street\, Auburn\, 13021\, United States
END:VEVENT
BEGIN:VEVENT
DTSTART;TZID=America/New_York:20260402T140000
DTEND;TZID=America/New_York:20260402T150000
DTSTAMP:20260423T184116
CREATED:20260101T153041Z
LAST-MODIFIED:20260101T153041Z
UID:1779-1775138400-1775142000@merrymischief.net
SUMMARY:Fingerlakes Center for Living
DESCRIPTION:
URL:https://merrymischief.net/events/fingerlakes-center-for-living-21/
LOCATION:Fingerlakes Center for Living\, 20 Park Ave.\, Auburn\, NY\, 13021
END:VEVENT
BEGIN:VEVENT
DTSTART;TZID=America/New_York:20260405T103000
DTEND;TZID=America/New_York:20260405T113000
DTSTAMP:20260423T184116
CREATED:20260121T152754Z
LAST-MODIFIED:20260121T152754Z
UID:1931-1775385000-1775388600@merrymischief.net
SUMMARY:Auburn UU
DESCRIPTION:
URL:https://merrymischief.net/events/auburn-uu/
LOCATION:Auburn UU\, 607 N. Seward Ave\, Auburn\, NY
END:VEVENT
BEGIN:VEVENT
DTSTART;TZID=America/New_York:20260410T160000
DTEND;TZID=America/New_York:20260410T190000
DTSTAMP:20260423T184116
CREATED:20251108T225633Z
LAST-MODIFIED:20251108T225633Z
UID:1590-1775836800-1775847600@merrymischief.net
SUMMARY:Rochester Erotic Arts Festival
DESCRIPTION:
URL:https://merrymischief.net/events/rochester-erotic-arts-festival-4/
LOCATION:Holiday Inn\, 75 North St.\, Auburn\, NY
END:VEVENT
BEGIN:VEVENT
DTSTART;TZID=America/New_York:20260422T150000
DTEND;TZID=America/New_York:20260422T163000
DTSTAMP:20260423T184116
CREATED:20251108T225736Z
LAST-MODIFIED:20251108T225736Z
UID:1592-1776870000-1776875400@merrymischief.net
SUMMARY:Nottingham Retirement
DESCRIPTION:
URL:https://merrymischief.net/events/nottingham-retirement-2/
LOCATION:Nottingham Center\, 1301 Nottingham Road\, Jamesville\, NY
END:VEVENT
BEGIN:VEVENT
DTSTART;TZID=America/New_York:20260502T120000
DTEND;TZID=America/New_York:20260502T140000
DTSTAMP:20260423T184116
CREATED:20260315T162018Z
LAST-MODIFIED:20260315T162018Z
UID:2298-1777723200-1777730400@merrymischief.net
SUMMARY:Valley Arts4All Festival- Sayre\, PA
DESCRIPTION:Merry Mischief (Merlyn & Stephen McSweeney this day) will be wandering round this festival \nagain this year bringing WHIMSY where’ere we go!
URL:https://merrymischief.net/events/valley-arts4all-festival-sayre-pa/
LOCATION:Riverfront Park\, 100 Riverfront Park Rd\, Sayre\,\, PA
END:VEVENT
BEGIN:VEVENT
DTSTART;TZID=America/New_York:20260507T150000
DTEND;TZID=America/New_York:20260507T150000
DTSTAMP:20260423T184116
CREATED:20260101T154218Z
LAST-MODIFIED:20260101T154218Z
UID:1792-1778166000-1778166000@merrymischief.net
SUMMARY:Westminister Manor
DESCRIPTION:
URL:https://merrymischief.net/events/westminister-manor-10/
LOCATION:Westminister Manor\, 81 S. st.\, Auburn\, Ny\, 13021
END:VEVENT
BEGIN:VEVENT
DTSTART;TZID=America/New_York:20260508T143000
DTEND;TZID=America/New_York:20260508T153000
DTSTAMP:20260423T184116
CREATED:20250715T145544Z
LAST-MODIFIED:20250715T145544Z
UID:1362-1778250600-1778254200@merrymischief.net
SUMMARY:St. Camillus
DESCRIPTION:
URL:https://merrymischief.net/events/st-camillus-8/
LOCATION:St. Camillus\, 813 Fay Rd\, Syracuse\, NY
END:VEVENT
BEGIN:VEVENT
DTSTART;TZID=America/New_York:20260509T140000
DTEND;TZID=America/New_York:20260509T150000
DTSTAMP:20260423T184116
CREATED:20260318T191349Z
LAST-MODIFIED:20260318T191943Z
UID:2312-1778335200-1778338800@merrymischief.net
SUMMARY:The Home
DESCRIPTION:
URL:https://merrymischief.net/events/the-home-4/
LOCATION:The Home\, 46 Grant Ave\, Auburn\, NY
END:VEVENT
BEGIN:VEVENT
DTSTART;TZID=America/New_York:20260523T130000
DTEND;TZID=America/New_York:20260523T170000
DTSTAMP:20260423T184116
CREATED:20260315T162345Z
LAST-MODIFIED:20260315T162345Z
UID:2300-1779541200-1779555600@merrymischief.net
SUMMARY:Commemorate & Celebrate Memorial Day- Waterloo Festival!
DESCRIPTION:Merry Mischief can be found Sat 1-5pm and Sunday Noon-4pm at Oak Island\, across the street from festival down by the water! \nWe will be set up\, as always\, in the Re-Enactment area down with the Civil War folks! \nOld timey music provided by us all day. YAY. <3
URL:https://merrymischief.net/events/commemorate-celebrate-memorial-day-waterloo-festival/
LOCATION:Waterloo Commemorate Festival\, 1 Oak St\, Waterloo\, NY
END:VEVENT
BEGIN:VEVENT
DTSTART;TZID=America/New_York:20260524T120000
DTEND;TZID=America/New_York:20260524T160000
DTSTAMP:20260423T184116
CREATED:20260315T162559Z
LAST-MODIFIED:20260315T162559Z
UID:2303-1779624000-1779638400@merrymischief.net
SUMMARY:Commemorate & Celebrate Memorial Day- Waterloo Festival!
DESCRIPTION:Find Merry Mischief Trio (Merlyn/Tom Meier/ Jon Anderson) down by the river at Oak Island!\nOld timey music all day down here with the Civil War Re-Enactment folks! Hurrah!
URL:https://merrymischief.net/events/commemorate-celebrate-memorial-day-waterloo-festival-2/
LOCATION:Waterloo Commemorate Festival\, 1 Oak St\, Waterloo\, NY
END:VEVENT
BEGIN:VEVENT
DTSTART;TZID=America/New_York:20260528T090000
DTEND;TZID=America/New_York:20260528T130000
DTSTAMP:20260423T184116
CREATED:20250905T154800Z
LAST-MODIFIED:20250905T154800Z
UID:1513-1779958800-1779973200@merrymischief.net
SUMMARY:Medieval Day at Martha Brown Middle School
DESCRIPTION:
URL:https://merrymischief.net/events/medieval-day-at-martha-brown-middle-school/
LOCATION:Martha Brown Middle School\, 665 Ayrault Rd.\, Fairport\, NY
END:VEVENT
BEGIN:VEVENT
DTSTART;TZID=America/New_York:20260604T140000
DTEND;TZID=America/New_York:20260604T150000
DTSTAMP:20260423T184116
CREATED:20260101T153202Z
LAST-MODIFIED:20260101T153202Z
UID:1781-1780581600-1780585200@merrymischief.net
SUMMARY:Fingerlakes Center for Living
DESCRIPTION:
URL:https://merrymischief.net/events/fingerlakes-center-for-living-22/
LOCATION:Fingerlakes Center for Living\, 20 Park Ave.\, Auburn\, NY\, 13021
END:VEVENT
BEGIN:VEVENT
DTSTART;TZID=America/New_York:20260613T130000
DTEND;TZID=America/New_York:20260613T210000
DTSTAMP:20260423T184116
CREATED:20251108T230016Z
LAST-MODIFIED:20251108T230016Z
UID:1594-1781355600-1781384400@merrymischief.net
SUMMARY:No BS Brewery Ren Faire!
DESCRIPTION:
URL:https://merrymischief.net/events/no-bs-brewery-ren-faire/
LOCATION:No BS Brew Company\, 3474 Bronson Hill Rd\, Livonia
END:VEVENT
BEGIN:VEVENT
DTSTART;TZID=America/New_York:20260615T093000
DTEND;TZID=America/New_York:20260615T140000
DTSTAMP:20260423T184116
CREATED:20260115T220100Z
LAST-MODIFIED:20260115T220100Z
UID:1819-1781515800-1781532000@merrymischief.net
SUMMARY:Johanna Perrin Medieval Day!
DESCRIPTION:Merlyn Mischief & Michael Edwards back again here in our musical teaching mode!
URL:https://merrymischief.net/events/johanna-perrin-medieval-day/
LOCATION:Johanna Perin School\, 38 W. Church St.\, Fairport\, NY
END:VEVENT
END:VCALENDAR