BEGIN:VCALENDAR
VERSION:2.0
PRODID:-//Merlyn Fuller and Merry Mischief - ECPv6.15.20//NONSGML v1.0//EN
CALSCALE:GREGORIAN
METHOD:PUBLISH
X-ORIGINAL-URL:https://merrymischief.net
X-WR-CALDESC:Events for Merlyn Fuller and Merry Mischief
REFRESH-INTERVAL;VALUE=DURATION:PT1H
X-Robots-Tag:noindex
X-PUBLISHED-TTL:PT1H
BEGIN:VTIMEZONE
TZID:America/New_York
BEGIN:DAYLIGHT
TZOFFSETFROM:-0500
TZOFFSETTO:-0400
TZNAME:EDT
DTSTART:20240310T070000
END:DAYLIGHT
BEGIN:STANDARD
TZOFFSETFROM:-0400
TZOFFSETTO:-0500
TZNAME:EST
DTSTART:20241103T060000
END:STANDARD
BEGIN:DAYLIGHT
TZOFFSETFROM:-0500
TZOFFSETTO:-0400
TZNAME:EDT
DTSTART:20250309T070000
END:DAYLIGHT
BEGIN:STANDARD
TZOFFSETFROM:-0400
TZOFFSETTO:-0500
TZNAME:EST
DTSTART:20251102T060000
END:STANDARD
BEGIN:DAYLIGHT
TZOFFSETFROM:-0500
TZOFFSETTO:-0400
TZNAME:EDT
DTSTART:20260308T070000
END:DAYLIGHT
BEGIN:STANDARD
TZOFFSETFROM:-0400
TZOFFSETTO:-0500
TZNAME:EST
DTSTART:20261101T060000
END:STANDARD
END:VTIMEZONE
BEGIN:VEVENT
DTSTART;TZID=America/New_York:20251216T120000
DTEND;TZID=America/New_York:20251216T130000
DTSTAMP:20260423T172321
CREATED:20250123T164817Z
LAST-MODIFIED:20250123T164817Z
UID:1233-1765886400-1765890000@merrymischief.net
SUMMARY:Jordan Elbridge Seniors
DESCRIPTION:
URL:https://merrymischief.net/events/jordan-elbridge-seniors-2/
LOCATION:Jordan Communty Center\, Rt. 31\, Jordan\, NY\, 13080
END:VEVENT
BEGIN:VEVENT
DTSTART;TZID=America/New_York:20251216T180000
DTEND;TZID=America/New_York:20251216T193000
DTSTAMP:20260423T172321
CREATED:20250604T170327Z
LAST-MODIFIED:20250604T170327Z
UID:1349-1765908000-1765913400@merrymischief.net
SUMMARY:Santa & Mrs. Claus- Cicero Library
DESCRIPTION:
URL:https://merrymischief.net/events/santa-mrs-claus-cicero-library-4/
LOCATION:Cicero Library\, 8686 Knowledge Ln\, Cicero\, NY\, 13039
END:VEVENT
END:VCALENDAR