BEGIN:VCALENDAR
VERSION:2.0
PRODID:-//Merlyn Fuller and Merry Mischief - ECPv6.15.20//NONSGML v1.0//EN
CALSCALE:GREGORIAN
METHOD:PUBLISH
X-WR-CALNAME:Merlyn Fuller and Merry Mischief
X-ORIGINAL-URL:https://merrymischief.net
X-WR-CALDESC:Events for Merlyn Fuller and Merry Mischief
REFRESH-INTERVAL;VALUE=DURATION:PT1H
X-Robots-Tag:noindex
X-PUBLISHED-TTL:PT1H
BEGIN:VTIMEZONE
TZID:America/New_York
BEGIN:DAYLIGHT
TZOFFSETFROM:-0500
TZOFFSETTO:-0400
TZNAME:EDT
DTSTART:20240310T070000
END:DAYLIGHT
BEGIN:STANDARD
TZOFFSETFROM:-0400
TZOFFSETTO:-0500
TZNAME:EST
DTSTART:20241103T060000
END:STANDARD
BEGIN:DAYLIGHT
TZOFFSETFROM:-0500
TZOFFSETTO:-0400
TZNAME:EDT
DTSTART:20250309T070000
END:DAYLIGHT
BEGIN:STANDARD
TZOFFSETFROM:-0400
TZOFFSETTO:-0500
TZNAME:EST
DTSTART:20251102T060000
END:STANDARD
BEGIN:DAYLIGHT
TZOFFSETFROM:-0500
TZOFFSETTO:-0400
TZNAME:EDT
DTSTART:20260308T070000
END:DAYLIGHT
BEGIN:STANDARD
TZOFFSETFROM:-0400
TZOFFSETTO:-0500
TZNAME:EST
DTSTART:20261101T060000
END:STANDARD
END:VTIMEZONE
BEGIN:VEVENT
DTSTART;TZID=America/New_York:20251031T130000
DTEND;TZID=America/New_York:20251031T140000
DTSTAMP:20260423T183728
CREATED:20250820T224048Z
LAST-MODIFIED:20250820T224048Z
UID:1485-1761915600-1761919200@merrymischief.net
SUMMARY:Halloween Hat Show~ Cicero Senior Center
DESCRIPTION:
URL:https://merrymischief.net/events/halloween-hat-show-cicero-senior-center/
LOCATION:Cicero Senior Center\, 5924 Lathrop Dr.\, Cicero\, NY
END:VEVENT
BEGIN:VEVENT
DTSTART;TZID=America/New_York:20251031T160000
DTEND;TZID=America/New_York:20251031T170000
DTSTAMP:20260423T183728
CREATED:20250318T151153Z
LAST-MODIFIED:20250318T151153Z
UID:1288-1761926400-1761930000@merrymischief.net
SUMMARY:Halloween Hat Show-- Bluefield Manor
DESCRIPTION:
URL:https://merrymischief.net/events/halloween-hat-show-bluefield-manor/
LOCATION:Bluefield Manor\, 516 Bluefield Rd.\, Auburn\, NY
END:VEVENT
END:VCALENDAR