BEGIN:VCALENDAR
VERSION:2.0
PRODID:-//Merlyn Fuller and Merry Mischief - ECPv6.15.20//NONSGML v1.0//EN
CALSCALE:GREGORIAN
METHOD:PUBLISH
X-WR-CALNAME:Merlyn Fuller and Merry Mischief
X-ORIGINAL-URL:https://merrymischief.net
X-WR-CALDESC:Events for Merlyn Fuller and Merry Mischief
REFRESH-INTERVAL;VALUE=DURATION:PT1H
X-Robots-Tag:noindex
X-PUBLISHED-TTL:PT1H
BEGIN:VTIMEZONE
TZID:America/New_York
BEGIN:DAYLIGHT
TZOFFSETFROM:-0500
TZOFFSETTO:-0400
TZNAME:EDT
DTSTART:20230312T070000
END:DAYLIGHT
BEGIN:STANDARD
TZOFFSETFROM:-0400
TZOFFSETTO:-0500
TZNAME:EST
DTSTART:20231105T060000
END:STANDARD
BEGIN:DAYLIGHT
TZOFFSETFROM:-0500
TZOFFSETTO:-0400
TZNAME:EDT
DTSTART:20240310T070000
END:DAYLIGHT
BEGIN:STANDARD
TZOFFSETFROM:-0400
TZOFFSETTO:-0500
TZNAME:EST
DTSTART:20241103T060000
END:STANDARD
BEGIN:DAYLIGHT
TZOFFSETFROM:-0500
TZOFFSETTO:-0400
TZNAME:EDT
DTSTART:20250309T070000
END:DAYLIGHT
BEGIN:STANDARD
TZOFFSETFROM:-0400
TZOFFSETTO:-0500
TZNAME:EST
DTSTART:20251102T060000
END:STANDARD
END:VTIMEZONE
BEGIN:VEVENT
DTSTART;TZID=America/New_York:20241129T160000
DTEND;TZID=America/New_York:20241129T180000
DTSTAMP:20260424T111105
CREATED:20241002T191650Z
LAST-MODIFIED:20241002T191650Z
UID:1096-1732896000-1732903200@merrymischief.net
SUMMARY:Gingerbread Gallery @ Erie Canal Museum Syracuse
DESCRIPTION:Merry Mischief kicks off the holiday season with another fun Gingerbread Gallery season! \nWander the museum\, eat cookies\, drink hot cocoa\, listen to some Erie Canal and Christmas music while you judge the best Gingerbread creation here on display! Truly a delightful holiday tradition! This will be Merlyn’s 20th year here for this event!
URL:https://merrymischief.net/events/gingerbread-gallery-erie-canal-museum-syracuse-2/
LOCATION:Erie Canal Weighlock Museum\, 318 Erie Blvd East\, Syracuse\, NY\, 13202
END:VEVENT
END:VCALENDAR