BEGIN:VCALENDAR
VERSION:2.0
PRODID:-//Merlyn Fuller and Merry Mischief - ECPv6.15.20//NONSGML v1.0//EN
CALSCALE:GREGORIAN
METHOD:PUBLISH
X-WR-CALNAME:Merlyn Fuller and Merry Mischief
X-ORIGINAL-URL:https://merrymischief.net
X-WR-CALDESC:Events for Merlyn Fuller and Merry Mischief
REFRESH-INTERVAL;VALUE=DURATION:PT1H
X-Robots-Tag:noindex
X-PUBLISHED-TTL:PT1H
BEGIN:VTIMEZONE
TZID:America/New_York
BEGIN:DAYLIGHT
TZOFFSETFROM:-0500
TZOFFSETTO:-0400
TZNAME:EDT
DTSTART:20220313T070000
END:DAYLIGHT
BEGIN:STANDARD
TZOFFSETFROM:-0400
TZOFFSETTO:-0500
TZNAME:EST
DTSTART:20221106T060000
END:STANDARD
BEGIN:DAYLIGHT
TZOFFSETFROM:-0500
TZOFFSETTO:-0400
TZNAME:EDT
DTSTART:20230312T070000
END:DAYLIGHT
BEGIN:STANDARD
TZOFFSETFROM:-0400
TZOFFSETTO:-0500
TZNAME:EST
DTSTART:20231105T060000
END:STANDARD
BEGIN:DAYLIGHT
TZOFFSETFROM:-0500
TZOFFSETTO:-0400
TZNAME:EDT
DTSTART:20240310T070000
END:DAYLIGHT
BEGIN:STANDARD
TZOFFSETFROM:-0400
TZOFFSETTO:-0500
TZNAME:EST
DTSTART:20241103T060000
END:STANDARD
END:VTIMEZONE
BEGIN:VEVENT
DTSTART;TZID=America/New_York:20231021T130000
DTEND;TZID=America/New_York:20231021T150000
DTSTAMP:20260425T072103
CREATED:20230828T184003Z
LAST-MODIFIED:20230828T184003Z
UID:780-1697893200-1697900400@merrymischief.net
SUMMARY:Halfshire Folk Music Festival
DESCRIPTION:Merry Mischief ( Merlyn Mischief & fiddler John Harnois) will be playing at this event today from 1-3pm \n 
URL:https://merrymischief.net/events/halfshire-folk-music-festival/
LOCATION:Halfshire Historical Museum\, 1100 Co. Rt. 48\, Richland\, NY
END:VEVENT
BEGIN:VEVENT
DTSTART;TZID=America/New_York:20231021T190000
DTEND;TZID=America/New_York:20231021T210000
DTSTAMP:20260425T072103
CREATED:20230828T184306Z
LAST-MODIFIED:20230828T184306Z
UID:783-1697914800-1697922000@merrymischief.net
SUMMARY:Brit Brew Fest @Sager Brewery
DESCRIPTION:Merlyn Mischief and Kissy ( Kristen Baskewicz) will be playing some Celtic tunes and dri king songs for this fun event!\ncome have a pint or 3!
URL:https://merrymischief.net/events/brit-brew-fest-sager-brewery/
LOCATION:Sager Pub\, 46 Sager Dr. Suite E\, Rochester\, NY
END:VEVENT
END:VCALENDAR