BEGIN:VCALENDAR
VERSION:2.0
PRODID:-//Merlyn Fuller and Merry Mischief - ECPv6.15.20//NONSGML v1.0//EN
CALSCALE:GREGORIAN
METHOD:PUBLISH
X-ORIGINAL-URL:https://merrymischief.net
X-WR-CALDESC:Events for Merlyn Fuller and Merry Mischief
REFRESH-INTERVAL;VALUE=DURATION:PT1H
X-Robots-Tag:noindex
X-PUBLISHED-TTL:PT1H
BEGIN:VTIMEZONE
TZID:America/New_York
BEGIN:DAYLIGHT
TZOFFSETFROM:-0500
TZOFFSETTO:-0400
TZNAME:EDT
DTSTART:20220313T070000
END:DAYLIGHT
BEGIN:STANDARD
TZOFFSETFROM:-0400
TZOFFSETTO:-0500
TZNAME:EST
DTSTART:20221106T060000
END:STANDARD
BEGIN:DAYLIGHT
TZOFFSETFROM:-0500
TZOFFSETTO:-0400
TZNAME:EDT
DTSTART:20230312T070000
END:DAYLIGHT
BEGIN:STANDARD
TZOFFSETFROM:-0400
TZOFFSETTO:-0500
TZNAME:EST
DTSTART:20231105T060000
END:STANDARD
BEGIN:DAYLIGHT
TZOFFSETFROM:-0500
TZOFFSETTO:-0400
TZNAME:EDT
DTSTART:20240310T070000
END:DAYLIGHT
BEGIN:STANDARD
TZOFFSETFROM:-0400
TZOFFSETTO:-0500
TZNAME:EST
DTSTART:20241103T060000
END:STANDARD
END:VTIMEZONE
BEGIN:VEVENT
DTSTART;TZID=America/New_York:20230915T170000
DTEND;TZID=America/New_York:20230915T210000
DTSTAMP:20260425T085323
CREATED:20221129T215451Z
LAST-MODIFIED:20221129T215451Z
UID:654-1694797200-1694811600@merrymischief.net
SUMMARY:Jordan Fall Fest- Mystic Merlyn Card Readings
DESCRIPTION:Mystic Merlyn Card Reading Booth \nMerlyn on Friday & Sunday \nMeddy & Jeff Jacques on Saturday
URL:https://merrymischief.net/events/jordan-fall-fest-mystic-merlyn-card-readings/
LOCATION:Jordan Fall Fest\, Chappel St.\, Jordan\, NY
END:VEVENT
END:VCALENDAR