BEGIN:VCALENDAR
VERSION:2.0
PRODID:-//Merlyn Fuller and Merry Mischief - ECPv6.15.20//NONSGML v1.0//EN
CALSCALE:GREGORIAN
METHOD:PUBLISH
X-ORIGINAL-URL:https://merrymischief.net
X-WR-CALDESC:Events for Merlyn Fuller and Merry Mischief
REFRESH-INTERVAL;VALUE=DURATION:PT1H
X-Robots-Tag:noindex
X-PUBLISHED-TTL:PT1H
BEGIN:VTIMEZONE
TZID:America/New_York
BEGIN:DAYLIGHT
TZOFFSETFROM:-0500
TZOFFSETTO:-0400
TZNAME:EDT
DTSTART:20220313T070000
END:DAYLIGHT
BEGIN:STANDARD
TZOFFSETFROM:-0400
TZOFFSETTO:-0500
TZNAME:EST
DTSTART:20221106T060000
END:STANDARD
BEGIN:DAYLIGHT
TZOFFSETFROM:-0500
TZOFFSETTO:-0400
TZNAME:EDT
DTSTART:20230312T070000
END:DAYLIGHT
BEGIN:STANDARD
TZOFFSETFROM:-0400
TZOFFSETTO:-0500
TZNAME:EST
DTSTART:20231105T060000
END:STANDARD
BEGIN:DAYLIGHT
TZOFFSETFROM:-0500
TZOFFSETTO:-0400
TZNAME:EDT
DTSTART:20240310T070000
END:DAYLIGHT
BEGIN:STANDARD
TZOFFSETFROM:-0400
TZOFFSETTO:-0500
TZNAME:EST
DTSTART:20241103T060000
END:STANDARD
END:VTIMEZONE
BEGIN:VEVENT
DTSTART;TZID=America/New_York:20230728T130000
DTEND;TZID=America/New_York:20230728T170000
DTSTAMP:20260425T115712
CREATED:20230714T122431Z
LAST-MODIFIED:20230714T122431Z
UID:761-1690549200-1690563600@merrymischief.net
SUMMARY:Syracuse Arts & Crafts Festival
DESCRIPTION:Merry Mischief (This day Merlyn Mischief & John Harnois “Fiddlestix”) will be one of the Entertainers wandering the grounds of Columbus Circle\, Syracuse for this wonderful festival! \nMany original artists and vendors\, street performers\, food vendors and much more! \nWe are happy to be back again this year! Hope to see you!
URL:https://merrymischief.net/events/syracuse-arts-crafts-festival/
LOCATION:Syracuse Arts & Crafts Festival\, E. Onondaga St.\, Syracuse\, NY
END:VEVENT
END:VCALENDAR