BEGIN:VCALENDAR
VERSION:2.0
PRODID:-//Merlyn Fuller and Merry Mischief - ECPv6.15.20//NONSGML v1.0//EN
CALSCALE:GREGORIAN
METHOD:PUBLISH
X-ORIGINAL-URL:https://merrymischief.net
X-WR-CALDESC:Events for Merlyn Fuller and Merry Mischief
REFRESH-INTERVAL;VALUE=DURATION:PT1H
X-Robots-Tag:noindex
X-PUBLISHED-TTL:PT1H
BEGIN:VTIMEZONE
TZID:America/New_York
BEGIN:DAYLIGHT
TZOFFSETFROM:-0500
TZOFFSETTO:-0400
TZNAME:EDT
DTSTART:20210314T070000
END:DAYLIGHT
BEGIN:STANDARD
TZOFFSETFROM:-0400
TZOFFSETTO:-0500
TZNAME:EST
DTSTART:20211107T060000
END:STANDARD
BEGIN:DAYLIGHT
TZOFFSETFROM:-0500
TZOFFSETTO:-0400
TZNAME:EDT
DTSTART:20220313T070000
END:DAYLIGHT
BEGIN:STANDARD
TZOFFSETFROM:-0400
TZOFFSETTO:-0500
TZNAME:EST
DTSTART:20221106T060000
END:STANDARD
BEGIN:DAYLIGHT
TZOFFSETFROM:-0500
TZOFFSETTO:-0400
TZNAME:EDT
DTSTART:20230312T070000
END:DAYLIGHT
BEGIN:STANDARD
TZOFFSETFROM:-0400
TZOFFSETTO:-0500
TZNAME:EST
DTSTART:20231105T060000
END:STANDARD
END:VTIMEZONE
BEGIN:VEVENT
DTSTART;TZID=America/New_York:20221211T083000
DTEND;TZID=America/New_York:20221211T113000
DTSTAMP:20260425T221633
CREATED:20221023T153540Z
LAST-MODIFIED:20221023T153540Z
UID:520-1670747400-1670758200@merrymischief.net
SUMMARY:Holiday Party for Widewaters Group
DESCRIPTION:Company Party once again\, with a visit with Santa & Mrs. Claus for Breakfast!
URL:https://merrymischief.net/events/holiday-party-for-widewaters-group/
LOCATION:The Craftsman Inn\, 7300 E Genesee Street\, Fayettevilee\, NY\, 13066
END:VEVENT
BEGIN:VEVENT
DTSTART;TZID=America/New_York:20221211T130000
DTEND;TZID=America/New_York:20221211T160000
DTSTAMP:20260425T221633
CREATED:20221023T153658Z
LAST-MODIFIED:20221023T153658Z
UID:523-1670763600-1670774400@merrymischief.net
SUMMARY:Christmas at Lorenzo Historical Site! Santa & Mrs Claus!
DESCRIPTION:After a hiatus for the last couple of health-related closings\, the Lorenzo Historic Site will be opening its doors once again for this lovely event! \nWander the mansion\, seeing all the beautiful decorations of the seasons\, listen to lovely live music\, see Santa and Mrs Claus and then mayhaps a horse drawn wagon ride and some hot chocolate? \nLife doesn’t get any better for a Holiday offering for the senses! <3
URL:https://merrymischief.net/events/christmas-at-lorenzo-historical-site-santa-mrs-claus/
LOCATION:Lorenzo State Historic Site\, 17 Rippleton Road\, Cazenovia\, NY\, 13035
END:VEVENT
END:VCALENDAR