BEGIN:VCALENDAR
VERSION:2.0
PRODID:-//Merlyn Fuller and Merry Mischief - ECPv6.15.20//NONSGML v1.0//EN
CALSCALE:GREGORIAN
METHOD:PUBLISH
X-ORIGINAL-URL:https://merrymischief.net
X-WR-CALDESC:Events for Merlyn Fuller and Merry Mischief
REFRESH-INTERVAL;VALUE=DURATION:PT1H
X-Robots-Tag:noindex
X-PUBLISHED-TTL:PT1H
BEGIN:VTIMEZONE
TZID:America/New_York
BEGIN:DAYLIGHT
TZOFFSETFROM:-0500
TZOFFSETTO:-0400
TZNAME:EDT
DTSTART:20210314T070000
END:DAYLIGHT
BEGIN:STANDARD
TZOFFSETFROM:-0400
TZOFFSETTO:-0500
TZNAME:EST
DTSTART:20211107T060000
END:STANDARD
BEGIN:DAYLIGHT
TZOFFSETFROM:-0500
TZOFFSETTO:-0400
TZNAME:EDT
DTSTART:20220313T070000
END:DAYLIGHT
BEGIN:STANDARD
TZOFFSETFROM:-0400
TZOFFSETTO:-0500
TZNAME:EST
DTSTART:20221106T060000
END:STANDARD
BEGIN:DAYLIGHT
TZOFFSETFROM:-0500
TZOFFSETTO:-0400
TZNAME:EDT
DTSTART:20230312T070000
END:DAYLIGHT
BEGIN:STANDARD
TZOFFSETFROM:-0400
TZOFFSETTO:-0500
TZNAME:EST
DTSTART:20231105T060000
END:STANDARD
END:VTIMEZONE
BEGIN:VEVENT
DTSTART;TZID=America/New_York:20221210T103000
DTEND;TZID=America/New_York:20221210T113000
DTSTAMP:20260425T221633
CREATED:20221023T153255Z
LAST-MODIFIED:20221023T153255Z
UID:514-1670668200-1670671800@merrymischief.net
SUMMARY:Santa & Mrs. Claus visit the Powers Library in Moravia!
DESCRIPTION:Ho! Ho! Ho! \nBring your little ones and get into the holiday spirit with Santa and his Mrs.! \nSingalong with them to some fun carols\, listen to Santa read you a story\, and \nthen sit with Santa to tell him about your wish list! \nFree to the public!
URL:https://merrymischief.net/events/santa-mrs-claus-visit-the-powers-library-in-moravia/
LOCATION:Moravia Library\, 29 Church St.\, Moravia\, NY\, 13118
END:VEVENT
BEGIN:VEVENT
DTSTART;TZID=America/New_York:20221210T150000
DTEND;TZID=America/New_York:20221210T160000
DTSTAMP:20260425T221633
CREATED:20221023T153425Z
LAST-MODIFIED:20221023T153425Z
UID:517-1670684400-1670688000@merrymischief.net
SUMMARY:Holiday Concert at Onondaga Free Library!
DESCRIPTION:Merry Mischief (this day Merlyn Mischief & Tom Meier) will be playing some holiday tunes and getting you into the Yule spirit!
URL:https://merrymischief.net/events/holiday-concert-at-onondaga-free-library/
LOCATION:Onondaga Free Library\, 4840 West Seneca Turnpike\, syracuse\, NY\, 13215\, United States
END:VEVENT
END:VCALENDAR